BEGIN:VCALENDAR
VERSION:2.0
PRODID:-//Boardwalk - ECPv6.15.17.1//NONSGML v1.0//EN
CALSCALE:GREGORIAN
METHOD:PUBLISH
X-WR-CALNAME:Boardwalk
X-ORIGINAL-URL:https://jenkinsons.com
X-WR-CALDESC:Events for Boardwalk
REFRESH-INTERVAL;VALUE=DURATION:PT1H
X-Robots-Tag:noindex
X-PUBLISHED-TTL:PT1H
BEGIN:VTIMEZONE
TZID:America/New_York
BEGIN:DAYLIGHT
TZOFFSETFROM:-0500
TZOFFSETTO:-0400
TZNAME:EDT
DTSTART:20250309T070000
END:DAYLIGHT
BEGIN:STANDARD
TZOFFSETFROM:-0400
TZOFFSETTO:-0500
TZNAME:EST
DTSTART:20251102T060000
END:STANDARD
BEGIN:DAYLIGHT
TZOFFSETFROM:-0500
TZOFFSETTO:-0400
TZNAME:EDT
DTSTART:20260308T070000
END:DAYLIGHT
BEGIN:STANDARD
TZOFFSETFROM:-0400
TZOFFSETTO:-0500
TZNAME:EST
DTSTART:20261101T060000
END:STANDARD
BEGIN:DAYLIGHT
TZOFFSETFROM:-0500
TZOFFSETTO:-0400
TZNAME:EDT
DTSTART:20270314T070000
END:DAYLIGHT
BEGIN:STANDARD
TZOFFSETFROM:-0400
TZOFFSETTO:-0500
TZNAME:EST
DTSTART:20271107T060000
END:STANDARD
END:VTIMEZONE
BEGIN:VEVENT
DTSTART;TZID=America/New_York:20260522T070000
DTEND;TZID=America/New_York:20260522T170000
DTSTAMP:20260425T065952
CREATED:20260422T170411Z
LAST-MODIFIED:20260422T171242Z
UID:10006554-1779433200-1779469200@jenkinsons.com
SUMMARY:Jumpstart to Summer
DESCRIPTION:Something’s happening on Monday… 😏 the Z100 Jumpstart to Summer Lineup gets announced on Monday\, April 27th!\nTune in at 8am to Elvis Duran to hear it first!  \nDate: Friday\, May 22nd\nTime: Doors 7am  \nMore info to follow!  \nNo chairs or large bags are permitted.
URL:https://jenkinsons.com/event/jumpstart-to-summer-2/
LOCATION:Jenkinson’s Boardwalk\, 300 Ocean Ave\, Pt. Pleasant Beach\, NJ\, 08742\, United States
CATEGORIES:Events,Featured Events,Special Events
ATTACH;FMTTYPE=image/jpeg:https://jenks-uploads.nyc3.digitaloceanspaces.com/wp-content/uploads/2026/04/22125709/Untitled-design.jpg
END:VEVENT
BEGIN:VEVENT
DTSTART;TZID=America/New_York:20260522T120000
DTEND;TZID=America/New_York:20260522T230000
DTSTAMP:20260425T065952
CREATED:20260128T180538Z
LAST-MODIFIED:20260128T180538Z
UID:10006399-1779451200-1779490800@jenkinsons.com
SUMMARY:Amusement Park Hours 12pm-11pm
DESCRIPTION:The Jenkinson’s Amusement Park is scheduled to be open today from 12:00pm to 11:00pm! \nPLEASE NOTE: THIS CALENDAR IS A TENTATIVE IN-SEASON SCHEDULE FOR THE RIDE PARK AND SHOWS A GENERAL CLOSING TIME. THE RIDE PARK CLOSING IS CONTINGENT UPON WEATHER AND CROWDS.  \nAny sudden closes or changes to the hours will be posted promptly on our social media channels: \nAmusement Park Facebook Page – HERE \nAmusement Park Instagram Page – HERE \n 
URL:https://jenkinsons.com/event/amusement-park-hours-12pm-11pm-4/2026-05-22/
LOCATION:Jenkinson’s Amusement Park\, 500 Boardwalk\, Pt. Pleasant Beach\, NJ\, 08742\, United States
CATEGORIES:Rides
END:VEVENT
BEGIN:VEVENT
DTSTART;TZID=America/New_York:20260523T120000
DTEND;TZID=America/New_York:20260523T230000
DTSTAMP:20260425T065952
CREATED:20260128T180538Z
LAST-MODIFIED:20260128T180538Z
UID:10006400-1779537600-1779577200@jenkinsons.com
SUMMARY:Amusement Park Hours 12pm-11pm
DESCRIPTION:The Jenkinson’s Amusement Park is scheduled to be open today from 12:00pm to 11:00pm! \nPLEASE NOTE: THIS CALENDAR IS A TENTATIVE IN-SEASON SCHEDULE FOR THE RIDE PARK AND SHOWS A GENERAL CLOSING TIME. THE RIDE PARK CLOSING IS CONTINGENT UPON WEATHER AND CROWDS.  \nAny sudden closes or changes to the hours will be posted promptly on our social media channels: \nAmusement Park Facebook Page – HERE \nAmusement Park Instagram Page – HERE \n 
URL:https://jenkinsons.com/event/amusement-park-hours-12pm-11pm-4/2026-05-23/
LOCATION:Jenkinson’s Amusement Park\, 500 Boardwalk\, Pt. Pleasant Beach\, NJ\, 08742\, United States
CATEGORIES:Rides
END:VEVENT
BEGIN:VEVENT
DTSTART;TZID=America/New_York:20260524T120000
DTEND;TZID=America/New_York:20260524T230000
DTSTAMP:20260425T065952
CREATED:20260128T180538Z
LAST-MODIFIED:20260128T180538Z
UID:10006401-1779624000-1779663600@jenkinsons.com
SUMMARY:Amusement Park Hours 12pm-11pm
DESCRIPTION:The Jenkinson’s Amusement Park is scheduled to be open today from 12:00pm to 11:00pm! \nPLEASE NOTE: THIS CALENDAR IS A TENTATIVE IN-SEASON SCHEDULE FOR THE RIDE PARK AND SHOWS A GENERAL CLOSING TIME. THE RIDE PARK CLOSING IS CONTINGENT UPON WEATHER AND CROWDS.  \nAny sudden closes or changes to the hours will be posted promptly on our social media channels: \nAmusement Park Facebook Page – HERE \nAmusement Park Instagram Page – HERE \n 
URL:https://jenkinsons.com/event/amusement-park-hours-12pm-11pm-4/2026-05-24/
LOCATION:Jenkinson’s Amusement Park\, 500 Boardwalk\, Pt. Pleasant Beach\, NJ\, 08742\, United States
CATEGORIES:Rides
END:VEVENT
BEGIN:VEVENT
DTSTART;TZID=America/New_York:20260525T120000
DTEND;TZID=America/New_York:20260525T200000
DTSTAMP:20260425T065953
CREATED:20260128T174713Z
LAST-MODIFIED:20260128T185159Z
UID:10006389-1779710400-1779739200@jenkinsons.com
SUMMARY:Amusement Park Hours 12pm-8pm
DESCRIPTION:The Jenkinson’s Amusement Park is scheduled to be open today from 12:00pm to 8:00pm! \nPLEASE NOTE: THIS CALENDAR IS A TENTATIVE IN-SEASON SCHEDULE FOR THE RIDE PARK AND SHOWS A GENERAL CLOSING TIME. THE RIDE PARK CLOSING IS CONTINGENT UPON WEATHER AND CROWDS.  \nAny sudden closes or changes to the hours will be posted promptly on our social media channels: \nAmusement Park Facebook Page – HERE \nAmusement Park Instagram Page – HERE \n 
URL:https://jenkinsons.com/event/amusement-park-hours-12pm-8pm-3/2026-05-25/
LOCATION:Jenkinson’s Amusement Park\, 500 Boardwalk\, Pt. Pleasant Beach\, NJ\, 08742\, United States
CATEGORIES:Rides
END:VEVENT
BEGIN:VEVENT
DTSTART;TZID=America/New_York:20260526T140000
DTEND;TZID=America/New_York:20260526T200000
DTSTAMP:20260425T065953
CREATED:20260128T182943Z
LAST-MODIFIED:20260128T182943Z
UID:10006484-1779804000-1779825600@jenkinsons.com
SUMMARY:Amusement Park Hours 2pm-8pm
DESCRIPTION:The Jenkinson’s Amusement Park is scheduled to be open today from 2:00pm to 8:00pm! \nPLEASE NOTE: THIS CALENDAR IS A TENTATIVE IN-SEASON SCHEDULE FOR THE RIDE PARK AND SHOWS A GENERAL CLOSING TIME. THE RIDE PARK CLOSING IS CONTINGENT UPON WEATHER AND CROWDS.  \nAny sudden closes or changes to the hours will be posted promptly on our social media channels: \nAmusement Park Facebook Page – HERE \nAmusement Park Instagram Page – HERE \n 
URL:https://jenkinsons.com/event/amusement-park-hours-2pm-8pm-7/2026-05-26/
LOCATION:Jenkinson’s Amusement Park\, 500 Boardwalk\, Pt. Pleasant Beach\, NJ\, 08742\, United States
CATEGORIES:Rides
END:VEVENT
END:VCALENDAR