BEGIN:VCALENDAR
VERSION:2.0
PRODID:-//Boardwalk - ECPv6.15.17.1//NONSGML v1.0//EN
CALSCALE:GREGORIAN
METHOD:PUBLISH
X-WR-CALNAME:Boardwalk
X-ORIGINAL-URL:https://jenkinsons.com
X-WR-CALDESC:Events for Boardwalk
REFRESH-INTERVAL;VALUE=DURATION:PT1H
X-Robots-Tag:noindex
X-PUBLISHED-TTL:PT1H
BEGIN:VTIMEZONE
TZID:America/New_York
BEGIN:DAYLIGHT
TZOFFSETFROM:-0500
TZOFFSETTO:-0400
TZNAME:EDT
DTSTART:20240310T070000
END:DAYLIGHT
BEGIN:STANDARD
TZOFFSETFROM:-0400
TZOFFSETTO:-0500
TZNAME:EST
DTSTART:20241103T060000
END:STANDARD
BEGIN:DAYLIGHT
TZOFFSETFROM:-0500
TZOFFSETTO:-0400
TZNAME:EDT
DTSTART:20250309T070000
END:DAYLIGHT
BEGIN:STANDARD
TZOFFSETFROM:-0400
TZOFFSETTO:-0500
TZNAME:EST
DTSTART:20251102T060000
END:STANDARD
BEGIN:DAYLIGHT
TZOFFSETFROM:-0500
TZOFFSETTO:-0400
TZNAME:EDT
DTSTART:20260308T070000
END:DAYLIGHT
BEGIN:STANDARD
TZOFFSETFROM:-0400
TZOFFSETTO:-0500
TZNAME:EST
DTSTART:20261101T060000
END:STANDARD
END:VTIMEZONE
BEGIN:VEVENT
DTSTART;TZID=America/New_York:20250724T213000
DTEND;TZID=America/New_York:20250724T214500
DTSTAMP:20260421T150752
CREATED:20250423T151344Z
LAST-MODIFIED:20250423T151344Z
UID:10006091-1753392600-1753393500@jenkinsons.com
SUMMARY:Thursday Fireworks
DESCRIPTION:Fireworks on the Beach – Thursday Nights at Jenkinson’s Boardwalk! \nWe’re lighting up the sky every Thursday night from June 19th through August 28th with our spectacular Fireworks Show at Jenkinson’s Boardwalk in Point Pleasant Beach! \nJoin us at dark for one of our most beloved summer traditions — a dazzling display of lights that can be enjoyed from both the boardwalk and the beach. It’s the perfect way to end a day of family fun and make lasting memories! \nDon’t miss this unforgettable part of summer at Jenkinson’s Boardwalk! \nPLEASE NOTE: All Thursday Firework shows are weather and wind permitting and subject to change\, and will be starting at approximately 9:30pm. In the case that we have to cancel our Fireworks display to do weather or wind\, we will post across our social media accounts (@JenksBoardwalk) as well the top banner of our website – www.jenkinsons.com. Please check there first before messaging or calling us.
URL:https://jenkinsons.com/event/thursday-fireworks-3/2025-07-24/
LOCATION:Jenkinson’s Boardwalk\, 300 Ocean Ave\, Pt. Pleasant Beach\, NJ\, 08742\, United States
CATEGORIES:Special Events
ATTACH;FMTTYPE=image/jpeg:https://jenks-uploads.nyc3.digitaloceanspaces.com/wp-content/uploads/2024/03/31111510/july-4-fireworks-square.jpg
END:VEVENT
BEGIN:VEVENT
DTSTART;TZID=America/New_York:20250725T120000
DTEND;TZID=America/New_York:20250725T230000
DTSTAMP:20260421T150752
CREATED:20250304T175034Z
LAST-MODIFIED:20250304T175034Z
UID:10005807-1753444800-1753484400@jenkinsons.com
SUMMARY:Amusement Park Hours 12pm-11pm
DESCRIPTION:The Jenkinson’s Amusement Park will be open today from 12:00pm to 11:00pm! \nPlease note: all hours are weather permitting and subject to change. Closing time varies based on sudden weather or crowd size. \nAny sudden closes or changes to the hours will be posted promptly on our social media channels: \nAmusement Park Facebook Page – HERE \nAmusement Park Instagram Page – HERE
URL:https://jenkinsons.com/event/amusement-park-hours-12pm-11pm-2/2025-07-25/
LOCATION:Jenkinson’s Amusement Park\, 500 Boardwalk\, Pt. Pleasant Beach\, NJ\, 08742\, United States
CATEGORIES:Rides
END:VEVENT
BEGIN:VEVENT
DTSTART;TZID=America/New_York:20250725T170000
DTEND;TZID=America/New_York:20250725T220000
DTSTAMP:20260421T150752
CREATED:20250603T141325Z
LAST-MODIFIED:20250620T170218Z
UID:10006236-1753462800-1753480800@jenkinsons.com
SUMMARY:Dine and Dive
DESCRIPTION:Introducing Dine and Dive at Oceanside Dining! Kids receive a Free Admission* Pass to Jenkinson’s Aquarium with a paid kids meal at Oceanside Dining starting Friday\, June 20th! \nThis offer is valid on Fridays from 5pm to close at Oceanside Dining which is located inside the Pavilion by the Aquarium. \n*The FREE admission pass can be redeemed for a one time admission at the aquarium on Fridays from 5pm-close through August 29th.
URL:https://jenkinsons.com/event/dine-and-dive/2025-07-25/
LOCATION:Jenkinson’s Boardwalk\, 300 Ocean Ave\, Pt. Pleasant Beach\, NJ\, 08742\, United States
CATEGORIES:Promos,Weekly
ATTACH;FMTTYPE=image/png:https://jenks-uploads.nyc3.digitaloceanspaces.com/wp-content/uploads/2025/06/31111353/Dine-and-Dive-800-x-800-px.png
END:VEVENT
BEGIN:VEVENT
DTSTART;TZID=America/New_York:20250725T170000
DTEND;TZID=America/New_York:20250725T230000
DTSTAMP:20260421T150752
CREATED:20250423T144108Z
LAST-MODIFIED:20250523T154219Z
UID:10006079-1753462800-1753484400@jenkinsons.com
SUMMARY:Unlimited Rides Wristband Night
DESCRIPTION:Wristband Night  at the Jenkinson’s Amusement Park!  \nFriday nights just got more thrilling at Jenkinson’s Boardwalk in Point Pleasant Beach! Wristband Nights brings you unlimited rides and ropes course access for only $25 — every Friday from 5:00 PM to close\, all summer long. \nKick off your weekend with bright lights\, boardwalk vibes\, and nonstop fun for the whole family. It’s the perfect way to experience the magic of Jenkinson’s at night — without breaking the bank. Wristbands can only be purchased at any in-person ticket booth\, not at one of our self-service kiosks. \nWhere: Jenkinson’s Amusement Park\, Point Pleasant Beach\nWhen: Every Friday\, 5 PM to close\nCost: $25 per person\nIncludes: Unlimited rides + Adventure Lookout Ropes Course \nBig thrills. Big value. Big fun. Make Friday night your favorite night of the week at Jenkinson’s! \n*All Amusement Park hours are weather permitting and subject to change. The Amusement Park closing time may vary based on crowd size and weather. This Wristband Night promotion is not valid on Friday\, July 4.
URL:https://jenkinsons.com/event/unlimited-rides-wristband-night/2025-07-25/
LOCATION:Jenkinson’s Amusement Park\, 500 Boardwalk\, Pt. Pleasant Beach\, NJ\, 08742\, United States
CATEGORIES:Rides,Weekly
ATTACH;FMTTYPE=image/jpeg:https://jenks-uploads.nyc3.digitaloceanspaces.com/wp-content/uploads/2025/04/31111412/29272-UnlimitedRide-Night-SQ.jpg
END:VEVENT
BEGIN:VEVENT
DTSTART;TZID=America/New_York:20250725T203000
DTEND;TZID=America/New_York:20250725T230000
DTSTAMP:20260421T150752
CREATED:20240503T010601Z
LAST-MODIFIED:20250731T210339Z
UID:10006222-1753475400-1753484400@jenkinsons.com
SUMMARY:Karaoke Night at the Boardwalk Bar and Grill
DESCRIPTION:Warm up your vocal chords and get ready to sing the night away at Karaoke Night at the Boardwalk Bar and Grill! This two story rooftop bar and restaurant is located on boardwalk to the left of Joey Tomato’s. Karaoke Night begins approximately at 8:30pm and will be run by DJ Mike. Enjoy various drink specials all throughout the night!
URL:https://jenkinsons.com/event/karaoke-night-at-the-boardwalk-bar-and-grill-2/2025-07-25/
LOCATION:Boardwalk Bar and Grill\, 401 Boardwalk\, Point Pleasant Beach\, New Jersey\, 08742
CATEGORIES:Boardwalk Bar and Grill,Events
ATTACH;FMTTYPE=image/jpeg:https://jenks-uploads.nyc3.digitaloceanspaces.com/wp-content/uploads/2024/05/31111552/microphone-1000px-x-1000px.jpg
END:VEVENT
BEGIN:VEVENT
DTSTART;TZID=America/New_York:20250726T120000
DTEND;TZID=America/New_York:20250726T230000
DTSTAMP:20260421T150752
CREATED:20250304T175034Z
LAST-MODIFIED:20250304T175034Z
UID:10005808-1753531200-1753570800@jenkinsons.com
SUMMARY:Amusement Park Hours 12pm-11pm
DESCRIPTION:The Jenkinson’s Amusement Park will be open today from 12:00pm to 11:00pm! \nPlease note: all hours are weather permitting and subject to change. Closing time varies based on sudden weather or crowd size. \nAny sudden closes or changes to the hours will be posted promptly on our social media channels: \nAmusement Park Facebook Page – HERE \nAmusement Park Instagram Page – HERE
URL:https://jenkinsons.com/event/amusement-park-hours-12pm-11pm-2/2025-07-26/
LOCATION:Jenkinson’s Amusement Park\, 500 Boardwalk\, Pt. Pleasant Beach\, NJ\, 08742\, United States
CATEGORIES:Rides
END:VEVENT
BEGIN:VEVENT
DTSTART;TZID=America/New_York:20250727T120000
DTEND;TZID=America/New_York:20250727T230000
DTSTAMP:20260421T150752
CREATED:20250304T175034Z
LAST-MODIFIED:20250304T175034Z
UID:10005809-1753617600-1753657200@jenkinsons.com
SUMMARY:Amusement Park Hours 12pm-11pm
DESCRIPTION:The Jenkinson’s Amusement Park will be open today from 12:00pm to 11:00pm! \nPlease note: all hours are weather permitting and subject to change. Closing time varies based on sudden weather or crowd size. \nAny sudden closes or changes to the hours will be posted promptly on our social media channels: \nAmusement Park Facebook Page – HERE \nAmusement Park Instagram Page – HERE
URL:https://jenkinsons.com/event/amusement-park-hours-12pm-11pm-2/2025-07-27/
LOCATION:Jenkinson’s Amusement Park\, 500 Boardwalk\, Pt. Pleasant Beach\, NJ\, 08742\, United States
CATEGORIES:Rides
END:VEVENT
BEGIN:VEVENT
DTSTART;TZID=America/New_York:20250728T120000
DTEND;TZID=America/New_York:20250728T230000
DTSTAMP:20260421T150752
CREATED:20250304T175034Z
LAST-MODIFIED:20250304T175034Z
UID:10005810-1753704000-1753743600@jenkinsons.com
SUMMARY:Amusement Park Hours 12pm-11pm
DESCRIPTION:The Jenkinson’s Amusement Park will be open today from 12:00pm to 11:00pm! \nPlease note: all hours are weather permitting and subject to change. Closing time varies based on sudden weather or crowd size. \nAny sudden closes or changes to the hours will be posted promptly on our social media channels: \nAmusement Park Facebook Page – HERE \nAmusement Park Instagram Page – HERE
URL:https://jenkinsons.com/event/amusement-park-hours-12pm-11pm-2/2025-07-28/
LOCATION:Jenkinson’s Amusement Park\, 500 Boardwalk\, Pt. Pleasant Beach\, NJ\, 08742\, United States
CATEGORIES:Rides
END:VEVENT
BEGIN:VEVENT
DTSTART;TZID=America/New_York:20250728T160000
DTEND;TZID=America/New_York:20250728T210000
DTSTAMP:20260421T150752
CREATED:20250615T171059Z
LAST-MODIFIED:20250615T171059Z
UID:10006262-1753718400-1753736400@jenkinsons.com
SUMMARY:Eat and Play Special
DESCRIPTION:Eat and Play Mondays at Jenkinson’s Boardwalk \nKick off your week with unbeatable family fun at Jenkinson’s Boardwalk! Every Monday from 4–9pm\, enjoy our Eat and Play deal for just $33.95 per person. This special includes: \n\n\nA 2-hour unlimited rides wristband at the Amusement Park and the Adventure Lookout Ropes Course \n\n\nOne round of mini golf at Lighthouse Point \n\n\nA slice of plain pizza and a small drink from Little Mac’s \n\n\nWristbands are available for purchase at the Ride Park or Little Mac’s only. It’s the perfect combo of thrills\, games\, and great food—all in one amazing price! \nOffer available Mondays only. All hours are weather permitting and subject to change. No substitutions. 
URL:https://jenkinsons.com/event/eat-and-play-special-2/2025-07-28/
LOCATION:Jenkinson’s Boardwalk\, 300 Ocean Ave\, Pt. Pleasant Beach\, NJ\, 08742\, United States
CATEGORIES:Rides,Weekly
ATTACH;FMTTYPE=image/jpeg:https://jenks-uploads.nyc3.digitaloceanspaces.com/wp-content/uploads/2025/06/31111351/eat-and-play-square.jpg
END:VEVENT
BEGIN:VEVENT
DTSTART;TZID=America/New_York:20250728T180000
DTEND;TZID=America/New_York:20250728T193000
DTSTAMP:20260421T150752
CREATED:20250707T194148Z
LAST-MODIFIED:20250707T194148Z
UID:10005909-1753725600-1753731000@jenkinsons.com
SUMMARY:Magic on the Beach
DESCRIPTION:Prepared to be amazed this summer as we bring you Magic on the Beach! With audience participation\, comedy & magic\, this event is sure to be a hit for the entire family! \nDates\nJune 23rd – South Beach Stage\nJuly 28th – Pavilion Beach Stage ***Make up date from 7/7 rain out***\nAugust 18th – Pavilion Beach Stage \nShow Times\n6pm\n7pm \nStage Locations\nThe Pavilion Beach Stage is located on the beach by the Aquarium and the South Beach Stage is located on the beach in front of the Amusement Park. \n*Weather permitting.
URL:https://jenkinsons.com/event/magic-on-the-beach-2-2/
LOCATION:Jenkinson’s Boardwalk\, 300 Ocean Ave\, Pt. Pleasant Beach\, NJ\, 08742\, United States
CATEGORIES:Featured Events,Special Events
ATTACH;FMTTYPE=image/jpeg:https://jenks-uploads.nyc3.digitaloceanspaces.com/wp-content/uploads/2025/03/31111417/28709-MagicOnTheBeach-Square-1.jpg
END:VEVENT
BEGIN:VEVENT
DTSTART;TZID=America/New_York:20250728T183000
DTEND;TZID=America/New_York:20250728T200000
DTSTAMP:20260421T150752
CREATED:20250608T145117Z
LAST-MODIFIED:20250728T163200Z
UID:10006247-1753727400-1753732800@jenkinsons.com
SUMMARY:The Jukebox Legends: Summer Concert Series Presented by 100.1 WJRZ
DESCRIPTION:*THIS CONCERT WAS ORIGINALLY 6/25\, BUT HAS BEEN RESCHEDULED TO 7/28* \n🎶 Summer Jams are Back! Jenkinson’s Summer Concert Series is Here! 🎶 \nGet ready to groove all summer long at Jenkinson’s Boardwalk with our exciting Summer Concert Series\, presented by 100.1 WJRZ! Join us for a live concert series\, featuring The Jukebox Legends\, combining classic and nostalgic hits that will have you dancing on the sand. \nEvent Details: \n\nWhen: Monday\, July 28 \, 6:30pm to 8:00pm\nWhere: South Beach Stage (in front of the Ride Park)\nCost: FREE to attend!\n\nRemaining Summer Line Up: \n\n\n\nJuly 30: Sky’s the Limit\nAugust 6: Stiletto & The Saxman\nAugust 20: Sky’s the Limit\nAugust 27: The Funktion Band\n\n\n\nAll summer concert series are free to attend and begin at 6:30 PM. There will be a limited number of beach chairs provided for use by Jenkinson’s. Alcohol is strictly prohibited on the beach or boardwalk. Rain date for any postponed concert will be made at a later date. \nDon’t miss out on these fantastic evenings of live music by the ocean! Bring your friends and family for unforgettable summer nights at Jenkinson’s Boardwalk. \nThe Jenkinson’s Summer Concert Series is presented by 100.1 WJRZ and powered by our partners at Manasquan Bank
URL:https://jenkinsons.com/event/the-jukebox-legends-summer-concert-series-presented-by-100-1-wjrz/
LOCATION:South Beach Stage\, 500 Boardwalk\, Pt. Pleasant Beach\, NJ\, 08742\, United States
CATEGORIES:Featured Events
ATTACH;FMTTYPE=image/jpeg:https://jenks-uploads.nyc3.digitaloceanspaces.com/wp-content/uploads/2025/06/31111352/6-25-cover.jpg
END:VEVENT
BEGIN:VEVENT
DTSTART;TZID=America/New_York:20250728T200000
DTEND;TZID=America/New_York:20250728T220000
DTSTAMP:20260421T150752
CREATED:20250424T145633Z
LAST-MODIFIED:20250424T152653Z
UID:10006117-1753732800-1753740000@jenkinsons.com
SUMMARY:Aquarium Night Owl Special
DESCRIPTION:Calling all night owls!  \nTake advantage of 1/2 price admission at Jenkinson’s Aquarium Monday through Wednesday from 8pm to 10pm! \n*Excluding Monday\, September 1st (Labor Day)
URL:https://jenkinsons.com/event/aquarium-night-owl-special/2025-07-28/
LOCATION:Jenkinson’s Boardwalk\, 300 Ocean Ave\, Pt. Pleasant Beach\, NJ\, 08742\, United States
CATEGORIES:Promos,Weekly
ATTACH;FMTTYPE=image/jpeg:https://jenks-uploads.nyc3.digitaloceanspaces.com/wp-content/uploads/2025/04/31111359/29213-NightOwl-SQ-1.jpg
END:VEVENT
END:VCALENDAR