BEGIN:VCALENDAR
VERSION:2.0
PRODID:-//Boardwalk - ECPv6.15.17.1//NONSGML v1.0//EN
CALSCALE:GREGORIAN
METHOD:PUBLISH
X-WR-CALNAME:Boardwalk
X-ORIGINAL-URL:https://jenkinsons.com
X-WR-CALDESC:Events for Boardwalk
REFRESH-INTERVAL;VALUE=DURATION:PT1H
X-Robots-Tag:noindex
X-PUBLISHED-TTL:PT1H
BEGIN:VTIMEZONE
TZID:America/New_York
BEGIN:DAYLIGHT
TZOFFSETFROM:-0500
TZOFFSETTO:-0400
TZNAME:EDT
DTSTART:20240310T070000
END:DAYLIGHT
BEGIN:STANDARD
TZOFFSETFROM:-0400
TZOFFSETTO:-0500
TZNAME:EST
DTSTART:20241103T060000
END:STANDARD
BEGIN:DAYLIGHT
TZOFFSETFROM:-0500
TZOFFSETTO:-0400
TZNAME:EDT
DTSTART:20250309T070000
END:DAYLIGHT
BEGIN:STANDARD
TZOFFSETFROM:-0400
TZOFFSETTO:-0500
TZNAME:EST
DTSTART:20251102T060000
END:STANDARD
BEGIN:DAYLIGHT
TZOFFSETFROM:-0500
TZOFFSETTO:-0400
TZNAME:EDT
DTSTART:20260308T070000
END:DAYLIGHT
BEGIN:STANDARD
TZOFFSETFROM:-0400
TZOFFSETTO:-0500
TZNAME:EST
DTSTART:20261101T060000
END:STANDARD
END:VTIMEZONE
BEGIN:VEVENT
DTSTART;TZID=America/New_York:20250912T170000
DTEND;TZID=America/New_York:20250912T220000
DTSTAMP:20260421T145102
CREATED:20250903T145908Z
LAST-MODIFIED:20250903T145909Z
UID:10006324-1757696400-1757714400@jenkinsons.com
SUMMARY:$20 Unlimited Rides Wristband Night
DESCRIPTION:Celebrate the end of the season at Jenkinson’s Amusement Park with our Wristband Night Special! For just $20\, you’ll get unlimited rides (plus the Adventure Lookout Ropes Course) on Friday\, September 5th and Friday\, September 12th from 5pm–close. Don’t miss this chance to soak up the last of the boardwalk fun\, make unforgettable memories\, and end the summer on a high note! \nPlease note: all hours are weather permitting and subject to change. Closing time varies on crowd size and weather.
URL:https://jenkinsons.com/event/20-unlimited-rides-wristband-night/2025-09-12/
LOCATION:Jenkinson’s Boardwalk\, 300 Ocean Ave\, Pt. Pleasant Beach\, NJ\, 08742\, United States
CATEGORIES:Events,Featured Events,Rides,Special Events
END:VEVENT
END:VCALENDAR