BEGIN:VCALENDAR
VERSION:2.0
PRODID:-//Boardwalk - ECPv6.15.17.1//NONSGML v1.0//EN
CALSCALE:GREGORIAN
METHOD:PUBLISH
X-ORIGINAL-URL:https://jenkinsons.com
X-WR-CALDESC:Events for Boardwalk
REFRESH-INTERVAL;VALUE=DURATION:PT1H
X-Robots-Tag:noindex
X-PUBLISHED-TTL:PT1H
BEGIN:VTIMEZONE
TZID:America/New_York
BEGIN:DAYLIGHT
TZOFFSETFROM:-0500
TZOFFSETTO:-0400
TZNAME:EDT
DTSTART:20240310T070000
END:DAYLIGHT
BEGIN:STANDARD
TZOFFSETFROM:-0400
TZOFFSETTO:-0500
TZNAME:EST
DTSTART:20241103T060000
END:STANDARD
BEGIN:DAYLIGHT
TZOFFSETFROM:-0500
TZOFFSETTO:-0400
TZNAME:EDT
DTSTART:20250309T070000
END:DAYLIGHT
BEGIN:STANDARD
TZOFFSETFROM:-0400
TZOFFSETTO:-0500
TZNAME:EST
DTSTART:20251102T060000
END:STANDARD
BEGIN:DAYLIGHT
TZOFFSETFROM:-0500
TZOFFSETTO:-0400
TZNAME:EDT
DTSTART:20260308T070000
END:DAYLIGHT
BEGIN:STANDARD
TZOFFSETFROM:-0400
TZOFFSETTO:-0500
TZNAME:EST
DTSTART:20261101T060000
END:STANDARD
END:VTIMEZONE
BEGIN:VEVENT
DTSTART;TZID=America/New_York:20250825T173000
DTEND;TZID=America/New_York:20250825T183000
DTSTAMP:20260421T202309
CREATED:20250729T143341Z
LAST-MODIFIED:20250819T205111Z
UID:10006321-1756143000-1756146600@jenkinsons.com
SUMMARY:Princess Dining at Oceanside Dining
DESCRIPTION:Two of our princesses will be stopping by Oceanside Dining from 5:30-6:30pm on Monday\, August 25th to visit and take pictures with little princesses & princes before Princess Palooza. Oceanside Dining\, with waitress service\, is located towards the back of the Pavilion.
URL:https://jenkinsons.com/event/princess-dining-at-oceanside-dining/2025-08-25/
LOCATION:Jenkinson’s Boardwalk\, 300 Ocean Ave\, Pt. Pleasant Beach\, NJ\, 08742\, United States
CATEGORIES:Featured Events,Special Events
ATTACH;FMTTYPE=image/jpeg:https://jenks-uploads.nyc3.digitaloceanspaces.com/wp-content/uploads/2025/07/31111337/30156-PrincessDining-V3-SQ.jpg
END:VEVENT
BEGIN:VEVENT
DTSTART;TZID=America/New_York:20250825T180000
DTEND;TZID=America/New_York:20250825T193000
DTSTAMP:20260421T202309
CREATED:20250312T145126Z
LAST-MODIFIED:20250821T153551Z
UID:10005913-1756144800-1756150200@jenkinsons.com
SUMMARY:Science in the Sand
DESCRIPTION:Get ready for another exciting event this summer\, Science in the Sand! With three shows this summer\, we’ll be bringing fun & education together with Mad Science all summer long! \nDates\nJune 30th – Due to the predicted forecast this evening during our scheduled science show times\, we’re moving the show inside the Pavilion\, in the back towards the beach. The shows will be at 6pm and 7pm. See you soon!\nJuly 29th – South Beach Stage\nAugust 25th – SOUTH BEACH STAGE  \nShow Times\n6pm\n7pm \nShow Topics\nJune 30th – Fire and Ice\nJuly 29th – Fire and Ice\nAugust 25th – Spin Pop Boom!\n\nStage Locations\nThe Pavilion Beach Stage is located on the beach by the Aquarium and the South Beach Stage is located on the beach in front of the Amusement Park. \nWeather permitting.
URL:https://jenkinsons.com/event/science-in-the-sand-2/2025-08-25/
LOCATION:Jenkinson’s Boardwalk\, 300 Ocean Ave\, Pt. Pleasant Beach\, NJ\, 08742\, United States
CATEGORIES:Events,Featured Events,Special Events
ATTACH;FMTTYPE=image/jpeg:https://jenks-uploads.nyc3.digitaloceanspaces.com/wp-content/uploads/2025/03/31111337/28920-ScienceInTheSand-SQ-V2-1.jpg
END:VEVENT
BEGIN:VEVENT
DTSTART;TZID=America/New_York:20250825T190000
DTEND;TZID=America/New_York:20250825T200000
DTSTAMP:20260421T202309
CREATED:20250731T220803Z
LAST-MODIFIED:20250821T193516Z
UID:10006144-1756148400-1756152000@jenkinsons.com
SUMMARY:Princess Palooza
DESCRIPTION:Join us in the sand for our final Princess Palooza of the summer on Monday\, August 25th at 7pm for a princess singing show featuring a cast of your favorite fairytale princesses. \nJUST ADDED! Two of our princesses will be stopping by Oceanside Dining from 5:30-6:30pm (8/25) to visit and take pictures with little princesses & princes. Oceanside Dining\, with waitress service\, is located towards the back of the Pavilion.
URL:https://jenkinsons.com/event/princess-palooza-7/
LOCATION:Jenkinson’s Boardwalk\, 300 Ocean Ave\, Pt. Pleasant Beach\, NJ\, 08742\, United States
CATEGORIES:Events,Featured Events,Special Events
ATTACH;FMTTYPE=image/jpeg:https://jenks-uploads.nyc3.digitaloceanspaces.com/wp-content/uploads/2025/07/31111337/30156-PrincessDining-V3-SQ.jpg
END:VEVENT
BEGIN:VEVENT
DTSTART;TZID=America/New_York:20250826T173000
DTEND;TZID=America/New_York:20250826T193000
DTSTAMP:20260421T202309
CREATED:20250424T144438Z
LAST-MODIFIED:20250424T144847Z
UID:10006101-1756229400-1756236600@jenkinsons.com
SUMMARY:Eyes of the Wild Animal Shows
DESCRIPTION:We’re getting WILD at the beach! \nFun\, Comedy and Education collide in this program\, featuring up close and personal encounters with some of our planet’s most fascinating creatures. The presentation is geared toward children and adults alike\, so if you’re looking for something fun and unique to do with the family that also teaches respect for our environment and all of the creatures who live in it\, this is the perfect event for you! \nEach night the show times are as follows: 5:30pm\, 6:15pm and 7pm  \nJune 20th – Pavilion Beach Stage  \nJuly 18th – Pavilion Beach Stage \nAugust 15th – Pavilion Beach Stage \nAugust 26th – South Beach Stage
URL:https://jenkinsons.com/event/eyes-of-the-wild-animal-shows/2025-08-26/
LOCATION:NJ
CATEGORIES:Events,Featured Events,Special Events
ATTACH;FMTTYPE=image/jpeg:https://jenks-uploads.nyc3.digitaloceanspaces.com/wp-content/uploads/2025/04/31111359/29606-EyesOfTheWild-SQ-All-1.jpg
END:VEVENT
BEGIN:VEVENT
DTSTART;TZID=America/New_York:20250828T160000
DTEND;TZID=America/New_York:20250828T200000
DTSTAMP:20260421T202309
CREATED:20250702T213016Z
LAST-MODIFIED:20250702T213016Z
UID:10006268-1756396800-1756411200@jenkinsons.com
SUMMARY:Meet & Greet with Sonic the Hedgehog
DESCRIPTION:Meet & Greet with Sonic the Hedgehog\nThursday\, August 28\, 20254:00pm – 8:00pmSouth Beach Stage (on the beach by the rides)Fireworks at dark (weather permitting)\nGet ready to meet the one and only Sonic the Hedgehog at Jenkinson’s Boardwalk! Join us at the South Beach Stage\, located on the beach in front of the amusement rides\, for an exciting Meet & Greet with the iconic blue speedster. \nPerfect for families and fans of all ages\, this special event includes opportunities for photos\, fun\, and fast-paced excitement. Stick around after the meet & greet for fireworks at dark\, weather permitting. This event is free to attend. \nDon’t miss your chance to make summer memories with Sonic on Thursday\, August 28\, 2025\, only at Jenkinson’s Boardwalk in Point Pleasant Beach.
URL:https://jenkinsons.com/event/meet-greet-with-sonic-the-hedgehog/
LOCATION:South Beach Stage\, 500 Boardwalk\, Pt. Pleasant Beach\, NJ\, 08742\, United States
CATEGORIES:Events,Featured Events,Special Events
ATTACH;FMTTYPE=image/jpeg:https://jenks-uploads.nyc3.digitaloceanspaces.com/wp-content/uploads/2025/07/31111348/Sonic-square-01.jpg
END:VEVENT
BEGIN:VEVENT
DTSTART;TZID=America/New_York:20250828T200000
DTEND;TZID=America/New_York:20250828T210000
DTSTAMP:20260421T202309
CREATED:20250430T143805Z
LAST-MODIFIED:20250430T143931Z
UID:10006137-1756411200-1756414800@jenkinsons.com
SUMMARY:Beach Bubbles
DESCRIPTION:Feeling bubbly? Wind up to the fireworks with a mesmerizing bubble glow experience with a DJ on the beach!  \nThursday\, July 24th and Thursday\, August 28th\n8:15pm-9:15pm followed by our fireworks show!\nPavilion Beach Stage (on the beach in front of the Aquarium)
URL:https://jenkinsons.com/event/beach-bubbles/2025-08-28/
LOCATION:Jenkinson’s Boardwalk\, 300 Ocean Ave\, Pt. Pleasant Beach\, NJ\, 08742\, United States
CATEGORIES:Events,Featured Events,Special Events
ATTACH;FMTTYPE=image/jpeg:https://jenks-uploads.nyc3.digitaloceanspaces.com/wp-content/uploads/2025/04/31111358/29812-BeachBubbles-SQ.jpg
END:VEVENT
BEGIN:VEVENT
DTSTART;TZID=America/New_York:20250828T213000
DTEND;TZID=America/New_York:20250828T214500
DTSTAMP:20260421T202309
CREATED:20250423T151344Z
LAST-MODIFIED:20250423T151344Z
UID:10006096-1756416600-1756417500@jenkinsons.com
SUMMARY:Thursday Fireworks
DESCRIPTION:Fireworks on the Beach – Thursday Nights at Jenkinson’s Boardwalk! \nWe’re lighting up the sky every Thursday night from June 19th through August 28th with our spectacular Fireworks Show at Jenkinson’s Boardwalk in Point Pleasant Beach! \nJoin us at dark for one of our most beloved summer traditions — a dazzling display of lights that can be enjoyed from both the boardwalk and the beach. It’s the perfect way to end a day of family fun and make lasting memories! \nDon’t miss this unforgettable part of summer at Jenkinson’s Boardwalk! \nPLEASE NOTE: All Thursday Firework shows are weather and wind permitting and subject to change\, and will be starting at approximately 9:30pm. In the case that we have to cancel our Fireworks display to do weather or wind\, we will post across our social media accounts (@JenksBoardwalk) as well the top banner of our website – www.jenkinsons.com. Please check there first before messaging or calling us.
URL:https://jenkinsons.com/event/thursday-fireworks-3/2025-08-28/
LOCATION:Jenkinson’s Boardwalk\, 300 Ocean Ave\, Pt. Pleasant Beach\, NJ\, 08742\, United States
CATEGORIES:Special Events
ATTACH;FMTTYPE=image/jpeg:https://jenks-uploads.nyc3.digitaloceanspaces.com/wp-content/uploads/2024/03/31111510/july-4-fireworks-square.jpg
END:VEVENT
END:VCALENDAR