BEGIN:VCALENDAR
VERSION:2.0
PRODID:-//Boardwalk - ECPv6.15.17.1//NONSGML v1.0//EN
CALSCALE:GREGORIAN
METHOD:PUBLISH
X-ORIGINAL-URL:https://jenkinsons.com
X-WR-CALDESC:Events for Boardwalk
REFRESH-INTERVAL;VALUE=DURATION:PT1H
X-Robots-Tag:noindex
X-PUBLISHED-TTL:PT1H
BEGIN:VTIMEZONE
TZID:America/New_York
BEGIN:DAYLIGHT
TZOFFSETFROM:-0500
TZOFFSETTO:-0400
TZNAME:EDT
DTSTART:20240310T070000
END:DAYLIGHT
BEGIN:STANDARD
TZOFFSETFROM:-0400
TZOFFSETTO:-0500
TZNAME:EST
DTSTART:20241103T060000
END:STANDARD
BEGIN:DAYLIGHT
TZOFFSETFROM:-0500
TZOFFSETTO:-0400
TZNAME:EDT
DTSTART:20250309T070000
END:DAYLIGHT
BEGIN:STANDARD
TZOFFSETFROM:-0400
TZOFFSETTO:-0500
TZNAME:EST
DTSTART:20251102T060000
END:STANDARD
BEGIN:DAYLIGHT
TZOFFSETFROM:-0500
TZOFFSETTO:-0400
TZNAME:EDT
DTSTART:20260308T070000
END:DAYLIGHT
BEGIN:STANDARD
TZOFFSETFROM:-0400
TZOFFSETTO:-0500
TZNAME:EST
DTSTART:20261101T060000
END:STANDARD
END:VTIMEZONE
BEGIN:VEVENT
DTSTART;TZID=America/New_York:20250817T190000
DTEND;TZID=America/New_York:20250817T200000
DTSTAMP:20260421T202249
CREATED:20250527T161327Z
LAST-MODIFIED:20250817T222624Z
UID:10006230-1755457200-1755460800@jenkinsons.com
SUMMARY:DJ Dance Party on the Beach
DESCRIPTION:Sunday\, August 17th Update: Due to the predicated storms for this evening we are unfortunately going to have to cancel our DJ Dance Party on the Beach for tonight. \nDance swiftly to todays greatest hits from the biggest pop stars with DJ Mike West on the beach!  \nDates:\nSunday\, August 17th  \nTime: 7pm \nLocation: Pavilion Beach Stage (on the beach by the Aquarium) \n*Weather permitting.  \ndj dance party on the beach at jenkinson’s. Dance swifty to your favorite pop songs!
URL:https://jenkinsons.com/event/dj-dance-party-on-the-beach/2025-08-17/
LOCATION:Jenkinson’s Boardwalk\, 300 Ocean Ave\, Pt. Pleasant Beach\, NJ\, 08742\, United States
CATEGORIES:Events,Featured Events,Special Events
ATTACH;FMTTYPE=image/png:https://jenks-uploads.nyc3.digitaloceanspaces.com/wp-content/uploads/2025/05/31111338/IG-Post-4.png
END:VEVENT
BEGIN:VEVENT
DTSTART;TZID=America/New_York:20250818T180000
DTEND;TZID=America/New_York:20250818T193000
DTSTAMP:20260421T202249
CREATED:20250312T143327Z
LAST-MODIFIED:20250818T152847Z
UID:10005910-1755540000-1755545400@jenkinsons.com
SUMMARY:Magic on the Beach
DESCRIPTION:Prepared to be amazed this summer as we bring you Magic on the Beach! With audience participation\, comedy & magic\, this event is sure to be a hit for the entire family! \nDates\nJune 23rd – South Beach Stage\nJuly 7th – Pavilion Beach Stage\nAugust 18th – LOCATION UPDATE! Join us in the Pavilion for shows at 6pm & 7pm on the stage!  \nFor more information on our summer events please visit https://jenkinsons.com \nShow Times\n6pm\n7pm \nStage Locations\nThe Pavilion Beach Stage is located on the beach by the Aquarium and the South Beach Stage is located on the beach in front of the Amusement Park. \n*Weather permitting.
URL:https://jenkinsons.com/event/magic-on-the-beach-2/2025-08-18/
LOCATION:Jenkinson’s Boardwalk\, 300 Ocean Ave\, Pt. Pleasant Beach\, NJ\, 08742\, United States
CATEGORIES:Featured Events,Special Events
ATTACH;FMTTYPE=image/jpeg:https://jenks-uploads.nyc3.digitaloceanspaces.com/wp-content/uploads/2025/03/31111417/28709-MagicOnTheBeach-Square-1.jpg
END:VEVENT
BEGIN:VEVENT
DTSTART;TZID=America/New_York:20250820T183000
DTEND;TZID=America/New_York:20250820T200000
DTSTAMP:20260421T202249
CREATED:20250605T135413Z
LAST-MODIFIED:20250605T135455Z
UID:10006246-1755714600-1755720000@jenkinsons.com
SUMMARY:Mermaid Meet & Greet
DESCRIPTION:Our mermaid is out of the water for a meet & greet in the Aquarium classroom! \n*Included with Aquarium general admission.
URL:https://jenkinsons.com/event/mermaid-meet-greet/2025-08-20/
LOCATION:Jenkinson’s Boardwalk\, 300 Ocean Ave\, Pt. Pleasant Beach\, NJ\, 08742\, United States
CATEGORIES:Events,Featured Events,Special Events
ATTACH;FMTTYPE=image/jpeg:https://jenks-uploads.nyc3.digitaloceanspaces.com/wp-content/uploads/2025/06/31111352/29870-MermaidMeet-SQ.jpg
END:VEVENT
BEGIN:VEVENT
DTSTART;TZID=America/New_York:20250821T213000
DTEND;TZID=America/New_York:20250821T214500
DTSTAMP:20260421T202249
CREATED:20250821T132822Z
LAST-MODIFIED:20250821T132822Z
UID:10006095-1755811800-1755812700@jenkinsons.com
SUMMARY:CANCELLED Thursday Fireworks
DESCRIPTION:Fireworks on the Beach – Thursday Nights at Jenkinson’s Boardwalk! \nWe’re lighting up the sky every Thursday night from June 19th through August 28th with our spectacular Fireworks Show at Jenkinson’s Boardwalk in Point Pleasant Beach! \nJoin us at dark for one of our most beloved summer traditions — a dazzling display of lights that can be enjoyed from both the boardwalk and the beach. It’s the perfect way to end a day of family fun and make lasting memories! \nDon’t miss this unforgettable part of summer at Jenkinson’s Boardwalk! \nPLEASE NOTE: All Thursday Firework shows are weather and wind permitting and subject to change\, and will be starting at approximately 9:30pm. In the case that we have to cancel our Fireworks display to do weather or wind\, we will post across our social media accounts (@JenksBoardwalk) as well the top banner of our website – www.jenkinsons.com. Please check there first before messaging or calling us.
URL:https://jenkinsons.com/event/thursday-fireworks-3-6/
LOCATION:Jenkinson’s Boardwalk\, 300 Ocean Ave\, Pt. Pleasant Beach\, NJ\, 08742\, United States
CATEGORIES:Special Events
ATTACH;FMTTYPE=image/jpeg:https://jenks-uploads.nyc3.digitaloceanspaces.com/wp-content/uploads/2024/03/31111510/july-4-fireworks-square.jpg
END:VEVENT
END:VCALENDAR