BEGIN:VCALENDAR
VERSION:2.0
PRODID:-//Boardwalk - ECPv6.15.17.1//NONSGML v1.0//EN
CALSCALE:GREGORIAN
METHOD:PUBLISH
X-ORIGINAL-URL:https://jenkinsons.com
X-WR-CALDESC:Events for Boardwalk
REFRESH-INTERVAL;VALUE=DURATION:PT1H
X-Robots-Tag:noindex
X-PUBLISHED-TTL:PT1H
BEGIN:VTIMEZONE
TZID:America/New_York
BEGIN:DAYLIGHT
TZOFFSETFROM:-0500
TZOFFSETTO:-0400
TZNAME:EDT
DTSTART:20240310T070000
END:DAYLIGHT
BEGIN:STANDARD
TZOFFSETFROM:-0400
TZOFFSETTO:-0500
TZNAME:EST
DTSTART:20241103T060000
END:STANDARD
BEGIN:DAYLIGHT
TZOFFSETFROM:-0500
TZOFFSETTO:-0400
TZNAME:EDT
DTSTART:20250309T070000
END:DAYLIGHT
BEGIN:STANDARD
TZOFFSETFROM:-0400
TZOFFSETTO:-0500
TZNAME:EST
DTSTART:20251102T060000
END:STANDARD
BEGIN:DAYLIGHT
TZOFFSETFROM:-0500
TZOFFSETTO:-0400
TZNAME:EDT
DTSTART:20260308T070000
END:DAYLIGHT
BEGIN:STANDARD
TZOFFSETFROM:-0400
TZOFFSETTO:-0500
TZNAME:EST
DTSTART:20261101T060000
END:STANDARD
END:VTIMEZONE
BEGIN:VEVENT
DTSTART;TZID=America/New_York:20250811T173000
DTEND;TZID=America/New_York:20250811T183000
DTSTAMP:20260421T215103
CREATED:20250729T143341Z
LAST-MODIFIED:20250819T205111Z
UID:10006283-1754933400-1754937000@jenkinsons.com
SUMMARY:Princess Dining at Oceanside Dining
DESCRIPTION:Two of our princesses will be stopping by Oceanside Dining from 5:30-6:30pm on Monday\, August 25th to visit and take pictures with little princesses & princes before Princess Palooza. Oceanside Dining\, with waitress service\, is located towards the back of the Pavilion.
URL:https://jenkinsons.com/event/princess-dining-at-oceanside-dining/2025-08-11/
LOCATION:Jenkinson’s Boardwalk\, 300 Ocean Ave\, Pt. Pleasant Beach\, NJ\, 08742\, United States
CATEGORIES:Featured Events,Special Events
ATTACH;FMTTYPE=image/jpeg:https://jenks-uploads.nyc3.digitaloceanspaces.com/wp-content/uploads/2025/07/31111337/30156-PrincessDining-V3-SQ.jpg
END:VEVENT
BEGIN:VEVENT
DTSTART;TZID=America/New_York:20250811T190000
DTEND;TZID=America/New_York:20250811T200000
DTSTAMP:20260421T215103
CREATED:20250731T215710Z
LAST-MODIFIED:20250731T220632Z
UID:10006284-1754938800-1754942400@jenkinsons.com
SUMMARY:Princess Palooza
DESCRIPTION:The princesses are heading back to the beach for 3 Princess Palooza shows this summer! Join us in the sand for a princess singing show featuring a cast of your favorite fairytale princesses. \nThursday\, June 26th\nRESCHEDULED DATE – Monday\, August 11th\nThursday\, August 21st \nJUST ADDED! One of our princesses will be stopping by Oceanside Dining from 5:30-6:30pm to visit and take pictures with little princesses & princes. Oceanside Dining\, with waitress service\, is located towards the back of the Pavilion. \n 
URL:https://jenkinsons.com/event/princess-palooza-6/
LOCATION:Jenkinson’s Boardwalk\, 300 Ocean Ave\, Pt. Pleasant Beach\, NJ\, 08742\, United States
CATEGORIES:Events,Featured Events,Special Events
ATTACH;FMTTYPE=image/jpeg:https://jenks-uploads.nyc3.digitaloceanspaces.com/wp-content/uploads/2025/07/31111344/palooza-updated-date-august-11-new.jpg
END:VEVENT
BEGIN:VEVENT
DTSTART;TZID=America/New_York:20250812T190000
DTEND;TZID=America/New_York:20250812T200000
DTSTAMP:20260421T215103
CREATED:20250808T151142Z
LAST-MODIFIED:20250808T151142Z
UID:10006295-1755025200-1755028800@jenkinsons.com
SUMMARY:Movies on the Beach Trivia
DESCRIPTION:Get ready to test your movie knowledge with our friends from 94.3 The Point! Join us on Tuesday\, August 12th at 7pm for Movies on the Beach trivia and win some amazing prizes!\nAfter trivia stick around for our featured movie\, Wicked!  \n*Please note Movies on the Beach are both wind and weather permitting.
URL:https://jenkinsons.com/event/movies-on-the-beach-trivia/
LOCATION:Jenkinson’s Boardwalk\, 300 Ocean Ave\, Pt. Pleasant Beach\, NJ\, 08742\, United States
CATEGORIES:Events,Featured Events,Special Events
ATTACH;FMTTYPE=image/jpeg:https://jenks-uploads.nyc3.digitaloceanspaces.com/wp-content/uploads/2025/08/31111343/29963-MoviesBeach-August-SQ.jpg
END:VEVENT
BEGIN:VEVENT
DTSTART;TZID=America/New_York:20250813T180000
DTEND;TZID=America/New_York:20250813T190000
DTSTAMP:20260421T215103
CREATED:20250808T151252Z
LAST-MODIFIED:20250808T151402Z
UID:10006135-1755108000-1755111600@jenkinsons.com
SUMMARY:Dinoshore Dino Fossil Hunt
DESCRIPTION:Dig into Adventure at the Dino Fossil Hunt!Get ready for a hands-on prehistoric experience as we search for hidden fossils on the beach! This interactive event is perfect for young explorers and dino fans alike. \n🗓 Wednesday\, August 13th🕕 6:00 PM📍 South Beach Stage (on the beach in front of the Amusement Park)
URL:https://jenkinsons.com/event/dinoshore-dino-fossil-hunt-2/
LOCATION:South Beach Stage\, 500 Boardwalk\, Pt. Pleasant Beach\, NJ\, 08742\, United States
CATEGORIES:Events,Featured Events,Special Events
ATTACH;FMTTYPE=image/jpeg:https://jenks-uploads.nyc3.digitaloceanspaces.com/wp-content/uploads/2025/04/31111358/29797-DinoShore-SQ-FossilHunt-both.jpg
END:VEVENT
BEGIN:VEVENT
DTSTART;TZID=America/New_York:20250814T190000
DTEND;TZID=America/New_York:20250814T203000
DTSTAMP:20260421T215103
CREATED:20250408T204210Z
LAST-MODIFIED:20250408T204218Z
UID:10006052-1755198000-1755203400@jenkinsons.com
SUMMARY:The Little Mermen
DESCRIPTION:The Little Mermen\, NYC’s Premier Disney Cover Band\, is coming back to Jenkinson’s Boardwalk playing rock covers of all your favorite Disney tunes this summer on the beach! Plus\, stick around after the show for fireworks* at dark! \nDates:\nThursday\, July 17th\nThursday\, August 14th  \nTime: 7pm \nLocation: Pavilion Beach Stage\, on the beach in front of the Aquarium. \n*weather permitting.
URL:https://jenkinsons.com/event/the-little-mermen-2/2025-08-14/
LOCATION:Jenkinson’s Boardwalk\, 300 Ocean Ave\, Pt. Pleasant Beach\, NJ\, 08742\, United States
CATEGORIES:Events,Featured Events,Special Events
ATTACH;FMTTYPE=image/jpeg:https://jenks-uploads.nyc3.digitaloceanspaces.com/wp-content/uploads/2025/04/31111413/29585-Mermen-SQ.jpg
END:VEVENT
BEGIN:VEVENT
DTSTART;TZID=America/New_York:20250814T213000
DTEND;TZID=America/New_York:20250814T214500
DTSTAMP:20260421T215103
CREATED:20250423T151344Z
LAST-MODIFIED:20250423T151344Z
UID:10006094-1755207000-1755207900@jenkinsons.com
SUMMARY:Thursday Fireworks
DESCRIPTION:Fireworks on the Beach – Thursday Nights at Jenkinson’s Boardwalk! \nWe’re lighting up the sky every Thursday night from June 19th through August 28th with our spectacular Fireworks Show at Jenkinson’s Boardwalk in Point Pleasant Beach! \nJoin us at dark for one of our most beloved summer traditions — a dazzling display of lights that can be enjoyed from both the boardwalk and the beach. It’s the perfect way to end a day of family fun and make lasting memories! \nDon’t miss this unforgettable part of summer at Jenkinson’s Boardwalk! \nPLEASE NOTE: All Thursday Firework shows are weather and wind permitting and subject to change\, and will be starting at approximately 9:30pm. In the case that we have to cancel our Fireworks display to do weather or wind\, we will post across our social media accounts (@JenksBoardwalk) as well the top banner of our website – www.jenkinsons.com. Please check there first before messaging or calling us.
URL:https://jenkinsons.com/event/thursday-fireworks-3/2025-08-14/
LOCATION:Jenkinson’s Boardwalk\, 300 Ocean Ave\, Pt. Pleasant Beach\, NJ\, 08742\, United States
CATEGORIES:Special Events
ATTACH;FMTTYPE=image/jpeg:https://jenks-uploads.nyc3.digitaloceanspaces.com/wp-content/uploads/2024/03/31111510/july-4-fireworks-square.jpg
END:VEVENT
BEGIN:VEVENT
DTSTART;TZID=America/New_York:20250815T173000
DTEND;TZID=America/New_York:20250815T193000
DTSTAMP:20260421T215103
CREATED:20250424T144438Z
LAST-MODIFIED:20250424T144847Z
UID:10006100-1755279000-1755286200@jenkinsons.com
SUMMARY:Eyes of the Wild Animal Shows
DESCRIPTION:We’re getting WILD at the beach! \nFun\, Comedy and Education collide in this program\, featuring up close and personal encounters with some of our planet’s most fascinating creatures. The presentation is geared toward children and adults alike\, so if you’re looking for something fun and unique to do with the family that also teaches respect for our environment and all of the creatures who live in it\, this is the perfect event for you! \nEach night the show times are as follows: 5:30pm\, 6:15pm and 7pm  \nJune 20th – Pavilion Beach Stage  \nJuly 18th – Pavilion Beach Stage \nAugust 15th – Pavilion Beach Stage \nAugust 26th – South Beach Stage
URL:https://jenkinsons.com/event/eyes-of-the-wild-animal-shows/2025-08-15/
LOCATION:NJ
CATEGORIES:Events,Featured Events,Special Events
ATTACH;FMTTYPE=image/jpeg:https://jenks-uploads.nyc3.digitaloceanspaces.com/wp-content/uploads/2025/04/31111359/29606-EyesOfTheWild-SQ-All-1.jpg
END:VEVENT
END:VCALENDAR