BEGIN:VCALENDAR
VERSION:2.0
PRODID:-//Boardwalk - ECPv6.15.17.1//NONSGML v1.0//EN
CALSCALE:GREGORIAN
METHOD:PUBLISH
X-ORIGINAL-URL:https://jenkinsons.com
X-WR-CALDESC:Events for Boardwalk
REFRESH-INTERVAL;VALUE=DURATION:PT1H
X-Robots-Tag:noindex
X-PUBLISHED-TTL:PT1H
BEGIN:VTIMEZONE
TZID:America/New_York
BEGIN:DAYLIGHT
TZOFFSETFROM:-0500
TZOFFSETTO:-0400
TZNAME:EDT
DTSTART:20240310T070000
END:DAYLIGHT
BEGIN:STANDARD
TZOFFSETFROM:-0400
TZOFFSETTO:-0500
TZNAME:EST
DTSTART:20241103T060000
END:STANDARD
BEGIN:DAYLIGHT
TZOFFSETFROM:-0500
TZOFFSETTO:-0400
TZNAME:EDT
DTSTART:20250309T070000
END:DAYLIGHT
BEGIN:STANDARD
TZOFFSETFROM:-0400
TZOFFSETTO:-0500
TZNAME:EST
DTSTART:20251102T060000
END:STANDARD
BEGIN:DAYLIGHT
TZOFFSETFROM:-0500
TZOFFSETTO:-0400
TZNAME:EDT
DTSTART:20260308T070000
END:DAYLIGHT
BEGIN:STANDARD
TZOFFSETFROM:-0400
TZOFFSETTO:-0500
TZNAME:EST
DTSTART:20261101T060000
END:STANDARD
END:VTIMEZONE
BEGIN:VEVENT
DTSTART;TZID=America/New_York:20250629T190000
DTEND;TZID=America/New_York:20250629T200000
DTSTAMP:20260422T032437
CREATED:20250527T161327Z
LAST-MODIFIED:20250817T222624Z
UID:10006228-1751223600-1751227200@jenkinsons.com
SUMMARY:DJ Dance Party on the Beach
DESCRIPTION:Sunday\, August 17th Update: Due to the predicated storms for this evening we are unfortunately going to have to cancel our DJ Dance Party on the Beach for tonight. \nDance swiftly to todays greatest hits from the biggest pop stars with DJ Mike West on the beach!  \nDates:\nSunday\, August 17th  \nTime: 7pm \nLocation: Pavilion Beach Stage (on the beach by the Aquarium) \n*Weather permitting.  \ndj dance party on the beach at jenkinson’s. Dance swifty to your favorite pop songs!
URL:https://jenkinsons.com/event/dj-dance-party-on-the-beach/2025-06-29/
LOCATION:Jenkinson’s Boardwalk\, 300 Ocean Ave\, Pt. Pleasant Beach\, NJ\, 08742\, United States
CATEGORIES:Events,Featured Events,Special Events
ATTACH;FMTTYPE=image/png:https://jenks-uploads.nyc3.digitaloceanspaces.com/wp-content/uploads/2025/05/31111338/IG-Post-4.png
END:VEVENT
BEGIN:VEVENT
DTSTART;TZID=America/New_York:20250630T180000
DTEND;TZID=America/New_York:20250630T193000
DTSTAMP:20260422T032437
CREATED:20250312T145126Z
LAST-MODIFIED:20250821T153551Z
UID:10005911-1751306400-1751311800@jenkinsons.com
SUMMARY:Science in the Sand
DESCRIPTION:Get ready for another exciting event this summer\, Science in the Sand! With three shows this summer\, we’ll be bringing fun & education together with Mad Science all summer long! \nDates\nJune 30th – Due to the predicted forecast this evening during our scheduled science show times\, we’re moving the show inside the Pavilion\, in the back towards the beach. The shows will be at 6pm and 7pm. See you soon!\nJuly 29th – South Beach Stage\nAugust 25th – SOUTH BEACH STAGE  \nShow Times\n6pm\n7pm \nShow Topics\nJune 30th – Fire and Ice\nJuly 29th – Fire and Ice\nAugust 25th – Spin Pop Boom!\n\nStage Locations\nThe Pavilion Beach Stage is located on the beach by the Aquarium and the South Beach Stage is located on the beach in front of the Amusement Park. \nWeather permitting.
URL:https://jenkinsons.com/event/science-in-the-sand-2/2025-06-30/
LOCATION:Jenkinson’s Boardwalk\, 300 Ocean Ave\, Pt. Pleasant Beach\, NJ\, 08742\, United States
CATEGORIES:Events,Featured Events,Special Events
ATTACH;FMTTYPE=image/jpeg:https://jenks-uploads.nyc3.digitaloceanspaces.com/wp-content/uploads/2025/03/31111337/28920-ScienceInTheSand-SQ-V2-1.jpg
END:VEVENT
BEGIN:VEVENT
DTSTART;TZID=America/New_York:20250703T214500
DTEND;TZID=America/New_York:20250703T220000
DTSTAMP:20260422T032437
CREATED:20250704T005503Z
LAST-MODIFIED:20250704T005504Z
UID:10006088-1751579100-1751580000@jenkinsons.com
SUMMARY:Thursday Fireworks
DESCRIPTION:Fireworks on the Beach – Thursday Nights at Jenkinson’s Boardwalk! \nWe’re lighting up the sky every Thursday night from June 19th through August 28th with our spectacular Fireworks Show at Jenkinson’s Boardwalk in Point Pleasant Beach! \nJoin us at dark for one of our most beloved summer traditions — a dazzling display of lights that can be enjoyed from both the boardwalk and the beach. It’s the perfect way to end a day of family fun and make lasting memories! \nDon’t miss this unforgettable part of summer at Jenkinson’s Boardwalk! \nPLEASE NOTE: All Thursday Firework shows are weather and wind permitting and subject to change. In the case that we have to cancel our Fireworks display to do weather or wind\, we will post across our social media accounts (@JenksBoardwalk) as well the top banner of our website – www.jenkinsons.com. Please check there first before messaging or calling us.
URL:https://jenkinsons.com/event/thursday-fireworks-3-3/
LOCATION:Jenkinson’s Boardwalk\, 300 Ocean Ave\, Pt. Pleasant Beach\, NJ\, 08742\, United States
CATEGORIES:Special Events
ATTACH;FMTTYPE=image/jpeg:https://jenks-uploads.nyc3.digitaloceanspaces.com/wp-content/uploads/2024/03/31111510/july-4-fireworks-square.jpg
END:VEVENT
BEGIN:VEVENT
DTSTART;TZID=America/New_York:20250704T213000
DTEND;TZID=America/New_York:20250704T214500
DTSTAMP:20260422T032437
CREATED:20240313T205042Z
LAST-MODIFIED:20250523T010208Z
UID:10004872-1751664600-1751665500@jenkinsons.com
SUMMARY:Independence Day Fireworks
DESCRIPTION:Celebrate Independence Day with us as we are lighting up the sky at dark with our spectacular Fireworks show on the beach at Jenkinson’s Boardwalk on Friday\, July 4th! Be dazzled with the stunning views of the fireworks from the boardwalk or the beach. As one of our longest standing summer traditions at Jenkinson’s Boardwalk\,  our Independence Day Fireworks display is an experience that the whole family can enjoy! \nAll Firework shows are weather and wind permitting and subject to change\, and will be starting at approximately 9:30pm. In the case that we have to cancel our Fireworks display to do weather or wind\, we will post across our social media accounts (@JenksBoardwalk) as well the top banner of our website – www.jenkinsons.com. Please check there first before messaging or calling us. 
URL:https://jenkinsons.com/event/independence-day-fireworks/
LOCATION:Jenkinson’s Boardwalk\, 300 Ocean Ave\, Pt. Pleasant Beach\, NJ\, 08742\, United States
CATEGORIES:Featured Events,Special Events
ATTACH;FMTTYPE=image/jpeg:https://jenks-uploads.nyc3.digitaloceanspaces.com/wp-content/uploads/2024/06/31111512/fireworks-feature-image.jpg
END:VEVENT
END:VCALENDAR