BEGIN:VCALENDAR
VERSION:2.0
PRODID:-//Boardwalk - ECPv6.15.17.1//NONSGML v1.0//EN
CALSCALE:GREGORIAN
METHOD:PUBLISH
X-ORIGINAL-URL:https://jenkinsons.com
X-WR-CALDESC:Events for Boardwalk
REFRESH-INTERVAL;VALUE=DURATION:PT1H
X-Robots-Tag:noindex
X-PUBLISHED-TTL:PT1H
BEGIN:VTIMEZONE
TZID:America/New_York
BEGIN:DAYLIGHT
TZOFFSETFROM:-0500
TZOFFSETTO:-0400
TZNAME:EDT
DTSTART:20240310T070000
END:DAYLIGHT
BEGIN:STANDARD
TZOFFSETFROM:-0400
TZOFFSETTO:-0500
TZNAME:EST
DTSTART:20241103T060000
END:STANDARD
BEGIN:DAYLIGHT
TZOFFSETFROM:-0500
TZOFFSETTO:-0400
TZNAME:EDT
DTSTART:20250309T070000
END:DAYLIGHT
BEGIN:STANDARD
TZOFFSETFROM:-0400
TZOFFSETTO:-0500
TZNAME:EST
DTSTART:20251102T060000
END:STANDARD
BEGIN:DAYLIGHT
TZOFFSETFROM:-0500
TZOFFSETTO:-0400
TZNAME:EDT
DTSTART:20260308T070000
END:DAYLIGHT
BEGIN:STANDARD
TZOFFSETFROM:-0400
TZOFFSETTO:-0500
TZNAME:EST
DTSTART:20261101T060000
END:STANDARD
END:VTIMEZONE
BEGIN:VEVENT
DTSTART;TZID=America/New_York:20250729T180000
DTEND;TZID=America/New_York:20250729T193000
DTSTAMP:20260421T103254
CREATED:20250312T145126Z
LAST-MODIFIED:20250821T153551Z
UID:10005912-1753812000-1753817400@jenkinsons.com
SUMMARY:Science in the Sand
DESCRIPTION:Get ready for another exciting event this summer\, Science in the Sand! With three shows this summer\, we’ll be bringing fun & education together with Mad Science all summer long! \nDates\nJune 30th – Due to the predicted forecast this evening during our scheduled science show times\, we’re moving the show inside the Pavilion\, in the back towards the beach. The shows will be at 6pm and 7pm. See you soon!\nJuly 29th – South Beach Stage\nAugust 25th – SOUTH BEACH STAGE  \nShow Times\n6pm\n7pm \nShow Topics\nJune 30th – Fire and Ice\nJuly 29th – Fire and Ice\nAugust 25th – Spin Pop Boom!\n\nStage Locations\nThe Pavilion Beach Stage is located on the beach by the Aquarium and the South Beach Stage is located on the beach in front of the Amusement Park. \nWeather permitting.
URL:https://jenkinsons.com/event/science-in-the-sand-2/2025-07-29/
LOCATION:Jenkinson’s Boardwalk\, 300 Ocean Ave\, Pt. Pleasant Beach\, NJ\, 08742\, United States
CATEGORIES:Events,Featured Events,Special Events
ATTACH;FMTTYPE=image/jpeg:https://jenks-uploads.nyc3.digitaloceanspaces.com/wp-content/uploads/2025/03/31111337/28920-ScienceInTheSand-SQ-V2-1.jpg
END:VEVENT
END:VCALENDAR