BEGIN:VCALENDAR
VERSION:2.0
PRODID:-//Boardwalk - ECPv6.15.17.1//NONSGML v1.0//EN
CALSCALE:GREGORIAN
METHOD:PUBLISH
X-ORIGINAL-URL:https://jenkinsons.com
X-WR-CALDESC:Events for Boardwalk
REFRESH-INTERVAL;VALUE=DURATION:PT1H
X-Robots-Tag:noindex
X-PUBLISHED-TTL:PT1H
BEGIN:VTIMEZONE
TZID:America/New_York
BEGIN:DAYLIGHT
TZOFFSETFROM:-0500
TZOFFSETTO:-0400
TZNAME:EDT
DTSTART:20240310T070000
END:DAYLIGHT
BEGIN:STANDARD
TZOFFSETFROM:-0400
TZOFFSETTO:-0500
TZNAME:EST
DTSTART:20241103T060000
END:STANDARD
BEGIN:DAYLIGHT
TZOFFSETFROM:-0500
TZOFFSETTO:-0400
TZNAME:EDT
DTSTART:20250309T070000
END:DAYLIGHT
BEGIN:STANDARD
TZOFFSETFROM:-0400
TZOFFSETTO:-0500
TZNAME:EST
DTSTART:20251102T060000
END:STANDARD
BEGIN:DAYLIGHT
TZOFFSETFROM:-0500
TZOFFSETTO:-0400
TZNAME:EDT
DTSTART:20260308T070000
END:DAYLIGHT
BEGIN:STANDARD
TZOFFSETFROM:-0400
TZOFFSETTO:-0500
TZNAME:EST
DTSTART:20261101T060000
END:STANDARD
END:VTIMEZONE
BEGIN:VEVENT
DTSTART;TZID=America/New_York:20250715T190000
DTEND;TZID=America/New_York:20250715T200000
DTSTAMP:20260422T032659
CREATED:20240322T140259Z
LAST-MODIFIED:20250519T153302Z
UID:10004885-1752606000-1752609600@jenkinsons.com
SUMMARY:Family Beach Concert Series - Yosi & The Superdads
DESCRIPTION:Join us for a fun and interactive live concert for everyone in the family to enjoy! This edition of the Family Beach Concert Series will feature Yosi & The Superdads on Tuesday\, July 15th at 7:00pm on the South Beach Stage\, on the beach directly in front of the Ride Park. All Family Beach Concerts are free to attend and open to the public. Feel free to bring your own beach chairs and blankets. \nThis concert is weather permitting and subject to change. 
URL:https://jenkinsons.com/event/family-beach-concert-series-yosi-the-superdads/
LOCATION:South Beach Stage\, 500 Boardwalk\, Pt. Pleasant Beach\, NJ\, 08742\, United States
CATEGORIES:Featured Events,Special Events
END:VEVENT
END:VCALENDAR