BEGIN:VCALENDAR
VERSION:2.0
PRODID:-//Boardwalk - ECPv6.15.17.1//NONSGML v1.0//EN
CALSCALE:GREGORIAN
METHOD:PUBLISH
X-WR-CALNAME:Boardwalk
X-ORIGINAL-URL:https://jenkinsons.com
X-WR-CALDESC:Events for Boardwalk
REFRESH-INTERVAL;VALUE=DURATION:PT1H
X-Robots-Tag:noindex
X-PUBLISHED-TTL:PT1H
BEGIN:VTIMEZONE
TZID:America/New_York
BEGIN:DAYLIGHT
TZOFFSETFROM:-0500
TZOFFSETTO:-0400
TZNAME:EDT
DTSTART:20240310T070000
END:DAYLIGHT
BEGIN:STANDARD
TZOFFSETFROM:-0400
TZOFFSETTO:-0500
TZNAME:EST
DTSTART:20241103T060000
END:STANDARD
BEGIN:DAYLIGHT
TZOFFSETFROM:-0500
TZOFFSETTO:-0400
TZNAME:EDT
DTSTART:20250309T070000
END:DAYLIGHT
BEGIN:STANDARD
TZOFFSETFROM:-0400
TZOFFSETTO:-0500
TZNAME:EST
DTSTART:20251102T060000
END:STANDARD
BEGIN:DAYLIGHT
TZOFFSETFROM:-0500
TZOFFSETTO:-0400
TZNAME:EDT
DTSTART:20260308T070000
END:DAYLIGHT
BEGIN:STANDARD
TZOFFSETFROM:-0400
TZOFFSETTO:-0500
TZNAME:EST
DTSTART:20261101T060000
END:STANDARD
END:VTIMEZONE
BEGIN:VEVENT
DTSTART;TZID=America/New_York:20250617T170000
DTEND;TZID=America/New_York:20250617T213000
DTSTAMP:20260421T181717
CREATED:20250424T201933Z
LAST-MODIFIED:20250605T001630Z
UID:10006132-1750179600-1750195800@jenkinsons.com
SUMMARY:Mets Watch Party at Jenks Club
DESCRIPTION:Join us Tuesday\, June 17th for a Mets Watch Party with Liberty Coca-Cola Beverages featuring Giveaways\, Mascot Appearances Games and more starting at 5pm in Jenks Club (in the Pavilion)! \nGame: New York Mets at Atlanta Braves 7:15pm game
URL:https://jenkinsons.com/event/mets-watch-party-at-jenks-club/
LOCATION:Jenkinson’s Boardwalk\, 300 Ocean Ave\, Pt. Pleasant Beach\, NJ\, 08742\, United States
CATEGORIES:Events,Featured Events,Special Events
ATTACH;FMTTYPE=image/jpeg:https://jenks-uploads.nyc3.digitaloceanspaces.com/wp-content/uploads/2025/04/31111359/mets.jpg
END:VEVENT
BEGIN:VEVENT
DTSTART;VALUE=DATE:20250619
DTEND;VALUE=DATE:20250620
DTSTAMP:20260421T181717
CREATED:20250619T220551Z
LAST-MODIFIED:20250619T220552Z
UID:10006086-1750291200-1750377599@jenkinsons.com
SUMMARY:CANCELLED: Thursday Fireworks
DESCRIPTION:FIREWORKS UPDATE: Due to the predicted impending weather this evening\, and for the safety of our guests and staff\, tonight’s fireworks show (6/19) has been cancelled. \nPLEASE NOTE: All Thursday Firework shows are weather and wind permitting and subject to change\, and will be starting at approximately 9:30pm. In the case that we have to cancel our Fireworks display to do weather or wind\, we will post across our social media accounts (@JenksBoardwalk) as well the top banner of our website – www.jenkinsons.com. Please check there first before messaging or calling us.
URL:https://jenkinsons.com/event/thursday-fireworks-3-2/
LOCATION:Jenkinson’s Boardwalk\, 300 Ocean Ave\, Pt. Pleasant Beach\, NJ\, 08742\, United States
CATEGORIES:Special Events
ATTACH;FMTTYPE=image/jpeg:https://jenks-uploads.nyc3.digitaloceanspaces.com/wp-content/uploads/2024/03/31111510/july-4-fireworks-square.jpg
END:VEVENT
BEGIN:VEVENT
DTSTART;TZID=America/New_York:20250620T173000
DTEND;TZID=America/New_York:20250620T193000
DTSTAMP:20260421T181717
CREATED:20250424T144438Z
LAST-MODIFIED:20250424T144847Z
UID:10006098-1750440600-1750447800@jenkinsons.com
SUMMARY:Eyes of the Wild Animal Shows
DESCRIPTION:We’re getting WILD at the beach! \nFun\, Comedy and Education collide in this program\, featuring up close and personal encounters with some of our planet’s most fascinating creatures. The presentation is geared toward children and adults alike\, so if you’re looking for something fun and unique to do with the family that also teaches respect for our environment and all of the creatures who live in it\, this is the perfect event for you! \nEach night the show times are as follows: 5:30pm\, 6:15pm and 7pm  \nJune 20th – Pavilion Beach Stage  \nJuly 18th – Pavilion Beach Stage \nAugust 15th – Pavilion Beach Stage \nAugust 26th – South Beach Stage
URL:https://jenkinsons.com/event/eyes-of-the-wild-animal-shows/2025-06-20/
LOCATION:NJ
CATEGORIES:Events,Featured Events,Special Events
ATTACH;FMTTYPE=image/jpeg:https://jenks-uploads.nyc3.digitaloceanspaces.com/wp-content/uploads/2025/04/31111359/29606-EyesOfTheWild-SQ-All-1.jpg
END:VEVENT
BEGIN:VEVENT
DTSTART;TZID=America/New_York:20250623T180000
DTEND;TZID=America/New_York:20250623T193000
DTSTAMP:20260421T181717
CREATED:20250312T143327Z
LAST-MODIFIED:20250818T152847Z
UID:10005908-1750701600-1750707000@jenkinsons.com
SUMMARY:Magic on the Beach
DESCRIPTION:Prepared to be amazed this summer as we bring you Magic on the Beach! With audience participation\, comedy & magic\, this event is sure to be a hit for the entire family! \nDates\nJune 23rd – South Beach Stage\nJuly 7th – Pavilion Beach Stage\nAugust 18th – LOCATION UPDATE! Join us in the Pavilion for shows at 6pm & 7pm on the stage!  \nFor more information on our summer events please visit https://jenkinsons.com \nShow Times\n6pm\n7pm \nStage Locations\nThe Pavilion Beach Stage is located on the beach by the Aquarium and the South Beach Stage is located on the beach in front of the Amusement Park. \n*Weather permitting.
URL:https://jenkinsons.com/event/magic-on-the-beach-2/2025-06-23/
LOCATION:Jenkinson’s Boardwalk\, 300 Ocean Ave\, Pt. Pleasant Beach\, NJ\, 08742\, United States
CATEGORIES:Featured Events,Special Events
ATTACH;FMTTYPE=image/jpeg:https://jenks-uploads.nyc3.digitaloceanspaces.com/wp-content/uploads/2025/03/31111417/28709-MagicOnTheBeach-Square-1.jpg
END:VEVENT
BEGIN:VEVENT
DTSTART;TZID=America/New_York:20250625T183000
DTEND;TZID=America/New_York:20250625T200000
DTSTAMP:20260421T181717
CREATED:20250605T135413Z
LAST-MODIFIED:20250605T135455Z
UID:10006242-1750876200-1750881600@jenkinsons.com
SUMMARY:Mermaid Meet & Greet
DESCRIPTION:Our mermaid is out of the water for a meet & greet in the Aquarium classroom! \n*Included with Aquarium general admission.
URL:https://jenkinsons.com/event/mermaid-meet-greet/2025-06-25/
LOCATION:Jenkinson’s Boardwalk\, 300 Ocean Ave\, Pt. Pleasant Beach\, NJ\, 08742\, United States
CATEGORIES:Events,Featured Events,Special Events
ATTACH;FMTTYPE=image/jpeg:https://jenks-uploads.nyc3.digitaloceanspaces.com/wp-content/uploads/2025/06/31111352/29870-MermaidMeet-SQ.jpg
END:VEVENT
BEGIN:VEVENT
DTSTART;TZID=America/New_York:20250626T190000
DTEND;TZID=America/New_York:20250626T200000
DTSTAMP:20260421T181717
CREATED:20250502T134311Z
LAST-MODIFIED:20250731T194115Z
UID:10006142-1750964400-1750968000@jenkinsons.com
SUMMARY:Princess Palooza
DESCRIPTION:The princesses are heading back to the beach for 3 Princess Palooza shows this summer! Join us in the sand for a princess singing show featuring a cast of your favorite fairytale princesses. \nThursday\, June 26th\nRESCHEDULED DATE – Monday\, August 11th\nThursday\, August 21st  \nJUST ADDED! One of our princesses will be stopping by Oceanside Dining from 5:30-6:30pm to visit and take pictures with little princesses & princes. Oceanside Dining\, with waitress service\, is located towards the back of the Pavilion. \nAll shows begin at 7pm on the Pavilion Beach Stage by the Aquarium. Not only is it Palooza time but it’s also FIREWORKS night!
URL:https://jenkinsons.com/event/princess-palooza/
LOCATION:Jenkinson’s Boardwalk\, 300 Ocean Ave\, Pt. Pleasant Beach\, NJ\, 08742\, United States
CATEGORIES:Events,Featured Events,Special Events
ATTACH;FMTTYPE=image/jpeg:https://jenks-uploads.nyc3.digitaloceanspaces.com/wp-content/uploads/2024/02/31111741/365469510_662509749242154_3942672915107250181_n.jpg
END:VEVENT
BEGIN:VEVENT
DTSTART;TZID=America/New_York:20250626T213000
DTEND;TZID=America/New_York:20250626T214500
DTSTAMP:20260421T181717
CREATED:20250423T151344Z
LAST-MODIFIED:20250423T151344Z
UID:10006087-1750973400-1750974300@jenkinsons.com
SUMMARY:Thursday Fireworks
DESCRIPTION:Fireworks on the Beach – Thursday Nights at Jenkinson’s Boardwalk! \nWe’re lighting up the sky every Thursday night from June 19th through August 28th with our spectacular Fireworks Show at Jenkinson’s Boardwalk in Point Pleasant Beach! \nJoin us at dark for one of our most beloved summer traditions — a dazzling display of lights that can be enjoyed from both the boardwalk and the beach. It’s the perfect way to end a day of family fun and make lasting memories! \nDon’t miss this unforgettable part of summer at Jenkinson’s Boardwalk! \nPLEASE NOTE: All Thursday Firework shows are weather and wind permitting and subject to change\, and will be starting at approximately 9:30pm. In the case that we have to cancel our Fireworks display to do weather or wind\, we will post across our social media accounts (@JenksBoardwalk) as well the top banner of our website – www.jenkinsons.com. Please check there first before messaging or calling us.
URL:https://jenkinsons.com/event/thursday-fireworks-3/2025-06-26/
LOCATION:Jenkinson’s Boardwalk\, 300 Ocean Ave\, Pt. Pleasant Beach\, NJ\, 08742\, United States
CATEGORIES:Special Events
ATTACH;FMTTYPE=image/jpeg:https://jenks-uploads.nyc3.digitaloceanspaces.com/wp-content/uploads/2024/03/31111510/july-4-fireworks-square.jpg
END:VEVENT
BEGIN:VEVENT
DTSTART;TZID=America/New_York:20250628T100000
DTEND;TZID=America/New_York:20250628T180000
DTSTAMP:20260421T181717
CREATED:20250523T005124Z
LAST-MODIFIED:20250523T005456Z
UID:10006216-1751104800-1751133600@jenkinsons.com
SUMMARY:2025 June SkimBlast at Jenkinson's South Beach
DESCRIPTION:Get ready for an exciting day of skimboarding at the 2025 June SkimBlast\, happening on Saturday\, June 28\, from 10:00 AM to 6:00 PM at Jenkinson’s Boardwalk South Beach (Trenton Avenue Beach Entrance) in Point Pleasant Beach\, New Jersey. Hosted by Premier Skim\, this high-energy event brings together amateur and professional skimboarders for a full day of competition\, community\, and beachside fun. Whether you’re looking to compete or just enjoy the action\, the SkimBlast is the perfect way to kick off summer along the Jersey Shore. \nFor more information and how to register\, please visit: https://www.premierskim.com/event-details/2025-june-skimblast-at-jenkinsons-south-beach \nTime & Location \n\n\nJun 28\, 2025\, 10:00 AM – 6:00 PM PDT \n610 Ocean Ave\, Point Pleasant Beach\, NJ 08742\, USA
URL:https://jenkinsons.com/event/2025-june-skimblast-at-jenkinsons-south-beach/
LOCATION:Jenkinson’s Boardwalk\, 300 Ocean Ave\, Pt. Pleasant Beach\, NJ\, 08742\, United States
CATEGORIES:Events,Featured Events,Special Events
ATTACH;FMTTYPE=image/jpeg:https://jenks-uploads.nyc3.digitaloceanspaces.com/wp-content/uploads/2025/05/31111356/Beach-skimblast.jpg
END:VEVENT
BEGIN:VEVENT
DTSTART;TZID=America/New_York:20250629T190000
DTEND;TZID=America/New_York:20250629T200000
DTSTAMP:20260421T181717
CREATED:20250527T161327Z
LAST-MODIFIED:20250817T222624Z
UID:10006228-1751223600-1751227200@jenkinsons.com
SUMMARY:DJ Dance Party on the Beach
DESCRIPTION:Sunday\, August 17th Update: Due to the predicated storms for this evening we are unfortunately going to have to cancel our DJ Dance Party on the Beach for tonight. \nDance swiftly to todays greatest hits from the biggest pop stars with DJ Mike West on the beach!  \nDates:\nSunday\, August 17th  \nTime: 7pm \nLocation: Pavilion Beach Stage (on the beach by the Aquarium) \n*Weather permitting.  \ndj dance party on the beach at jenkinson’s. Dance swifty to your favorite pop songs!
URL:https://jenkinsons.com/event/dj-dance-party-on-the-beach/2025-06-29/
LOCATION:Jenkinson’s Boardwalk\, 300 Ocean Ave\, Pt. Pleasant Beach\, NJ\, 08742\, United States
CATEGORIES:Events,Featured Events,Special Events
ATTACH;FMTTYPE=image/png:https://jenks-uploads.nyc3.digitaloceanspaces.com/wp-content/uploads/2025/05/31111338/IG-Post-4.png
END:VEVENT
BEGIN:VEVENT
DTSTART;TZID=America/New_York:20250630T180000
DTEND;TZID=America/New_York:20250630T193000
DTSTAMP:20260421T181717
CREATED:20250312T145126Z
LAST-MODIFIED:20250821T153551Z
UID:10005911-1751306400-1751311800@jenkinsons.com
SUMMARY:Science in the Sand
DESCRIPTION:Get ready for another exciting event this summer\, Science in the Sand! With three shows this summer\, we’ll be bringing fun & education together with Mad Science all summer long! \nDates\nJune 30th – Due to the predicted forecast this evening during our scheduled science show times\, we’re moving the show inside the Pavilion\, in the back towards the beach. The shows will be at 6pm and 7pm. See you soon!\nJuly 29th – South Beach Stage\nAugust 25th – SOUTH BEACH STAGE  \nShow Times\n6pm\n7pm \nShow Topics\nJune 30th – Fire and Ice\nJuly 29th – Fire and Ice\nAugust 25th – Spin Pop Boom!\n\nStage Locations\nThe Pavilion Beach Stage is located on the beach by the Aquarium and the South Beach Stage is located on the beach in front of the Amusement Park. \nWeather permitting.
URL:https://jenkinsons.com/event/science-in-the-sand-2/2025-06-30/
LOCATION:Jenkinson’s Boardwalk\, 300 Ocean Ave\, Pt. Pleasant Beach\, NJ\, 08742\, United States
CATEGORIES:Events,Featured Events,Special Events
ATTACH;FMTTYPE=image/jpeg:https://jenks-uploads.nyc3.digitaloceanspaces.com/wp-content/uploads/2025/03/31111337/28920-ScienceInTheSand-SQ-V2-1.jpg
END:VEVENT
END:VCALENDAR