BEGIN:VCALENDAR
VERSION:2.0
PRODID:-//Boardwalk - ECPv6.15.17.1//NONSGML v1.0//EN
CALSCALE:GREGORIAN
METHOD:PUBLISH
X-ORIGINAL-URL:https://jenkinsons.com
X-WR-CALDESC:Events for Boardwalk
REFRESH-INTERVAL;VALUE=DURATION:PT1H
X-Robots-Tag:noindex
X-PUBLISHED-TTL:PT1H
BEGIN:VTIMEZONE
TZID:America/New_York
BEGIN:DAYLIGHT
TZOFFSETFROM:-0500
TZOFFSETTO:-0400
TZNAME:EDT
DTSTART:20240310T070000
END:DAYLIGHT
BEGIN:STANDARD
TZOFFSETFROM:-0400
TZOFFSETTO:-0500
TZNAME:EST
DTSTART:20241103T060000
END:STANDARD
BEGIN:DAYLIGHT
TZOFFSETFROM:-0500
TZOFFSETTO:-0400
TZNAME:EDT
DTSTART:20250309T070000
END:DAYLIGHT
BEGIN:STANDARD
TZOFFSETFROM:-0400
TZOFFSETTO:-0500
TZNAME:EST
DTSTART:20251102T060000
END:STANDARD
BEGIN:DAYLIGHT
TZOFFSETFROM:-0500
TZOFFSETTO:-0400
TZNAME:EDT
DTSTART:20260308T070000
END:DAYLIGHT
BEGIN:STANDARD
TZOFFSETFROM:-0400
TZOFFSETTO:-0500
TZNAME:EST
DTSTART:20261101T060000
END:STANDARD
END:VTIMEZONE
BEGIN:VEVENT
DTSTART;TZID=America/New_York:20250511T120000
DTEND;TZID=America/New_York:20250511T200000
DTSTAMP:20260422T013329
CREATED:20240517T182947Z
LAST-MODIFIED:20250510T175806Z
UID:10005063-1746964800-1746993600@jenkinsons.com
SUMMARY:Mother's Day
DESCRIPTION:Celebrate Mother’s Day at Jenkinson’s Boardwalk on Sunday\, May 11th! Starting at 12:00pm\, Moms receive FREE ADMISSION\, with a paying child\, to the Ride Park\, Aquarium\, Mini Golf\, Adventure Lookout Ropes Course\, and Fun House ONLY. \nYou can pick up your free admission wristband for just the Rides and Ropes Course inside the Amusement Park next to the Kite Flyer ride. \nAll hours are weather permitting and subject to change.
URL:https://jenkinsons.com/event/mothers-day-2025/
LOCATION:Jenkinson’s Boardwalk\, 300 Ocean Ave\, Pt. Pleasant Beach\, NJ\, 08742\, United States
CATEGORIES:Events,Featured Events,Special Events
ATTACH;FMTTYPE=image/jpeg:https://jenks-uploads.nyc3.digitaloceanspaces.com/wp-content/uploads/2024/05/31111358/Mothers-Day-New-IG1080-x-1080.jpg
END:VEVENT
BEGIN:VEVENT
DTSTART;TZID=America/New_York:20250523T070000
DTEND;TZID=America/New_York:20250523T170000
DTSTAMP:20260422T013329
CREATED:20250502T131908Z
LAST-MODIFIED:20250502T131908Z
UID:10006141-1747983600-1748019600@jenkinsons.com
SUMMARY:Z100 Jumpstart to Summer
DESCRIPTION:SUMMER IS ALMOST HERE! Kick it off the right way with #Z100JumpstartToSummer brought to you by M&M’S USA May 23rd at Jenkinson’s Boardwalk!  \nSpecial performances by Lil Jon\, Zara Larsson\, and Dasha\, with DJ sets from Disco Fries\, ONE DUO\, and Pyro Tiger —not to mention a special beachfront broadcast from Elvis Duran Show.  \nThe best part?! this is a FREE show.  \nShow Details\n7am Doors for the LIVE Broadcast with Elvis Duran and the Morning Show\n10am Music Starts  \nAll ages.\nNo bags or chairs allowed.
URL:https://jenkinsons.com/event/z100-jumpstart-to-summer/
LOCATION:Jenkinson’s Boardwalk\, 300 Ocean Ave\, Pt. Pleasant Beach\, NJ\, 08742\, United States
CATEGORIES:Events,Featured Events,Special Events
ATTACH;FMTTYPE=image/jpeg:https://jenks-uploads.nyc3.digitaloceanspaces.com/wp-content/uploads/2025/05/31111357/494284767_1071799974975631_5836671435196773468_n-e1746191875994.jpg
END:VEVENT
END:VCALENDAR