BEGIN:VCALENDAR
VERSION:2.0
PRODID:-//Boardwalk - ECPv6.15.17.1//NONSGML v1.0//EN
CALSCALE:GREGORIAN
METHOD:PUBLISH
X-ORIGINAL-URL:https://jenkinsons.com
X-WR-CALDESC:Events for Boardwalk
REFRESH-INTERVAL;VALUE=DURATION:PT1H
X-Robots-Tag:noindex
X-PUBLISHED-TTL:PT1H
BEGIN:VTIMEZONE
TZID:America/New_York
BEGIN:DAYLIGHT
TZOFFSETFROM:-0500
TZOFFSETTO:-0400
TZNAME:EDT
DTSTART:20250309T070000
END:DAYLIGHT
BEGIN:STANDARD
TZOFFSETFROM:-0400
TZOFFSETTO:-0500
TZNAME:EST
DTSTART:20251102T060000
END:STANDARD
BEGIN:DAYLIGHT
TZOFFSETFROM:-0500
TZOFFSETTO:-0400
TZNAME:EDT
DTSTART:20260308T070000
END:DAYLIGHT
BEGIN:STANDARD
TZOFFSETFROM:-0400
TZOFFSETTO:-0500
TZNAME:EST
DTSTART:20261101T060000
END:STANDARD
BEGIN:DAYLIGHT
TZOFFSETFROM:-0500
TZOFFSETTO:-0400
TZNAME:EDT
DTSTART:20270314T070000
END:DAYLIGHT
BEGIN:STANDARD
TZOFFSETFROM:-0400
TZOFFSETTO:-0500
TZNAME:EST
DTSTART:20271107T060000
END:STANDARD
END:VTIMEZONE
BEGIN:VEVENT
DTSTART;TZID=America/New_York:20260426T110000
DTEND;TZID=America/New_York:20260426T180000
DTSTAMP:20260424T201500
CREATED:20250102T203838Z
LAST-MODIFIED:20260422T174125Z
UID:10005660-1777201200-1777226400@jenkinsons.com
SUMMARY:Scout Day
DESCRIPTION:Scout Day at Jenkinson’s Boardwalk Presented by Waste Management – Sunday\, April 26\nFill out the form below to Pre-Register! \n \nSCOUT DAY UPDATE: Due to the weather conditions\, Scout Day has been rescheduled to Sunday\, April 26th. \nScout Day presented by Waste Management returns to Jenkinson’s Boardwalk on Sunday\, April 26 for a day of service and fun in Point Pleasant Beach. Scouts are invited to participate in a beach sweep at 11:00am and will earn a commemorative Scout Day patch for taking part. Disposable gloves and garbage bags will be provided.\nEach registered scout will receive an all-day unlimited ride wristband following the cleanup. The Ride Park will be open from 12:00pm-6:00pm. Family members of registered scouts may purchase a $25 all-day unlimited ride wristband at check-in. \nOn-Site Check-In Locations:\n• Arnold Avenue Beach Gate\n• Forman Avenue Beach Gate (staffed until 1:00pm)\n• Aquarium Beach Gate\nScouts will receive clean-up materials\, patches\, and wristbands at check-in. \nParking is not included. Paid parking is available in Jenkinson’s lots\, as well as town metered lots and street parking. \nPre-registration is required to guarantee a patch. \n                            Scout Day Pre-Registration Form\n                            Scout Day returns to Jenkinson’s Boardwalk on Sunday\, April 26\, featuring a beach sweep at 11:00am followed by the Ride Park open from 12:00pm-6:00pm. Scouts can earn a commemorative patch for participating\, and family members may purchase a $25 all-day unlimited ride wristband.\n                        \n                        Email(Required)\n                            \n                        Troop/Pack/Organization Number(Required)Are you Registering a Troop/Pack or a Family?(Required)\n					\n					Troop/Pack\n					\n					Family or Individual Scout\n			Name(Required)\n                                                    First Name of Person Registering\n                                                    \n                                                            Last Name of Person Registering\n                                                            \n                        You are the:(Required)\n					\n					Troop Leader\n					\n					Parent\n					\n					Individual Scout\n					\n					Other\n			Estimated number of Scouts attending:(Required)1-56-1011-1516-2020+Estimated number of additional family members attending for $25 Unlimited Ride Wristbands if applicable (does not include Scouts)(Required)12345+I acknowledge that by subscribing to our email list\, you agree to receive promotional and informative emails from Jenkinson’s Boardwalk and are free to opt-out at any time.(Required)\n								\n								Yes
URL:https://jenkinsons.com/event/scout-day/
LOCATION:Jenkinson’s Boardwalk\, 300 Ocean Ave\, Pt. Pleasant Beach\, NJ\, 08742\, United States
CATEGORIES:Events,Featured Events,Rides
ATTACH;FMTTYPE=image/jpeg:https://jenks-uploads.nyc3.digitaloceanspaces.com/wp-content/uploads/2025/01/22130616/31317-ScoutDay-SQ-UPDATE-4.22.jpg
END:VEVENT
END:VCALENDAR