BEGIN:VCALENDAR
VERSION:2.0
PRODID:-//Boardwalk - ECPv6.15.17.1//NONSGML v1.0//EN
CALSCALE:GREGORIAN
METHOD:PUBLISH
X-ORIGINAL-URL:https://jenkinsons.com
X-WR-CALDESC:Events for Boardwalk
REFRESH-INTERVAL;VALUE=DURATION:PT1H
X-Robots-Tag:noindex
X-PUBLISHED-TTL:PT1H
BEGIN:VTIMEZONE
TZID:America/New_York
BEGIN:DAYLIGHT
TZOFFSETFROM:-0500
TZOFFSETTO:-0400
TZNAME:EDT
DTSTART:20250309T070000
END:DAYLIGHT
BEGIN:STANDARD
TZOFFSETFROM:-0400
TZOFFSETTO:-0500
TZNAME:EST
DTSTART:20251102T060000
END:STANDARD
BEGIN:DAYLIGHT
TZOFFSETFROM:-0500
TZOFFSETTO:-0400
TZNAME:EDT
DTSTART:20260308T070000
END:DAYLIGHT
BEGIN:STANDARD
TZOFFSETFROM:-0400
TZOFFSETTO:-0500
TZNAME:EST
DTSTART:20261101T060000
END:STANDARD
BEGIN:DAYLIGHT
TZOFFSETFROM:-0500
TZOFFSETTO:-0400
TZNAME:EDT
DTSTART:20270314T070000
END:DAYLIGHT
BEGIN:STANDARD
TZOFFSETFROM:-0400
TZOFFSETTO:-0500
TZNAME:EST
DTSTART:20271107T060000
END:STANDARD
END:VTIMEZONE
BEGIN:VEVENT
DTSTART;TZID=America/New_York:20260307T130000
DTEND;TZID=America/New_York:20260307T150000
DTSTAMP:20260425T062042
CREATED:20250124T200817Z
LAST-MODIFIED:20260209T190104Z
UID:10005694-1772888400-1772895600@jenkinsons.com
SUMMARY:Job Fair
DESCRIPTION:Join Our Team for the 2026 Season!\nLooking for an exciting job opportunity by the beach? Jenkinson’s Boardwalk is hiring! We’re hosting our annual Job Fair on Saturday\, March 7 from 1:00 PM to 3:00 PM at the Boardwalk Bar & Grill\, located on the boardwalk with the physical address of 401 Boardwalk\, Point Pleasant Beach\, NJ 08742. With over 400+ job openings\, there’s a perfect summer or part time job is waiting for you! \nEvent Details\nDate: Saturday\, March 7\nTime: 1:00 PM – 3:00 PM\nLocation: Boardwalk Bar & Grill\, 401 Boardwalk\, Point Pleasant Beach\, NJ 08742 \nWhy Work at Jenkinson’s Boardwalk?\n✅Competitive Wages\n✅Scholarship Opportunities\n✅Fun Beach Atmosphere\n✅Employee Events\n✅Employee Perks\, and more! \nHow to Apply\n• Attend the Job Fair on Saturday\, March 7 any time from 1:00pm to 3:00pm\n• For an online application\, Text “JENKSJOBS” to 855-544-0779 for more details.\n• Visit jenkinsons.com/joinourteam for more information or to apply online \nDon’t miss this opportunity to join one of the Jersey Shore’s most exciting workplaces. We can’t wait to meet you!
URL:https://jenkinsons.com/event/job-fair/
LOCATION:Boardwalk Bar and Grill\, 401 Boardwalk\, Point Pleasant Beach\, New Jersey\, 08742
CATEGORIES:Events,Featured Events,Special Events
ATTACH;FMTTYPE=image/png:https://jenks-uploads.nyc3.digitaloceanspaces.com/wp-content/uploads/2025/01/09135617/Job-Fair-OPT-1-Website-SQ.png
END:VEVENT
BEGIN:VEVENT
DTSTART;TZID=America/New_York:20260314T120000
DTEND;TZID=America/New_York:20260314T170000
DTSTAMP:20260425T062042
CREATED:20250121T170745Z
LAST-MODIFIED:20260312T210535Z
UID:10006357-1773489600-1773507600@jenkinsons.com
SUMMARY:Amusement Park Opening Weekend
DESCRIPTION:Kick off the season with us at the Jenkinson’s Amusement Park! Join us on Saturday\, March 14\, and Sunday\, March 15 from 12:00 PM to 5:00 PM for our exciting Opening Weekend. While we’re starting the fun early with limited kiddie rides available\, it’s the perfect chance to enjoy the start of springtime at the boardwalk. \nThe following rides are scheduled to be open for Opening Weekend: Fire Engines\, Convoy\, Doggie Dash\, Kite Flyer\, Dizzy Dragons\, Bulgy Fish\, Elephants\, Tea Cups\, Motor Jumps\, Samba Balloons\, Flying Buccaneers\, and Shark Escape. \nAll hours are weather permitting and subject to change. Closing time can vary on weather and crowd size.
URL:https://jenkinsons.com/event/amusement-park-opening-weekend/2026-03-14/
LOCATION:Jenkinson’s Amusement Park\, 500 Boardwalk\, Pt. Pleasant Beach\, NJ\, 08742\, United States
CATEGORIES:Events,Featured Events,Rides
ATTACH;FMTTYPE=image/jpeg:https://jenks-uploads.nyc3.digitaloceanspaces.com/wp-content/uploads/2025/01/31111324/31239-OpeningWeekend-SQ.jpg
END:VEVENT
BEGIN:VEVENT
DTSTART;TZID=America/New_York:20260315T120000
DTEND;TZID=America/New_York:20260315T170000
DTSTAMP:20260425T062042
CREATED:20250121T170745Z
LAST-MODIFIED:20260312T210535Z
UID:10006356-1773576000-1773594000@jenkinsons.com
SUMMARY:Amusement Park Opening Weekend
DESCRIPTION:Kick off the season with us at the Jenkinson’s Amusement Park! Join us on Saturday\, March 14\, and Sunday\, March 15 from 12:00 PM to 5:00 PM for our exciting Opening Weekend. While we’re starting the fun early with limited kiddie rides available\, it’s the perfect chance to enjoy the start of springtime at the boardwalk. \nThe following rides are scheduled to be open for Opening Weekend: Fire Engines\, Convoy\, Doggie Dash\, Kite Flyer\, Dizzy Dragons\, Bulgy Fish\, Elephants\, Tea Cups\, Motor Jumps\, Samba Balloons\, Flying Buccaneers\, and Shark Escape. \nAll hours are weather permitting and subject to change. Closing time can vary on weather and crowd size.
URL:https://jenkinsons.com/event/amusement-park-opening-weekend/2026-03-15/
LOCATION:Jenkinson’s Amusement Park\, 500 Boardwalk\, Pt. Pleasant Beach\, NJ\, 08742\, United States
CATEGORIES:Events,Featured Events,Rides
ATTACH;FMTTYPE=image/jpeg:https://jenks-uploads.nyc3.digitaloceanspaces.com/wp-content/uploads/2025/01/31111324/31239-OpeningWeekend-SQ.jpg
END:VEVENT
BEGIN:VEVENT
DTSTART;TZID=America/New_York:20260328T120000
DTEND;TZID=America/New_York:20260328T150000
DTSTAMP:20260425T062042
CREATED:20250318T153906Z
LAST-MODIFIED:20260217T200209Z
UID:10006342-1774699200-1774710000@jenkinsons.com
SUMMARY:Bunny Lunch at Oceanside Dining
DESCRIPTION:Hop Into Spring at Bunny Lunch!  \nCelebrate the season with a fun-filled Bunny Lunch at Oceanside Dining! Enjoy a delicious meal with family and friends while the Easter Bunny makes special appearances at your table for sweet springtime greetings and adorable photo opportunities.  \nJoin us on March 28\, March 29\, and April 5 from 12–3PM for an afternoon full of smiles\, laughter and festive fun. It’s the perfect way to make Easter memories by the sea! \nNo reservations needed — just hop on over!\nYou’ll find Oceanside Dining inside the Pavilion\, next to the Aquarium. \nBring your appetite and your camera — the Bunny can’t wait to see you!
URL:https://jenkinsons.com/event/bunny-lunch-at-oceanside-dining/2026-03-28/
LOCATION:Jenkinson’s Boardwalk\, 300 Ocean Ave\, Pt. Pleasant Beach\, NJ\, 08742\, United States
CATEGORIES:Events,Special Events
ATTACH;FMTTYPE=image/jpeg:https://jenks-uploads.nyc3.digitaloceanspaces.com/wp-content/uploads/2026/01/31111324/31191-BunnyLunch-SQ.jpg
END:VEVENT
BEGIN:VEVENT
DTSTART;TZID=America/New_York:20260329T120000
DTEND;TZID=America/New_York:20260329T150000
DTSTAMP:20260425T062042
CREATED:20250318T153906Z
LAST-MODIFIED:20260217T200209Z
UID:10006343-1774785600-1774796400@jenkinsons.com
SUMMARY:Bunny Lunch at Oceanside Dining
DESCRIPTION:Hop Into Spring at Bunny Lunch!  \nCelebrate the season with a fun-filled Bunny Lunch at Oceanside Dining! Enjoy a delicious meal with family and friends while the Easter Bunny makes special appearances at your table for sweet springtime greetings and adorable photo opportunities.  \nJoin us on March 28\, March 29\, and April 5 from 12–3PM for an afternoon full of smiles\, laughter and festive fun. It’s the perfect way to make Easter memories by the sea! \nNo reservations needed — just hop on over!\nYou’ll find Oceanside Dining inside the Pavilion\, next to the Aquarium. \nBring your appetite and your camera — the Bunny can’t wait to see you!
URL:https://jenkinsons.com/event/bunny-lunch-at-oceanside-dining/2026-03-29/
LOCATION:Jenkinson’s Boardwalk\, 300 Ocean Ave\, Pt. Pleasant Beach\, NJ\, 08742\, United States
CATEGORIES:Events,Special Events
ATTACH;FMTTYPE=image/jpeg:https://jenks-uploads.nyc3.digitaloceanspaces.com/wp-content/uploads/2026/01/31111324/31191-BunnyLunch-SQ.jpg
END:VEVENT
BEGIN:VEVENT
DTSTART;TZID=America/New_York:20260329T130000
DTEND;TZID=America/New_York:20260329T140000
DTSTAMP:20260425T062042
CREATED:20240102T152114Z
LAST-MODIFIED:20260328T170138Z
UID:10004815-1774789200-1774792800@jenkinsons.com
SUMMARY:Egg Hunt
DESCRIPTION:Join us for the Jenkinson’s Boardwalk Annual Easter Egg Hunt on Sunday\, March 29 at 1pm! Known as one of the best Egg Hunts at the Jersey Shore\, prizes include games\, ride & food coupons\, and so much more! \nLeave your beach toys at home\, you’ll only need your hands to dig away and find the eggs! \nThe fun is open to children up to 10 years old\, age groups will be in the following locations: \n0-4 years – on the beach in front of the Aquarium\n5-6 & 7-8 – on the beach in front of Frank’s Fun Center\n9-10 – on the beach in front of the Amusement Park\nAccessible/Special Needs Egg Hunt at Adventure Lookout Ropes Course (No Age Limit). \n 
URL:https://jenkinsons.com/event/egg-hunt-2/
LOCATION:Jenkinson’s Boardwalk\, 300 Ocean Ave\, Pt. Pleasant Beach\, NJ\, 08742\, United States
CATEGORIES:Events,Featured Events
ATTACH;FMTTYPE=image/jpeg:https://jenks-uploads.nyc3.digitaloceanspaces.com/wp-content/uploads/2026/01/31111324/31224-EggHunt-SQ.jpg
END:VEVENT
END:VCALENDAR