BEGIN:VCALENDAR
VERSION:2.0
PRODID:-//Boardwalk - ECPv6.15.17.1//NONSGML v1.0//EN
CALSCALE:GREGORIAN
METHOD:PUBLISH
X-WR-CALNAME:Boardwalk
X-ORIGINAL-URL:https://jenkinsons.com
X-WR-CALDESC:Events for Boardwalk
REFRESH-INTERVAL;VALUE=DURATION:PT1H
X-Robots-Tag:noindex
X-PUBLISHED-TTL:PT1H
BEGIN:VTIMEZONE
TZID:America/New_York
BEGIN:DAYLIGHT
TZOFFSETFROM:-0500
TZOFFSETTO:-0400
TZNAME:EDT
DTSTART:20240310T070000
END:DAYLIGHT
BEGIN:STANDARD
TZOFFSETFROM:-0400
TZOFFSETTO:-0500
TZNAME:EST
DTSTART:20241103T060000
END:STANDARD
BEGIN:DAYLIGHT
TZOFFSETFROM:-0500
TZOFFSETTO:-0400
TZNAME:EDT
DTSTART:20250309T070000
END:DAYLIGHT
BEGIN:STANDARD
TZOFFSETFROM:-0400
TZOFFSETTO:-0500
TZNAME:EST
DTSTART:20251102T060000
END:STANDARD
BEGIN:DAYLIGHT
TZOFFSETFROM:-0500
TZOFFSETTO:-0400
TZNAME:EDT
DTSTART:20260308T070000
END:DAYLIGHT
BEGIN:STANDARD
TZOFFSETFROM:-0400
TZOFFSETTO:-0500
TZNAME:EST
DTSTART:20261101T060000
END:STANDARD
END:VTIMEZONE
BEGIN:VEVENT
DTSTART;TZID=America/New_York:20251207T110000
DTEND;TZID=America/New_York:20251207T163000
DTSTAMP:20260424T065238
CREATED:20251130T135625Z
LAST-MODIFIED:20251203T211942Z
UID:10006339-1765105200-1765125000@jenkinsons.com
SUMMARY:Photos with Santa on the Amusement Park Train
DESCRIPTION:FREE Photos with Santa on the Train!\nDecember 7 • 11:00am-4:30pm\nWe’ve extended the hours and added this extra day for even more holiday cheer at Jenkinson’s Boardwalk in Point Pleasant Beach!\nNEW this year: one of your favorite boardwalk rides\, the Train\, transforms into a festive holiday photo stop. Bring the family for FREE photos with Santa right on the Amusement Park Train and capture a special holiday memory at the Jersey Shore.\nPlease note: the train will be stationary for photos and will not be running.\n\nRides Open During the Event\n(Weather permitting)Enjoy four kiddie rides while you’re here:\n\n\nTea Cups\n\n\nDoggie Dash\n\n\nFlying Buccaneers\n\n\nSamba Balloons\n\n\nAdults ride FREE with a paid child admission.\n\nEnjoy festive Santa photos\, limited kiddie rides\, arcade fun\, and exclusive Holiday Sale items inside the park. Plus\, grab a drink from our friends at Last Wave Brewing Company!\nInclement Weather Plan: If needed\, Santa will move inside the South Arcade – the fun continues rain or shine!(If moved indoors\, the train photo experience will not be available.)\n                            Photos With Santa on the Ride Park Train Pre-Registration Form\n                            \n                        \n                        Which Day Will You Be Attending?(Must Select at Least One)\n								\n								December 7\n							Email(Required)\n                            \n                        Name(Required)\n                                                    First\n                                                    \n                                                            Last\n                                                            \n                        Home ZIP Code(Required)Estimated number of people attending\, including yourself (this number can change we just need an estimate)(Required)12345678910+I acknowledge that by subscribing to our email list\, you agree to receive promotional and informative emails from Jenkinson’s Boardwalk and are free to opt-out at any time.(Required)\n								\n								Yes
URL:https://jenkinsons.com/event/photos-with-santa-on-the-amusement-park-train-3/
LOCATION:Jenkinson’s Boardwalk\, 300 Ocean Ave\, Pt. Pleasant Beach\, NJ\, 08742\, United States
CATEGORIES:Events,Featured Events,Rides
ATTACH;FMTTYPE=image/jpeg:https://jenks-uploads.nyc3.digitaloceanspaces.com/wp-content/uploads/2025/09/31111328/30577-SantaPhotos-V3-SQ.jpg
END:VEVENT
BEGIN:VEVENT
DTSTART;TZID=America/New_York:20251207T110000
DTEND;TZID=America/New_York:20251207T163000
DTSTAMP:20260424T065238
CREATED:20251204T173739Z
LAST-MODIFIED:20251204T173739Z
UID:10006341-1765105200-1765125000@jenkinsons.com
SUMMARY:Ride Park Hours 11:00am-4:30pm
DESCRIPTION:The Ride Park will be open (Sunday\, December 7) from 11:00am–4:30pm during our FREE Photos with Santa on the Train event.Enjoy four kiddie rides\, weather permitting: Tea Cups\, Doggie Dash\, Flying Buccaneers\, and Samba Balloons. Adults ride FREE with a paid child admission. \nAll hours are weather permitting and subject to change.
URL:https://jenkinsons.com/event/ride-park-hours-1100am-430pm/
LOCATION:Jenkinson’s Boardwalk\, 300 Ocean Ave\, Pt. Pleasant Beach\, NJ\, 08742\, United States
CATEGORIES:Rides
END:VEVENT
END:VCALENDAR