BEGIN:VCALENDAR
VERSION:2.0
PRODID:-//Boardwalk - ECPv6.15.17.1//NONSGML v1.0//EN
CALSCALE:GREGORIAN
METHOD:PUBLISH
X-ORIGINAL-URL:https://jenkinsons.com
X-WR-CALDESC:Events for Boardwalk
REFRESH-INTERVAL;VALUE=DURATION:PT1H
X-Robots-Tag:noindex
X-PUBLISHED-TTL:PT1H
BEGIN:VTIMEZONE
TZID:America/New_York
BEGIN:DAYLIGHT
TZOFFSETFROM:-0500
TZOFFSETTO:-0400
TZNAME:EDT
DTSTART:20240310T070000
END:DAYLIGHT
BEGIN:STANDARD
TZOFFSETFROM:-0400
TZOFFSETTO:-0500
TZNAME:EST
DTSTART:20241103T060000
END:STANDARD
BEGIN:DAYLIGHT
TZOFFSETFROM:-0500
TZOFFSETTO:-0400
TZNAME:EDT
DTSTART:20250309T070000
END:DAYLIGHT
BEGIN:STANDARD
TZOFFSETFROM:-0400
TZOFFSETTO:-0500
TZNAME:EST
DTSTART:20251102T060000
END:STANDARD
BEGIN:DAYLIGHT
TZOFFSETFROM:-0500
TZOFFSETTO:-0400
TZNAME:EDT
DTSTART:20260308T070000
END:DAYLIGHT
BEGIN:STANDARD
TZOFFSETFROM:-0400
TZOFFSETTO:-0500
TZNAME:EST
DTSTART:20261101T060000
END:STANDARD
END:VTIMEZONE
BEGIN:VEVENT
DTSTART;TZID=America/New_York:20250617T140000
DTEND;TZID=America/New_York:20250617T200000
DTSTAMP:20260424T094045
CREATED:20250616T165317Z
LAST-MODIFIED:20250617T141252Z
UID:10005766-1750168800-1750190400@jenkinsons.com
SUMMARY:Amusement Park Hours 2pm - 8pm
DESCRIPTION:The Jenkinson’s Amusement Park will be today from 2:00pm to 8:00pm. \nPlease note: all hours are weather permitting and subject to change. Closing time varies based on sudden weather or crowd size.
URL:https://jenkinsons.com/event/amusement-park-hours-12pm-10pm-6/
LOCATION:Jenkinson’s Boardwalk\, 300 Ocean Ave\, Pt. Pleasant Beach\, NJ\, 08742\, United States
CATEGORIES:Rides
END:VEVENT
BEGIN:VEVENT
DTSTART;TZID=America/New_York:20250617T140000
DTEND;TZID=America/New_York:20250617T200000
DTSTAMP:20260424T094045
CREATED:20250616T165401Z
LAST-MODIFIED:20250617T141205Z
UID:10006057-1750168800-1750190400@jenkinsons.com
SUMMARY:Unlimited Rides Wristband Day
DESCRIPTION:Wristband Day at the Jenkinson’s Amusement Park! 🎡\nLooking for the ultimate family fun at the Jersey Shore? Introducing Wristband Day\, an amazing deal for the 2025 season at Jenkinson’s Boardwalk in Point Pleasant Beach! \nEvery Tuesday from Memorial Day through Labor Day\, grab an All-Day & Night Wristband for just $25 — that’s unlimited rides and access to the Adventure Lookout Ropes Course for one unbeatable price. Wristbands can only be purchased at any in-person ticket booth\, not at one of our self-service kiosks. \nWhether you’re making memories with the kids or catching thrills with friends\, Wristband Day is your ticket to nonstop summer fun right on the boardwalk. \nWhere: Jenkinson’s Amusement Park\, Point Pleasant BeachWhen: Every Tuesday\, Open to CloseCost: $25 per personIncludes: Unlimited rides + Adventure Lookout Ropes Course \nBig savings. Bigger fun. Plan your visit now and make your summer Tuesdays unforgettable at Jenkinson’s! \n*All Amusement Park hours are weather permitting and subject to change. The Amusement Park closing time may vary based on crowd size and weather. 
URL:https://jenkinsons.com/event/unlimited-rides-wristband-day-3/
LOCATION:Jenkinson’s Amusement Park\, 500 Boardwalk\, Pt. Pleasant Beach\, NJ\, 08742\, United States
CATEGORIES:Rides,Weekly
ATTACH;FMTTYPE=image/jpeg:https://jenks-uploads.nyc3.digitaloceanspaces.com/wp-content/uploads/2025/04/31111412/29272-UnlimitedRide-Day-SQ.jpg
END:VEVENT
BEGIN:VEVENT
DTSTART;TZID=America/New_York:20250617T170000
DTEND;TZID=America/New_York:20250617T213000
DTSTAMP:20260424T094045
CREATED:20250424T201933Z
LAST-MODIFIED:20250605T001630Z
UID:10006132-1750179600-1750195800@jenkinsons.com
SUMMARY:Mets Watch Party at Jenks Club
DESCRIPTION:Join us Tuesday\, June 17th for a Mets Watch Party with Liberty Coca-Cola Beverages featuring Giveaways\, Mascot Appearances Games and more starting at 5pm in Jenks Club (in the Pavilion)! \nGame: New York Mets at Atlanta Braves 7:15pm game
URL:https://jenkinsons.com/event/mets-watch-party-at-jenks-club/
LOCATION:Jenkinson’s Boardwalk\, 300 Ocean Ave\, Pt. Pleasant Beach\, NJ\, 08742\, United States
CATEGORIES:Events,Featured Events,Special Events
ATTACH;FMTTYPE=image/jpeg:https://jenks-uploads.nyc3.digitaloceanspaces.com/wp-content/uploads/2025/04/31111359/mets.jpg
END:VEVENT
END:VCALENDAR