BEGIN:VCALENDAR
VERSION:2.0
PRODID:-//Boardwalk - ECPv6.15.17.1//NONSGML v1.0//EN
CALSCALE:GREGORIAN
METHOD:PUBLISH
X-WR-CALNAME:Boardwalk
X-ORIGINAL-URL:https://jenkinsons.com
X-WR-CALDESC:Events for Boardwalk
REFRESH-INTERVAL;VALUE=DURATION:PT1H
X-Robots-Tag:noindex
X-PUBLISHED-TTL:PT1H
BEGIN:VTIMEZONE
TZID:America/New_York
BEGIN:DAYLIGHT
TZOFFSETFROM:-0500
TZOFFSETTO:-0400
TZNAME:EDT
DTSTART:20230312T070000
END:DAYLIGHT
BEGIN:STANDARD
TZOFFSETFROM:-0400
TZOFFSETTO:-0500
TZNAME:EST
DTSTART:20231105T060000
END:STANDARD
BEGIN:DAYLIGHT
TZOFFSETFROM:-0500
TZOFFSETTO:-0400
TZNAME:EDT
DTSTART:20240310T070000
END:DAYLIGHT
BEGIN:STANDARD
TZOFFSETFROM:-0400
TZOFFSETTO:-0500
TZNAME:EST
DTSTART:20241103T060000
END:STANDARD
BEGIN:DAYLIGHT
TZOFFSETFROM:-0500
TZOFFSETTO:-0400
TZNAME:EDT
DTSTART:20250309T070000
END:DAYLIGHT
BEGIN:STANDARD
TZOFFSETFROM:-0400
TZOFFSETTO:-0500
TZNAME:EST
DTSTART:20251102T060000
END:STANDARD
END:VTIMEZONE
BEGIN:VEVENT
DTSTART;TZID=America/New_York:20240524T100000
DTEND;TZID=America/New_York:20240524T160000
DTSTAMP:20260422T055529
CREATED:20240509T171744Z
LAST-MODIFIED:20240509T174705Z
UID:10005062-1716544800-1716566400@jenkinsons.com
SUMMARY:Jumpstart to Summer
DESCRIPTION:Summer just got a bit sweeter! Don’t miss Z100 Jumpstart to Summer brought to you by M&M’S USA on May 24th\, 2024 at Jenkinson’s Boardwalk! Special performances by Shinedown\, Jax\, Knox\, Isabel LaRosa\, Jake Thistle\, and DJ Set by Kyle Cooke!\nDoors are at 10am\, show at 11am + this is a FREE show.  \nCheck out Z100.com/jumpstart for more info! ☀️💘🎶
URL:https://jenkinsons.com/event/jumpstart-to-summer/
LOCATION:Jenkinson’s Boardwalk\, 300 Ocean Ave\, Pt. Pleasant Beach\, NJ\, 08742\, United States
CATEGORIES:Events,Featured Events,Special Events
END:VEVENT
BEGIN:VEVENT
DTSTART;TZID=America/New_York:20240524T120000
DTEND;TZID=America/New_York:20240524T230000
DTSTAMP:20260422T055529
CREATED:20240331T030218Z
LAST-MODIFIED:20240331T031346Z
UID:10004918-1716552000-1716591600@jenkinsons.com
SUMMARY:Ride Park Hours
DESCRIPTION:The Jenkinson’s Amusement Park will be open from 12:00pm to 11:00pm! \n*weather permitting. For any weather related updates: we will keep you up-to-date on our social media channels @JenksBoardwalk
URL:https://jenkinsons.com/event/ride-park-hours-7/2024-05-24/
LOCATION:Jenkinson’s Boardwalk\, 300 Ocean Ave\, Pt. Pleasant Beach\, NJ\, 08742\, United States
CATEGORIES:Rides
END:VEVENT
BEGIN:VEVENT
DTSTART;TZID=America/New_York:20240524T203000
DTEND;TZID=America/New_York:20240524T223000
DTSTAMP:20260422T055529
CREATED:20240503T005428Z
LAST-MODIFIED:20260401T105013Z
UID:10005057-1716582600-1716589800@jenkinsons.com
SUMMARY:Karaoke Night at the Boardwalk Bar and Grill
DESCRIPTION:Warm up your vocal chords and get ready to sing the night away at Karaoke Night at the Boardwalk Bar and Grill! This two story rooftop bar and restaurant is located on boardwalk to the left of Joey Tomato’s. Karaoke Night begins approximately at 8:30pm and will be run by DJ Mike. Enjoy various drink specials all throughout the night! \nTo visit the Boardwalk Bar and Grill’s page\,  please click HERE
URL:https://jenkinsons.com/event/karaoke-night-at-the-boardwalk-bar-and-grill/2024-05-24/
LOCATION:Jenkinson’s Boardwalk\, 300 Ocean Ave\, Pt. Pleasant Beach\, NJ\, 08742\, United States
CATEGORIES:Events
ATTACH;FMTTYPE=image/jpeg:https://jenks-uploads.nyc3.digitaloceanspaces.com/wp-content/uploads/2024/05/31111552/microphone-1000px-x-1000px.jpg
END:VEVENT
END:VCALENDAR