BEGIN:VCALENDAR
VERSION:2.0
PRODID:-//Aquarium - ECPv6.15.17.1//NONSGML v1.0//EN
CALSCALE:GREGORIAN
METHOD:PUBLISH
X-ORIGINAL-URL:https://jenkinsons.com/aquarium
X-WR-CALDESC:Events for Aquarium
REFRESH-INTERVAL;VALUE=DURATION:PT1H
X-Robots-Tag:noindex
X-PUBLISHED-TTL:PT1H
BEGIN:VTIMEZONE
TZID:America/New_York
BEGIN:DAYLIGHT
TZOFFSETFROM:-0500
TZOFFSETTO:-0400
TZNAME:EDT
DTSTART:20240310T070000
END:DAYLIGHT
BEGIN:STANDARD
TZOFFSETFROM:-0400
TZOFFSETTO:-0500
TZNAME:EST
DTSTART:20241103T060000
END:STANDARD
BEGIN:DAYLIGHT
TZOFFSETFROM:-0500
TZOFFSETTO:-0400
TZNAME:EDT
DTSTART:20250309T070000
END:DAYLIGHT
BEGIN:STANDARD
TZOFFSETFROM:-0400
TZOFFSETTO:-0500
TZNAME:EST
DTSTART:20251102T060000
END:STANDARD
BEGIN:DAYLIGHT
TZOFFSETFROM:-0500
TZOFFSETTO:-0400
TZNAME:EDT
DTSTART:20260308T070000
END:DAYLIGHT
BEGIN:STANDARD
TZOFFSETFROM:-0400
TZOFFSETTO:-0500
TZNAME:EST
DTSTART:20261101T060000
END:STANDARD
END:VTIMEZONE
BEGIN:VEVENT
DTSTART;TZID=America/New_York:20250914T100000
DTEND;TZID=America/New_York:20250914T180000
DTSTAMP:20260425T201950
CREATED:20250814T202705Z
LAST-MODIFIED:20250814T202705Z
UID:18954-1757844000-1757872800@jenkinsons.com
SUMMARY:10am - 6pm
DESCRIPTION:
URL:https://jenkinsons.com/aquarium/event/10am-6pm-22/
LOCATION:The Aquarium\, 300 Ocean Ave\, Pt. Pleasant Beach\, NJ\, 08742\, United States
CATEGORIES:Events,Hours of Operation
END:VEVENT
BEGIN:VEVENT
DTSTART;TZID=America/New_York:20250915T100000
DTEND;TZID=America/New_York:20250919T170000
DTSTAMP:20260425T201950
CREATED:20250814T202744Z
LAST-MODIFIED:20250814T202744Z
UID:18956-1757930400-1758301200@jenkinsons.com
SUMMARY:10am - 5pm
DESCRIPTION:
URL:https://jenkinsons.com/aquarium/event/10am-5pm-38/
LOCATION:The Aquarium\, 300 Ocean Ave\, Pt. Pleasant Beach\, NJ\, 08742\, United States
CATEGORIES:Events,Hours of Operation
END:VEVENT
BEGIN:VEVENT
DTSTART;TZID=America/New_York:20250918T140000
DTEND;TZID=America/New_York:20250918T150000
DTSTAMP:20260425T201950
CREATED:20241010T135931Z
LAST-MODIFIED:20250822T005125Z
UID:17262-1758204000-1758207600@jenkinsons.com
SUMMARY:Tea by the Sea
DESCRIPTION:Join us for afternoon tea and snacks\, while learning about some of our ambassador animals! This does include all day admission. \n$18 per person (Ages 55 and up ONLY) \nTo Register Click Here! or call 732-899-1659! \n 
URL:https://jenkinsons.com/aquarium/event/tea-by-the-sea-6/
LOCATION:The Aquarium\, 300 Ocean Ave\, Pt. Pleasant Beach\, NJ\, 08742\, United States
CATEGORIES:Educational Programs,Events,Hours of Operation
ATTACH;FMTTYPE=image/png:https://jenks-uploads.nyc3.digitaloceanspaces.com/wp-content/uploads/sites/2/2025/08/31111514/Tea-by-the-Sea-new.png
END:VEVENT
BEGIN:VEVENT
DTSTART;TZID=America/New_York:20250920T090000
DTEND;TZID=America/New_York:20250920T100000
DTSTAMP:20260425T201950
CREATED:20240821T130419Z
LAST-MODIFIED:20250822T005529Z
UID:17110-1758358800-1758362400@jenkinsons.com
SUMMARY:Sensory Saturday
DESCRIPTION:Guests with autism spectrum disorder\, sensory processing or cognitive challenges\, as well as guests requiring assistance for disabilities are invited to explore the aquarium before we open to the public. To create a sensory friendly environment there will be a decreased noise level\, limited visual stimulation and less crowding. \nGeneral admission applies.
URL:https://jenkinsons.com/aquarium/event/sensory-saturday-8/
LOCATION:The Aquarium\, 300 Ocean Ave\, Pt. Pleasant Beach\, NJ\, 08742\, United States
CATEGORIES:Events,Hours of Operation,Special Events
ATTACH;FMTTYPE=image/png:https://jenks-uploads.nyc3.digitaloceanspaces.com/wp-content/uploads/sites/2/2025/08/31111514/Sensory-Saturdays-Square.png
END:VEVENT
BEGIN:VEVENT
DTSTART;TZID=America/New_York:20250920T100000
DTEND;TZID=America/New_York:20250920T190000
DTSTAMP:20260425T201950
CREATED:20250814T202833Z
LAST-MODIFIED:20250814T202833Z
UID:18958-1758362400-1758394800@jenkinsons.com
SUMMARY:10am - 7pm
DESCRIPTION:
URL:https://jenkinsons.com/aquarium/event/10am-7pm-14/
LOCATION:The Aquarium\, 300 Ocean Ave\, Pt. Pleasant Beach\, NJ\, 08742\, United States
CATEGORIES:Events,Hours of Operation
END:VEVENT
END:VCALENDAR