BEGIN:VCALENDAR
VERSION:2.0
PRODID:-//Aquarium - ECPv6.15.17.1//NONSGML v1.0//EN
CALSCALE:GREGORIAN
METHOD:PUBLISH
X-ORIGINAL-URL:https://jenkinsons.com/aquarium
X-WR-CALDESC:Events for Aquarium
REFRESH-INTERVAL;VALUE=DURATION:PT1H
X-Robots-Tag:noindex
X-PUBLISHED-TTL:PT1H
BEGIN:VTIMEZONE
TZID:America/New_York
BEGIN:DAYLIGHT
TZOFFSETFROM:-0500
TZOFFSETTO:-0400
TZNAME:EDT
DTSTART:20230312T070000
END:DAYLIGHT
BEGIN:STANDARD
TZOFFSETFROM:-0400
TZOFFSETTO:-0500
TZNAME:EST
DTSTART:20231105T060000
END:STANDARD
BEGIN:DAYLIGHT
TZOFFSETFROM:-0500
TZOFFSETTO:-0400
TZNAME:EDT
DTSTART:20240310T070000
END:DAYLIGHT
BEGIN:STANDARD
TZOFFSETFROM:-0400
TZOFFSETTO:-0500
TZNAME:EST
DTSTART:20241103T060000
END:STANDARD
BEGIN:DAYLIGHT
TZOFFSETFROM:-0500
TZOFFSETTO:-0400
TZNAME:EDT
DTSTART:20250309T070000
END:DAYLIGHT
BEGIN:STANDARD
TZOFFSETFROM:-0400
TZOFFSETTO:-0500
TZNAME:EST
DTSTART:20251102T060000
END:STANDARD
BEGIN:DAYLIGHT
TZOFFSETFROM:-0500
TZOFFSETTO:-0400
TZNAME:EDT
DTSTART:20260308T070000
END:DAYLIGHT
BEGIN:STANDARD
TZOFFSETFROM:-0400
TZOFFSETTO:-0500
TZNAME:EST
DTSTART:20261101T060000
END:STANDARD
END:VTIMEZONE
BEGIN:VEVENT
DTSTART;TZID=America/New_York:20241229T100000
DTEND;TZID=America/New_York:20241231T170000
DTSTAMP:20260420T185326
CREATED:20241118T165049Z
LAST-MODIFIED:20241209T213036Z
UID:17426-1735466400-1735664400@jenkinsons.com
SUMMARY:10am - 5pm
DESCRIPTION:
URL:https://jenkinsons.com/aquarium/event/10am-5pm-26/
LOCATION:The Aquarium\, 300 Ocean Ave\, Pt. Pleasant Beach\, NJ\, 08742\, United States
CATEGORIES:Events,Hours of Operation
END:VEVENT
BEGIN:VEVENT
DTSTART;TZID=America/New_York:20241230T080000
DTEND;TZID=America/New_York:20241230T110000
DTSTAMP:20260420T185326
CREATED:20240731T190251Z
LAST-MODIFIED:20241126T220255Z
UID:16997-1735545600-1735556400@jenkinsons.com
SUMMARY:Junior Keepers (11-16 years old)
DESCRIPTION:This is a great program for those future marine biologists! Come experience the aquarium from an employee’s point of view. Learn how to provide animal care including training\, enrichment\, and feeding for a variety of animals. You’ll go behind the scenes\, meet live animals\, and talk with our care staff.\nPre-registration & sneakers are required.\nAges 11-16 years. $100 per Child. \nTo Register Click Here!
URL:https://jenkinsons.com/aquarium/event/junior-keepers-11-16-years-old/
LOCATION:The Aquarium\, 300 Ocean Ave\, Pt. Pleasant Beach\, NJ\, 08742\, United States
CATEGORIES:Educational Programs,Events,Hours of Operation
ATTACH;FMTTYPE=image/jpeg:https://jenks-uploads.nyc3.digitaloceanspaces.com/wp-content/uploads/sites/2/2024/02/31112134/junior-keepers.jpg
END:VEVENT
BEGIN:VEVENT
DTSTART;TZID=America/New_York:20250101T120000
DTEND;TZID=America/New_York:20250101T160000
DTSTAMP:20260420T185326
CREATED:20241119T180113Z
LAST-MODIFIED:20241119T180113Z
UID:17455-1735732800-1735747200@jenkinsons.com
SUMMARY:12pm - 4pm
DESCRIPTION:
URL:https://jenkinsons.com/aquarium/event/12pm-4pm-5/
LOCATION:The Aquarium\, 300 Ocean Ave\, Pt. Pleasant Beach\, NJ\, 08742\, United States
CATEGORIES:Events,Hours of Operation
END:VEVENT
BEGIN:VEVENT
DTSTART;TZID=America/New_York:20250102T100000
DTEND;TZID=America/New_York:20250417T170000
DTSTAMP:20260420T185326
CREATED:20241118T165145Z
LAST-MODIFIED:20250403T174913Z
UID:17428-1735812000-1744909200@jenkinsons.com
SUMMARY:10am - 5pm
DESCRIPTION:
URL:https://jenkinsons.com/aquarium/event/10am-5pm-27/
LOCATION:The Aquarium\, 300 Ocean Ave\, Pt. Pleasant Beach\, NJ\, 08742\, United States
CATEGORIES:Events,Hours of Operation
END:VEVENT
END:VCALENDAR