BEGIN:VCALENDAR
VERSION:2.0
PRODID:-//Aquarium - ECPv6.15.17.1//NONSGML v1.0//EN
CALSCALE:GREGORIAN
METHOD:PUBLISH
X-ORIGINAL-URL:https://jenkinsons.com/aquarium
X-WR-CALDESC:Events for Aquarium
REFRESH-INTERVAL;VALUE=DURATION:PT1H
X-Robots-Tag:noindex
X-PUBLISHED-TTL:PT1H
BEGIN:VTIMEZONE
TZID:America/New_York
BEGIN:DAYLIGHT
TZOFFSETFROM:-0500
TZOFFSETTO:-0400
TZNAME:EDT
DTSTART:20230312T070000
END:DAYLIGHT
BEGIN:STANDARD
TZOFFSETFROM:-0400
TZOFFSETTO:-0500
TZNAME:EST
DTSTART:20231105T060000
END:STANDARD
BEGIN:DAYLIGHT
TZOFFSETFROM:-0500
TZOFFSETTO:-0400
TZNAME:EDT
DTSTART:20240310T070000
END:DAYLIGHT
BEGIN:STANDARD
TZOFFSETFROM:-0400
TZOFFSETTO:-0500
TZNAME:EST
DTSTART:20241103T060000
END:STANDARD
BEGIN:DAYLIGHT
TZOFFSETFROM:-0500
TZOFFSETTO:-0400
TZNAME:EDT
DTSTART:20250309T070000
END:DAYLIGHT
BEGIN:STANDARD
TZOFFSETFROM:-0400
TZOFFSETTO:-0500
TZNAME:EST
DTSTART:20251102T060000
END:STANDARD
END:VTIMEZONE
BEGIN:VEVENT
DTSTART;TZID=America/New_York:20240930T100000
DTEND;TZID=America/New_York:20241206T170000
DTSTAMP:20260420T203733
CREATED:20240818T204155Z
LAST-MODIFIED:20241118T164733Z
UID:17093-1727690400-1733504400@jenkinsons.com
SUMMARY:10am - 5pm
DESCRIPTION:
URL:https://jenkinsons.com/aquarium/event/10am-5pm-22/
LOCATION:The Aquarium\, 300 Ocean Ave\, Pt. Pleasant Beach\, NJ\, 08742\, United States
CATEGORIES:Events,Hours of Operation
END:VEVENT
BEGIN:VEVENT
DTSTART;TZID=America/New_York:20241201T100000
DTEND;TZID=America/New_York:20241201T170000
DTSTAMP:20260420T203733
CREATED:20240818T205520Z
LAST-MODIFIED:20241118T164310Z
UID:17097-1733047200-1733072400@jenkinsons.com
SUMMARY:SEAcret Santa
DESCRIPTION:Surprise\, the SEAcret is out! Santa will be kicking off the holiday SEAson with us on Sunday\, December 1st as he dives in the Aquarium to get into the holiday spirit! Dives will take place at 12pm\, 1:30pm & 3pm. There will be story time with Mrs. Claus & face painting\, too! \n(Included with General Admission)
URL:https://jenkinsons.com/aquarium/event/come-see-diving-santa/
LOCATION:The Aquarium\, 300 Ocean Ave\, Pt. Pleasant Beach\, NJ\, 08742\, United States
CATEGORIES:Events,Hours of Operation,Special Events
ATTACH;FMTTYPE=image/jpeg:https://jenks-uploads.nyc3.digitaloceanspaces.com/wp-content/uploads/sites/2/2024/11/31111851/28173-SEAcretSanta-FB-V2.jpg
END:VEVENT
BEGIN:VEVENT
DTSTART;TZID=America/New_York:20241207T100000
DTEND;TZID=America/New_York:20241207T200000
DTSTAMP:20260420T203733
CREATED:20241118T170423Z
LAST-MODIFIED:20241118T170718Z
UID:17433-1733565600-1733601600@jenkinsons.com
SUMMARY:10am - 8pm
DESCRIPTION:
URL:https://jenkinsons.com/aquarium/event/10am-8pm-14/2024-12-07/
LOCATION:The Aquarium\, 300 Ocean Ave\, Pt. Pleasant Beach\, NJ\, 08742\, United States
CATEGORIES:Events,Hours of Operation,Special Events
END:VEVENT
BEGIN:VEVENT
DTSTART;TZID=America/New_York:20241207T160000
DTEND;TZID=America/New_York:20241207T200000
DTSTAMP:20260420T203733
CREATED:20240918T164656Z
LAST-MODIFIED:20241028T145834Z
UID:17209-1733587200-1733601600@jenkinsons.com
SUMMARY:Sea of Lights
DESCRIPTION:It’s the most wonderful time of the year! Join us for our annual Holiday Lights Spectacular\, Sea of Lights! There will be various forms of entertainment each night from 5-8pm. Click here for more information!
URL:https://jenkinsons.com/aquarium/event/sea-of-lights-4/
LOCATION:The Aquarium\, 300 Ocean Ave\, Pt. Pleasant Beach\, NJ\, 08742\, United States
CATEGORIES:Events,Hours of Operation,Special Events
ATTACH;FMTTYPE=image/jpeg:https://jenks-uploads.nyc3.digitaloceanspaces.com/wp-content/uploads/sites/2/2024/09/31111852/SeaofLights.jpg
END:VEVENT
END:VCALENDAR