BEGIN:VCALENDAR
VERSION:2.0
PRODID:-//Aquarium - ECPv6.15.17.1//NONSGML v1.0//EN
CALSCALE:GREGORIAN
METHOD:PUBLISH
X-WR-CALNAME:Aquarium
X-ORIGINAL-URL:https://jenkinsons.com/aquarium
X-WR-CALDESC:Events for Aquarium
REFRESH-INTERVAL;VALUE=DURATION:PT1H
X-Robots-Tag:noindex
X-PUBLISHED-TTL:PT1H
BEGIN:VTIMEZONE
TZID:America/New_York
BEGIN:DAYLIGHT
TZOFFSETFROM:-0500
TZOFFSETTO:-0400
TZNAME:EDT
DTSTART:20230312T070000
END:DAYLIGHT
BEGIN:STANDARD
TZOFFSETFROM:-0400
TZOFFSETTO:-0500
TZNAME:EST
DTSTART:20231105T060000
END:STANDARD
BEGIN:DAYLIGHT
TZOFFSETFROM:-0500
TZOFFSETTO:-0400
TZNAME:EDT
DTSTART:20240310T070000
END:DAYLIGHT
BEGIN:STANDARD
TZOFFSETFROM:-0400
TZOFFSETTO:-0500
TZNAME:EST
DTSTART:20241103T060000
END:STANDARD
BEGIN:DAYLIGHT
TZOFFSETFROM:-0500
TZOFFSETTO:-0400
TZNAME:EDT
DTSTART:20250309T070000
END:DAYLIGHT
BEGIN:STANDARD
TZOFFSETFROM:-0400
TZOFFSETTO:-0500
TZNAME:EST
DTSTART:20251102T060000
END:STANDARD
END:VTIMEZONE
BEGIN:VEVENT
DTSTART;TZID=America/New_York:20240620T100000
DTEND;TZID=America/New_York:20240902T220000
DTSTAMP:20260419T152124
CREATED:20240502T161615Z
LAST-MODIFIED:20240502T162155Z
UID:16212-1718877600-1725314400@jenkinsons.com
SUMMARY:10am - 10pm
DESCRIPTION:
URL:https://jenkinsons.com/aquarium/event/10am-10pm-9/
LOCATION:NJ
CATEGORIES:Events,Hours of Operation
END:VEVENT
BEGIN:VEVENT
DTSTART;TZID=America/New_York:20240721T093000
DTEND;TZID=America/New_York:20240721T103000
DTSTAMP:20260419T152124
CREATED:20240627T144903Z
LAST-MODIFIED:20240705T123313Z
UID:16811-1721554200-1721557800@jenkinsons.com
SUMMARY:Behind the Scenes Tour
DESCRIPTION:Discover what goes on behind the scenes at our aquarium!\nPre-registration & sneakers are required.\nAges 5 and up only. $30 Adults (12 years and up) / $20 Children (Ages 5-11).\nIncludes aquarium admission for the day. \nTo Register Click Here! \n 
URL:https://jenkinsons.com/aquarium/event/behind-the-scenes-tour-13/
LOCATION:The Aquarium\, 300 Ocean Ave\, Pt. Pleasant Beach\, NJ\, 08742\, United States
CATEGORIES:Educational Programs,Events,Hours of Operation,Special Events
ATTACH;FMTTYPE=image/png:https://jenks-uploads.nyc3.digitaloceanspaces.com/wp-content/uploads/sites/2/2024/06/31111918/thumbnail_Behind-the-Scenes-2024.png
END:VEVENT
END:VCALENDAR