BEGIN:VCALENDAR
VERSION:2.0
PRODID:-//Aquarium - ECPv6.15.17.1//NONSGML v1.0//EN
CALSCALE:GREGORIAN
METHOD:PUBLISH
X-ORIGINAL-URL:https://jenkinsons.com/aquarium
X-WR-CALDESC:Events for Aquarium
REFRESH-INTERVAL;VALUE=DURATION:PT1H
X-Robots-Tag:noindex
X-PUBLISHED-TTL:PT1H
BEGIN:VTIMEZONE
TZID:UTC
BEGIN:STANDARD
TZOFFSETFROM:+0000
TZOFFSETTO:+0000
TZNAME:UTC
DTSTART:20210101T000000
END:STANDARD
END:VTIMEZONE
BEGIN:VEVENT
DTSTART;TZID=UTC:20220912T100000
DTEND;TZID=UTC:20220912T170000
DTSTAMP:20260420T153558
CREATED:20220903T165527Z
LAST-MODIFIED:20220903T165527Z
UID:11602-1662976800-1663002000@jenkinsons.com
SUMMARY:10am-5pm
DESCRIPTION:
URL:https://jenkinsons.com/aquarium/event/10am-5pm-13/2022-09-12/
LOCATION:NJ
CATEGORIES:Hours of Operation
END:VEVENT
BEGIN:VEVENT
DTSTART;TZID=UTC:20220912T100000
DTEND;TZID=UTC:20220912T170000
DTSTAMP:20260420T153558
CREATED:20220903T165527Z
LAST-MODIFIED:20220903T165527Z
UID:14331-1662976800-1663002000@jenkinsons.com
SUMMARY:10am-5pm
DESCRIPTION:
URL:https://jenkinsons.com/aquarium/event/10am-5pm-13-2/2022-09-12/
LOCATION:NJ
CATEGORIES:Hours of Operation
END:VEVENT
END:VCALENDAR