BEGIN:VCALENDAR
VERSION:2.0
PRODID:-//Aquarium - ECPv6.15.17.1//NONSGML v1.0//EN
CALSCALE:GREGORIAN
METHOD:PUBLISH
X-WR-CALNAME:Aquarium
X-ORIGINAL-URL:https://jenkinsons.com/aquarium
X-WR-CALDESC:Events for Aquarium
REFRESH-INTERVAL;VALUE=DURATION:PT1H
X-Robots-Tag:noindex
X-PUBLISHED-TTL:PT1H
BEGIN:VTIMEZONE
TZID:UTC
BEGIN:STANDARD
TZOFFSETFROM:+0000
TZOFFSETTO:+0000
TZNAME:UTC
DTSTART:20210101T000000
END:STANDARD
END:VTIMEZONE
BEGIN:VEVENT
DTSTART;TZID=UTC:20220906T100000
DTEND;TZID=UTC:20220906T190000
DTSTAMP:20260420T171549
CREATED:20220903T165105Z
LAST-MODIFIED:20220903T165105Z
UID:11592-1662458400-1662490800@jenkinsons.com
SUMMARY:10am-7pm
DESCRIPTION:
URL:https://jenkinsons.com/aquarium/event/10am-7pm-5/2022-09-06/
LOCATION:NJ
CATEGORIES:Hours of Operation
END:VEVENT
BEGIN:VEVENT
DTSTART;TZID=UTC:20220906T100000
DTEND;TZID=UTC:20220906T190000
DTSTAMP:20260420T171549
CREATED:20220903T165105Z
LAST-MODIFIED:20220903T165105Z
UID:14321-1662458400-1662490800@jenkinsons.com
SUMMARY:10am-7pm
DESCRIPTION:
URL:https://jenkinsons.com/aquarium/event/10am-7pm-5-2/2022-09-06/
LOCATION:NJ
CATEGORIES:Hours of Operation
END:VEVENT
BEGIN:VEVENT
DTSTART;TZID=UTC:20220909T100000
DTEND;TZID=UTC:20220909T200000
DTSTAMP:20260420T171549
CREATED:20220903T165146Z
LAST-MODIFIED:20220903T165305Z
UID:11597-1662717600-1662753600@jenkinsons.com
SUMMARY:10am-8pm
DESCRIPTION:
URL:https://jenkinsons.com/aquarium/event/10am-8pm-6/2022-09-09/
LOCATION:NJ
CATEGORIES:Hours of Operation
END:VEVENT
BEGIN:VEVENT
DTSTART;TZID=UTC:20220909T100000
DTEND;TZID=UTC:20220909T200000
DTSTAMP:20260420T171549
CREATED:20220903T165146Z
LAST-MODIFIED:20220903T165146Z
UID:14326-1662717600-1662753600@jenkinsons.com
SUMMARY:10am-8pm
DESCRIPTION:
URL:https://jenkinsons.com/aquarium/event/10am-8pm-6-2/2022-09-09/
LOCATION:NJ
CATEGORIES:Hours of Operation
END:VEVENT
END:VCALENDAR