BEGIN:VCALENDAR
VERSION:2.0
PRODID:-//Aquarium - ECPv6.15.17.1//NONSGML v1.0//EN
CALSCALE:GREGORIAN
METHOD:PUBLISH
X-WR-CALNAME:Aquarium
X-ORIGINAL-URL:https://jenkinsons.com/aquarium
X-WR-CALDESC:Events for Aquarium
REFRESH-INTERVAL;VALUE=DURATION:PT1H
X-Robots-Tag:noindex
X-PUBLISHED-TTL:PT1H
BEGIN:VTIMEZONE
TZID:UTC
BEGIN:STANDARD
TZOFFSETFROM:+0000
TZOFFSETTO:+0000
TZNAME:UTC
DTSTART:20210101T000000
END:STANDARD
END:VTIMEZONE
BEGIN:VEVENT
DTSTART;TZID=UTC:20220425T100000
DTEND;TZID=UTC:20220425T170000
DTSTAMP:20260421T182158
CREATED:20220331T183103Z
LAST-MODIFIED:20220331T183107Z
UID:11033-1650880800-1650906000@jenkinsons.com
SUMMARY:10am-5pm
DESCRIPTION:
URL:https://jenkinsons.com/aquarium/event/10am-5pm-10/2022-04-25/
LOCATION:NJ
CATEGORIES:Hours of Operation
END:VEVENT
BEGIN:VEVENT
DTSTART;TZID=UTC:20220425T100000
DTEND;TZID=UTC:20220425T170000
DTSTAMP:20260421T182158
CREATED:20220331T183103Z
LAST-MODIFIED:20220331T183103Z
UID:14178-1650880800-1650906000@jenkinsons.com
SUMMARY:10am-5pm
DESCRIPTION:
URL:https://jenkinsons.com/aquarium/event/10am-5pm-10-2/2022-04-25/
LOCATION:NJ
CATEGORIES:Hours of Operation
END:VEVENT
END:VCALENDAR