BEGIN:VCALENDAR
VERSION:2.0
PRODID:-//Aquarium - ECPv6.15.17.1//NONSGML v1.0//EN
CALSCALE:GREGORIAN
METHOD:PUBLISH
X-ORIGINAL-URL:https://jenkinsons.com/aquarium
X-WR-CALDESC:Events for Aquarium
REFRESH-INTERVAL;VALUE=DURATION:PT1H
X-Robots-Tag:noindex
X-PUBLISHED-TTL:PT1H
BEGIN:VTIMEZONE
TZID:America/New_York
BEGIN:DAYLIGHT
TZOFFSETFROM:-0500
TZOFFSETTO:-0400
TZNAME:EDT
DTSTART:20240310T070000
END:DAYLIGHT
BEGIN:STANDARD
TZOFFSETFROM:-0400
TZOFFSETTO:-0500
TZNAME:EST
DTSTART:20241103T060000
END:STANDARD
BEGIN:DAYLIGHT
TZOFFSETFROM:-0500
TZOFFSETTO:-0400
TZNAME:EDT
DTSTART:20250309T070000
END:DAYLIGHT
BEGIN:STANDARD
TZOFFSETFROM:-0400
TZOFFSETTO:-0500
TZNAME:EST
DTSTART:20251102T060000
END:STANDARD
BEGIN:DAYLIGHT
TZOFFSETFROM:-0500
TZOFFSETTO:-0400
TZNAME:EDT
DTSTART:20260308T070000
END:DAYLIGHT
BEGIN:STANDARD
TZOFFSETFROM:-0400
TZOFFSETTO:-0500
TZNAME:EST
DTSTART:20261101T060000
END:STANDARD
END:VTIMEZONE
BEGIN:VEVENT
DTSTART;TZID=America/New_York:20250102T100000
DTEND;TZID=America/New_York:20250417T170000
DTSTAMP:20260420T203728
CREATED:20241118T165145Z
LAST-MODIFIED:20250403T174913Z
UID:17428-1735812000-1744909200@jenkinsons.com
SUMMARY:10am - 5pm
DESCRIPTION:
URL:https://jenkinsons.com/aquarium/event/10am-5pm-27/
LOCATION:The Aquarium\, 300 Ocean Ave\, Pt. Pleasant Beach\, NJ\, 08742\, United States
CATEGORIES:Events,Hours of Operation
END:VEVENT
BEGIN:VEVENT
DTSTART;TZID=America/New_York:20250209T120000
DTEND;TZID=America/New_York:20250209T160000
DTSTAMP:20260420T203728
CREATED:20241116T170126Z
LAST-MODIFIED:20241230T154403Z
UID:17383-1739102400-1739116800@jenkinsons.com
SUMMARY:Pokémon Go Community Day
DESCRIPTION:Calling all Pokémon trainers! To coincide with Pokémon Go’s Community Day\, we will be celebrating all things Pokémon! Join us for crafts\, activities\, and more! Pokémon Trainers get a special discount on this day! Present your Pokémon Go Trainer Code before you purchase your admission. Included with General Admission.
URL:https://jenkinsons.com/aquarium/event/pokemon-go-community-day-6/
LOCATION:The Aquarium\, 300 Ocean Ave\, Pt. Pleasant Beach\, NJ\, 08742\, United States
CATEGORIES:Events,Hours of Operation,Special Events
ATTACH;FMTTYPE=image/png:https://jenks-uploads.nyc3.digitaloceanspaces.com/wp-content/uploads/sites/2/2024/11/31111828/PokeMonGo-Blank-New.png
END:VEVENT
BEGIN:VEVENT
DTSTART;TZID=America/New_York:20250214T140000
DTEND;TZID=America/New_York:20250214T170000
DTSTAMP:20260420T203728
CREATED:20241121T013926Z
LAST-MODIFIED:20241121T020521Z
UID:17499-1739541600-1739552400@jenkinsons.com
SUMMARY:Valentine's Day Crafts
DESCRIPTION:Love is in the air! Stop by to take part in crafts\, take home activities\, and even make your favorite animal a Valentines Day card! Included with General Admission. 
URL:https://jenkinsons.com/aquarium/event/valentines-day-crafts/
LOCATION:The Aquarium\, 300 Ocean Ave\, Pt. Pleasant Beach\, NJ\, 08742\, United States
CATEGORIES:Events,Hours of Operation,Special Events
ATTACH;FMTTYPE=image/jpeg:https://jenks-uploads.nyc3.digitaloceanspaces.com/wp-content/uploads/sites/2/2024/11/31111825/Dassen1.jpg
END:VEVENT
BEGIN:VEVENT
DTSTART;TZID=America/New_York:20250228T170000
DTEND;TZID=America/New_York:20250228T200000
DTSTAMP:20260420T203728
CREATED:20241122T192728Z
LAST-MODIFIED:20250207T153612Z
UID:17538-1740762000-1740772800@jenkinsons.com
SUMMARY:Family Fun Friday
DESCRIPTION:Open late ’til 8! When your workday is over\, bring the family for some after-hours fun! Take part in a scavenger hunt\, make a craft\, and enjoy a bedtime story with Wally\, our two-toed sloth! Included in general admission.
URL:https://jenkinsons.com/aquarium/event/family-fun-friday/
LOCATION:The Aquarium\, 300 Ocean Ave\, Pt. Pleasant Beach\, NJ\, 08742\, United States
CATEGORIES:Events,Hours of Operation,Special Events
ATTACH;FMTTYPE=image/png:https://jenks-uploads.nyc3.digitaloceanspaces.com/wp-content/uploads/sites/2/2024/11/31111826/Family-Fun-Friday-FB-1.png
END:VEVENT
END:VCALENDAR