BEGIN:VCALENDAR
VERSION:2.0
PRODID:-//Aquarium - ECPv6.15.17.1//NONSGML v1.0//EN
CALSCALE:GREGORIAN
METHOD:PUBLISH
X-WR-CALNAME:Aquarium
X-ORIGINAL-URL:https://jenkinsons.com/aquarium
X-WR-CALDESC:Events for Aquarium
REFRESH-INTERVAL;VALUE=DURATION:PT1H
X-Robots-Tag:noindex
X-PUBLISHED-TTL:PT1H
BEGIN:VTIMEZONE
TZID:America/New_York
BEGIN:DAYLIGHT
TZOFFSETFROM:-0500
TZOFFSETTO:-0400
TZNAME:EDT
DTSTART:20240310T070000
END:DAYLIGHT
BEGIN:STANDARD
TZOFFSETFROM:-0400
TZOFFSETTO:-0500
TZNAME:EST
DTSTART:20241103T060000
END:STANDARD
BEGIN:DAYLIGHT
TZOFFSETFROM:-0500
TZOFFSETTO:-0400
TZNAME:EDT
DTSTART:20250309T070000
END:DAYLIGHT
BEGIN:STANDARD
TZOFFSETFROM:-0400
TZOFFSETTO:-0500
TZNAME:EST
DTSTART:20251102T060000
END:STANDARD
BEGIN:DAYLIGHT
TZOFFSETFROM:-0500
TZOFFSETTO:-0400
TZNAME:EDT
DTSTART:20260308T070000
END:DAYLIGHT
BEGIN:STANDARD
TZOFFSETFROM:-0400
TZOFFSETTO:-0500
TZNAME:EST
DTSTART:20261101T060000
END:STANDARD
END:VTIMEZONE
BEGIN:VEVENT
DTSTART;TZID=America/New_York:20250101T120000
DTEND;TZID=America/New_York:20250101T160000
DTSTAMP:20260420T135644
CREATED:20241119T180113Z
LAST-MODIFIED:20241119T180113Z
UID:17455-1735732800-1735747200@jenkinsons.com
SUMMARY:12pm - 4pm
DESCRIPTION:
URL:https://jenkinsons.com/aquarium/event/12pm-4pm-5/
LOCATION:The Aquarium\, 300 Ocean Ave\, Pt. Pleasant Beach\, NJ\, 08742\, United States
CATEGORIES:Events,Hours of Operation
END:VEVENT
BEGIN:VEVENT
DTSTART;TZID=America/New_York:20250102T100000
DTEND;TZID=America/New_York:20250417T170000
DTSTAMP:20260420T135644
CREATED:20241118T165145Z
LAST-MODIFIED:20250403T174913Z
UID:17428-1735812000-1744909200@jenkinsons.com
SUMMARY:10am - 5pm
DESCRIPTION:
URL:https://jenkinsons.com/aquarium/event/10am-5pm-27/
LOCATION:The Aquarium\, 300 Ocean Ave\, Pt. Pleasant Beach\, NJ\, 08742\, United States
CATEGORIES:Events,Hours of Operation
END:VEVENT
BEGIN:VEVENT
DTSTART;TZID=America/New_York:20250105T120000
DTEND;TZID=America/New_York:20250105T160000
DTSTAMP:20260420T135644
CREATED:20241116T165832Z
LAST-MODIFIED:20241230T154518Z
UID:17379-1736078400-1736092800@jenkinsons.com
SUMMARY:Pokémon Go Community Day
DESCRIPTION:Calling all Pokémon trainers! To coincide with Pokémon Go’s Community Day\, we will be celebrating all things Pokémon! Join us for crafts\, activities\, and more! Pokémon Trainers get a special discount on this day! Present your Pokémon Go Trainer Code before you purchase your admission. Included with General Admission.
URL:https://jenkinsons.com/aquarium/event/pokemon-go-community-day-4/
LOCATION:The Aquarium\, 300 Ocean Ave\, Pt. Pleasant Beach\, NJ\, 08742\, United States
CATEGORIES:Events,Hours of Operation,Special Events
ATTACH;FMTTYPE=image/png:https://jenks-uploads.nyc3.digitaloceanspaces.com/wp-content/uploads/sites/2/2024/11/31111828/PokeMonGo-Blank-New.png
END:VEVENT
BEGIN:VEVENT
DTSTART;TZID=America/New_York:20250111T080000
DTEND;TZID=America/New_York:20250111T110000
DTSTAMP:20260420T135644
CREATED:20241120T022817Z
LAST-MODIFIED:20241120T022817Z
UID:17459-1736582400-1736593200@jenkinsons.com
SUMMARY:Junior Keepers (7-11 years old)
DESCRIPTION:This is a great program for those future marine biologists! Come experience the aquarium from an employee’s point of view. Learn how to provide animal care including training\, enrichment\, and feeding for a variety of animals. You’ll go behind the scenes\, meet live animals\, and talk with our care staff.\nPre-registration & sneakers are required.\nAges 7-11 years. $100 per Child. \nTo Register Click Here!
URL:https://jenkinsons.com/aquarium/event/junior-keepers-7-11-years-old/
LOCATION:The Aquarium\, 300 Ocean Ave\, Pt. Pleasant Beach\, NJ\, 08742\, United States
CATEGORIES:Educational Programs,Events,Hours of Operation
ATTACH;FMTTYPE=image/jpeg:https://jenks-uploads.nyc3.digitaloceanspaces.com/wp-content/uploads/sites/2/2024/02/31112134/junior-keepers.jpg
END:VEVENT
BEGIN:VEVENT
DTSTART;TZID=America/New_York:20250125T120000
DTEND;TZID=America/New_York:20250125T160000
DTSTAMP:20260420T135644
CREATED:20241116T165937Z
LAST-MODIFIED:20241230T154433Z
UID:17381-1737806400-1737820800@jenkinsons.com
SUMMARY:Pokémon Go Community Day
DESCRIPTION:Calling all Pokémon trainers! To coincide with Pokémon Go’s Community Day\, we will be celebrating all things Pokémon! Join us for crafts\, activities\, and more! Pokémon Trainers get a special discount on this day! Present your Pokémon Go Trainer Code before you purchase your admission. Included with General Admission.
URL:https://jenkinsons.com/aquarium/event/pokemon-go-community-day-5/
LOCATION:The Aquarium\, 300 Ocean Ave\, Pt. Pleasant Beach\, NJ\, 08742\, United States
CATEGORIES:Events,Hours of Operation,Special Events
ATTACH;FMTTYPE=image/png:https://jenks-uploads.nyc3.digitaloceanspaces.com/wp-content/uploads/sites/2/2024/11/31111828/PokeMonGo-Blank-New.png
END:VEVENT
BEGIN:VEVENT
DTSTART;TZID=America/New_York:20250126T130000
DTEND;TZID=America/New_York:20250126T160000
DTSTAMP:20260420T135644
CREATED:20241121T010629Z
LAST-MODIFIED:20241122T140907Z
UID:17490-1737896400-1737907200@jenkinsons.com
SUMMARY:Chinese New Year
DESCRIPTION:It is the Year of the Snake!! Snakes are some of the most beautiful and misunderstood animals in nature\, but they are so very important to the natural environment. Join us for educational chats\, activities\, and a craft. Included in General Admission.
URL:https://jenkinsons.com/aquarium/event/chinese-new-year/
LOCATION:The Aquarium\, 300 Ocean Ave\, Pt. Pleasant Beach\, NJ\, 08742\, United States
CATEGORIES:Events,Hours of Operation,Special Events
ATTACH;FMTTYPE=image/jpeg:https://jenks-uploads.nyc3.digitaloceanspaces.com/wp-content/uploads/sites/2/2024/11/31111823/Needles2-resize.jpg
END:VEVENT
END:VCALENDAR