BEGIN:VCALENDAR
VERSION:2.0
PRODID:-//Aquarium - ECPv6.15.17.1//NONSGML v1.0//EN
CALSCALE:GREGORIAN
METHOD:PUBLISH
X-ORIGINAL-URL:https://jenkinsons.com/aquarium
X-WR-CALDESC:Events for Aquarium
REFRESH-INTERVAL;VALUE=DURATION:PT1H
X-Robots-Tag:noindex
X-PUBLISHED-TTL:PT1H
BEGIN:VTIMEZONE
TZID:America/New_York
BEGIN:DAYLIGHT
TZOFFSETFROM:-0500
TZOFFSETTO:-0400
TZNAME:EDT
DTSTART:20230312T070000
END:DAYLIGHT
BEGIN:STANDARD
TZOFFSETFROM:-0400
TZOFFSETTO:-0500
TZNAME:EST
DTSTART:20231105T060000
END:STANDARD
BEGIN:DAYLIGHT
TZOFFSETFROM:-0500
TZOFFSETTO:-0400
TZNAME:EDT
DTSTART:20240310T070000
END:DAYLIGHT
BEGIN:STANDARD
TZOFFSETFROM:-0400
TZOFFSETTO:-0500
TZNAME:EST
DTSTART:20241103T060000
END:STANDARD
BEGIN:DAYLIGHT
TZOFFSETFROM:-0500
TZOFFSETTO:-0400
TZNAME:EDT
DTSTART:20250309T070000
END:DAYLIGHT
BEGIN:STANDARD
TZOFFSETFROM:-0400
TZOFFSETTO:-0500
TZNAME:EST
DTSTART:20251102T060000
END:STANDARD
END:VTIMEZONE
BEGIN:VEVENT
DTSTART;TZID=America/New_York:20240930T100000
DTEND;TZID=America/New_York:20241206T170000
DTSTAMP:20260420T171746
CREATED:20240818T204155Z
LAST-MODIFIED:20241118T164733Z
UID:17093-1727690400-1733504400@jenkinsons.com
SUMMARY:10am - 5pm
DESCRIPTION:
URL:https://jenkinsons.com/aquarium/event/10am-5pm-22/
LOCATION:The Aquarium\, 300 Ocean Ave\, Pt. Pleasant Beach\, NJ\, 08742\, United States
CATEGORIES:Events,Hours of Operation
END:VEVENT
BEGIN:VEVENT
DTSTART;TZID=America/New_York:20241201T100000
DTEND;TZID=America/New_York:20241201T170000
DTSTAMP:20260420T171746
CREATED:20240818T205520Z
LAST-MODIFIED:20241118T164310Z
UID:17097-1733047200-1733072400@jenkinsons.com
SUMMARY:SEAcret Santa
DESCRIPTION:Surprise\, the SEAcret is out! Santa will be kicking off the holiday SEAson with us on Sunday\, December 1st as he dives in the Aquarium to get into the holiday spirit! Dives will take place at 12pm\, 1:30pm & 3pm. There will be story time with Mrs. Claus & face painting\, too! \n(Included with General Admission)
URL:https://jenkinsons.com/aquarium/event/come-see-diving-santa/
LOCATION:The Aquarium\, 300 Ocean Ave\, Pt. Pleasant Beach\, NJ\, 08742\, United States
CATEGORIES:Events,Hours of Operation,Special Events
ATTACH;FMTTYPE=image/jpeg:https://jenks-uploads.nyc3.digitaloceanspaces.com/wp-content/uploads/sites/2/2024/11/31111851/28173-SEAcretSanta-FB-V2.jpg
END:VEVENT
BEGIN:VEVENT
DTSTART;TZID=America/New_York:20241207T100000
DTEND;TZID=America/New_York:20241207T200000
DTSTAMP:20260420T171746
CREATED:20241118T170423Z
LAST-MODIFIED:20241118T170718Z
UID:17433-1733565600-1733601600@jenkinsons.com
SUMMARY:10am - 8pm
DESCRIPTION:
URL:https://jenkinsons.com/aquarium/event/10am-8pm-14/2024-12-07/
LOCATION:The Aquarium\, 300 Ocean Ave\, Pt. Pleasant Beach\, NJ\, 08742\, United States
CATEGORIES:Events,Hours of Operation,Special Events
END:VEVENT
BEGIN:VEVENT
DTSTART;TZID=America/New_York:20241207T160000
DTEND;TZID=America/New_York:20241207T200000
DTSTAMP:20260420T171746
CREATED:20240918T164656Z
LAST-MODIFIED:20241028T145834Z
UID:17209-1733587200-1733601600@jenkinsons.com
SUMMARY:Sea of Lights
DESCRIPTION:It’s the most wonderful time of the year! Join us for our annual Holiday Lights Spectacular\, Sea of Lights! There will be various forms of entertainment each night from 5-8pm. Click here for more information!
URL:https://jenkinsons.com/aquarium/event/sea-of-lights-4/
LOCATION:The Aquarium\, 300 Ocean Ave\, Pt. Pleasant Beach\, NJ\, 08742\, United States
CATEGORIES:Events,Hours of Operation,Special Events
ATTACH;FMTTYPE=image/jpeg:https://jenks-uploads.nyc3.digitaloceanspaces.com/wp-content/uploads/sites/2/2024/09/31111852/SeaofLights.jpg
END:VEVENT
BEGIN:VEVENT
DTSTART;TZID=America/New_York:20241208T100000
DTEND;TZID=America/New_York:20241213T170000
DTSTAMP:20260420T171746
CREATED:20241118T164832Z
LAST-MODIFIED:20241118T164832Z
UID:17420-1733652000-1734109200@jenkinsons.com
SUMMARY:10am - 5pm
DESCRIPTION:
URL:https://jenkinsons.com/aquarium/event/10am-5pm-23/
LOCATION:The Aquarium\, 300 Ocean Ave\, Pt. Pleasant Beach\, NJ\, 08742\, United States
CATEGORIES:Events,Hours of Operation
END:VEVENT
BEGIN:VEVENT
DTSTART;TZID=America/New_York:20241214T100000
DTEND;TZID=America/New_York:20241214T200000
DTSTAMP:20260420T171746
CREATED:20241118T170423Z
LAST-MODIFIED:20241118T170423Z
UID:17435-1734170400-1734206400@jenkinsons.com
SUMMARY:10am - 8pm
DESCRIPTION:
URL:https://jenkinsons.com/aquarium/event/10am-8pm-14/2024-12-14/
LOCATION:The Aquarium\, 300 Ocean Ave\, Pt. Pleasant Beach\, NJ\, 08742\, United States
CATEGORIES:Events,Hours of Operation,Special Events
END:VEVENT
BEGIN:VEVENT
DTSTART;TZID=America/New_York:20241214T160000
DTEND;TZID=America/New_York:20241214T200000
DTSTAMP:20260420T171746
CREATED:20240918T165000Z
LAST-MODIFIED:20241028T145911Z
UID:17212-1734192000-1734206400@jenkinsons.com
SUMMARY:Sea of Lights
DESCRIPTION:It’s the most wonderful time of the year! Join us for our annual Holiday Lights Spectacular\, Sea of Lights! There will be various forms of entertainment each night from 5-8pm.  Click here for more information!
URL:https://jenkinsons.com/aquarium/event/sea-of-lights-5/
LOCATION:The Aquarium\, 300 Ocean Ave\, Pt. Pleasant Beach\, NJ\, 08742\, United States
CATEGORIES:Events,Hours of Operation,Special Events
ATTACH;FMTTYPE=image/jpeg:https://jenks-uploads.nyc3.digitaloceanspaces.com/wp-content/uploads/sites/2/2024/09/31111852/SeaofLights.jpg
END:VEVENT
BEGIN:VEVENT
DTSTART;TZID=America/New_York:20241215T100000
DTEND;TZID=America/New_York:20241220T170000
DTSTAMP:20260420T171746
CREATED:20241118T164927Z
LAST-MODIFIED:20241118T164927Z
UID:17422-1734256800-1734714000@jenkinsons.com
SUMMARY:10am - 5pm
DESCRIPTION:
URL:https://jenkinsons.com/aquarium/event/10am-5pm-24/
LOCATION:The Aquarium\, 300 Ocean Ave\, Pt. Pleasant Beach\, NJ\, 08742\, United States
CATEGORIES:Events,Hours of Operation
END:VEVENT
BEGIN:VEVENT
DTSTART;TZID=America/New_York:20241221T100000
DTEND;TZID=America/New_York:20241221T200000
DTSTAMP:20260420T171746
CREATED:20241118T170423Z
LAST-MODIFIED:20241118T170423Z
UID:17436-1734775200-1734811200@jenkinsons.com
SUMMARY:10am - 8pm
DESCRIPTION:
URL:https://jenkinsons.com/aquarium/event/10am-8pm-14/2024-12-21/
LOCATION:The Aquarium\, 300 Ocean Ave\, Pt. Pleasant Beach\, NJ\, 08742\, United States
CATEGORIES:Events,Hours of Operation,Special Events
END:VEVENT
BEGIN:VEVENT
DTSTART;TZID=America/New_York:20241221T120000
DTEND;TZID=America/New_York:20241221T160000
DTSTAMP:20260420T171746
CREATED:20241122T200147Z
LAST-MODIFIED:20241122T200147Z
UID:17540-1734782400-1734796800@jenkinsons.com
SUMMARY:Pokèmon Go Community Day
DESCRIPTION:Calling all Pokèmon trainers! To coincide with Pokèmon Go’s Community Day\, we will be celebrating all things Pokèmon! Join us for crafts\, activities\, and more! Pokèmon Trainers get a special discount on this day! Present your Pokèmon Go Trainer Code before you purchase your admission. Included with General Admission.
URL:https://jenkinsons.com/aquarium/event/pokemon-go-community-day-7/
LOCATION:The Aquarium\, 300 Ocean Ave\, Pt. Pleasant Beach\, NJ\, 08742\, United States
CATEGORIES:Events,Hours of Operation,Special Events
ATTACH;FMTTYPE=image/png:https://jenks-uploads.nyc3.digitaloceanspaces.com/wp-content/uploads/sites/2/2024/11/31111828/PokeMonGo-Blank-New.png
END:VEVENT
BEGIN:VEVENT
DTSTART;TZID=America/New_York:20241221T160000
DTEND;TZID=America/New_York:20241221T200000
DTSTAMP:20260420T171746
CREATED:20240918T165132Z
LAST-MODIFIED:20241028T145955Z
UID:17214-1734796800-1734811200@jenkinsons.com
SUMMARY:Sea of Lights
DESCRIPTION:It’s the most wonderful time of the year! Join us for our annual Holiday Lights Spectacular\, Sea of Lights! There will be various forms of entertainment each night from 5-8pm.  Click here for more information!
URL:https://jenkinsons.com/aquarium/event/sea-of-lights-6/
LOCATION:The Aquarium\, 300 Ocean Ave\, Pt. Pleasant Beach\, NJ\, 08742\, United States
CATEGORIES:Events,Hours of Operation,Special Events
ATTACH;FMTTYPE=image/jpeg:https://jenks-uploads.nyc3.digitaloceanspaces.com/wp-content/uploads/sites/2/2024/09/31111852/SeaofLights.jpg
END:VEVENT
BEGIN:VEVENT
DTSTART;TZID=America/New_York:20241222T100000
DTEND;TZID=America/New_York:20241222T200000
DTSTAMP:20260420T171746
CREATED:20241118T170423Z
LAST-MODIFIED:20241118T170423Z
UID:17437-1734861600-1734897600@jenkinsons.com
SUMMARY:10am - 8pm
DESCRIPTION:
URL:https://jenkinsons.com/aquarium/event/10am-8pm-14/2024-12-22/
LOCATION:The Aquarium\, 300 Ocean Ave\, Pt. Pleasant Beach\, NJ\, 08742\, United States
CATEGORIES:Events,Hours of Operation,Special Events
END:VEVENT
BEGIN:VEVENT
DTSTART;TZID=America/New_York:20241222T160000
DTEND;TZID=America/New_York:20241222T200000
DTSTAMP:20260420T171746
CREATED:20240918T165324Z
LAST-MODIFIED:20241028T150008Z
UID:17216-1734883200-1734897600@jenkinsons.com
SUMMARY:Sea of Lights
DESCRIPTION:It’s the most wonderful time of the year! Join us for our annual Holiday Lights Spectacular\, Sea of Lights! There will be various forms of entertainment each night from 5-8pm. Click here for more information!
URL:https://jenkinsons.com/aquarium/event/sea-of-lights-7/
LOCATION:The Aquarium\, 300 Ocean Ave\, Pt. Pleasant Beach\, NJ\, 08742\, United States
CATEGORIES:Events,Hours of Operation,Special Events
ATTACH;FMTTYPE=image/jpeg:https://jenks-uploads.nyc3.digitaloceanspaces.com/wp-content/uploads/sites/2/2024/09/31111852/SeaofLights.jpg
END:VEVENT
BEGIN:VEVENT
DTSTART;TZID=America/New_York:20241223T080000
DTEND;TZID=America/New_York:20241223T110000
DTSTAMP:20260420T171746
CREATED:20240731T183121Z
LAST-MODIFIED:20240731T191317Z
UID:16991-1734940800-1734951600@jenkinsons.com
SUMMARY:Junior Keepers (7-11 years old)
DESCRIPTION:This is a great program for those future marine biologists! Come experience the aquarium from an employee’s point of view. Learn how to provide animal care including training\, enrichment\, and feeding for a variety of animals. You’ll go behind the scenes\, meet live animals\, and talk with our care staff.\nPre-registration & sneakers are required.\nAges 7-11 years. $100 per Child. \nTo Register Click Here!
URL:https://jenkinsons.com/aquarium/event/junior-keepers-7-11-year-olds-3/
LOCATION:The Aquarium\, 300 Ocean Ave\, Pt. Pleasant Beach\, NJ\, 08742\, United States
CATEGORIES:Educational Programs,Events,Hours of Operation
ATTACH;FMTTYPE=image/jpeg:https://jenks-uploads.nyc3.digitaloceanspaces.com/wp-content/uploads/sites/2/2024/02/31112134/junior-keepers.jpg
END:VEVENT
BEGIN:VEVENT
DTSTART;TZID=America/New_York:20241223T100000
DTEND;TZID=America/New_York:20241223T170000
DTSTAMP:20260420T171746
CREATED:20241118T165006Z
LAST-MODIFIED:20241214T175244Z
UID:17424-1734948000-1734973200@jenkinsons.com
SUMMARY:10am - 5pm
DESCRIPTION:
URL:https://jenkinsons.com/aquarium/event/10am-5pm-25/
LOCATION:The Aquarium\, 300 Ocean Ave\, Pt. Pleasant Beach\, NJ\, 08742\, United States
CATEGORIES:Events,Hours of Operation
END:VEVENT
BEGIN:VEVENT
DTSTART;TZID=America/New_York:20241224T100000
DTEND;TZID=America/New_York:20241224T140000
DTSTAMP:20260420T171746
CREATED:20241214T175327Z
LAST-MODIFIED:20241223T140924Z
UID:17690-1735034400-1735048800@jenkinsons.com
SUMMARY:10am - 2pm
DESCRIPTION:
URL:https://jenkinsons.com/aquarium/event/10am-3pm/
LOCATION:The Aquarium\, 300 Ocean Ave\, Pt. Pleasant Beach\, NJ\, 08742\, United States
CATEGORIES:Educational Programs,Events,Hours of Operation
END:VEVENT
BEGIN:VEVENT
DTSTART;TZID=America/New_York:20241225T100000
DTEND;TZID=America/New_York:20241225T170000
DTSTAMP:20260420T171746
CREATED:20241214T175355Z
LAST-MODIFIED:20241214T175623Z
UID:17692-1735120800-1735146000@jenkinsons.com
SUMMARY:CLOSED
DESCRIPTION:
URL:https://jenkinsons.com/aquarium/event/closed-4/
LOCATION:The Aquarium\, 300 Ocean Ave\, Pt. Pleasant Beach\, NJ\, 08742\, United States
CATEGORIES:Educational Programs,Events,Hours of Operation
END:VEVENT
BEGIN:VEVENT
DTSTART;TZID=America/New_York:20241226T100000
DTEND;TZID=America/New_York:20241227T170000
DTSTAMP:20260420T171746
CREATED:20241214T175656Z
LAST-MODIFIED:20241214T175656Z
UID:17694-1735207200-1735318800@jenkinsons.com
SUMMARY:10am - 5pm
DESCRIPTION:
URL:https://jenkinsons.com/aquarium/event/10am-5pm-28/
LOCATION:The Aquarium\, 300 Ocean Ave\, Pt. Pleasant Beach\, NJ\, 08742\, United States
CATEGORIES:Educational Programs,Events,Hours of Operation
END:VEVENT
BEGIN:VEVENT
DTSTART;TZID=America/New_York:20241228T100000
DTEND;TZID=America/New_York:20241228T200000
DTSTAMP:20260420T171746
CREATED:20241118T170423Z
LAST-MODIFIED:20241118T170423Z
UID:17438-1735380000-1735416000@jenkinsons.com
SUMMARY:10am - 8pm
DESCRIPTION:
URL:https://jenkinsons.com/aquarium/event/10am-8pm-14/2024-12-28/
LOCATION:The Aquarium\, 300 Ocean Ave\, Pt. Pleasant Beach\, NJ\, 08742\, United States
CATEGORIES:Events,Hours of Operation,Special Events
END:VEVENT
BEGIN:VEVENT
DTSTART;TZID=America/New_York:20241228T160000
DTEND;TZID=America/New_York:20241228T200000
DTSTAMP:20260420T171746
CREATED:20240918T165440Z
LAST-MODIFIED:20241028T150025Z
UID:17218-1735401600-1735416000@jenkinsons.com
SUMMARY:Sea of Lights
DESCRIPTION:It’s the most wonderful time of the year! Join us for our annual Holiday Lights Spectacular\, Sea of Lights! There will be various forms of entertainment each night from 5-8pm. Click here for more information!
URL:https://jenkinsons.com/aquarium/event/sea-of-lights-8/
LOCATION:The Aquarium\, 300 Ocean Ave\, Pt. Pleasant Beach\, NJ\, 08742\, United States
CATEGORIES:Events,Hours of Operation,Special Events
ATTACH;FMTTYPE=image/jpeg:https://jenks-uploads.nyc3.digitaloceanspaces.com/wp-content/uploads/sites/2/2024/09/31111852/SeaofLights.jpg
END:VEVENT
BEGIN:VEVENT
DTSTART;TZID=America/New_York:20241229T100000
DTEND;TZID=America/New_York:20241231T170000
DTSTAMP:20260420T171746
CREATED:20241118T165049Z
LAST-MODIFIED:20241209T213036Z
UID:17426-1735466400-1735664400@jenkinsons.com
SUMMARY:10am - 5pm
DESCRIPTION:
URL:https://jenkinsons.com/aquarium/event/10am-5pm-26/
LOCATION:The Aquarium\, 300 Ocean Ave\, Pt. Pleasant Beach\, NJ\, 08742\, United States
CATEGORIES:Events,Hours of Operation
END:VEVENT
BEGIN:VEVENT
DTSTART;TZID=America/New_York:20241230T080000
DTEND;TZID=America/New_York:20241230T110000
DTSTAMP:20260420T171746
CREATED:20240731T190251Z
LAST-MODIFIED:20241126T220255Z
UID:16997-1735545600-1735556400@jenkinsons.com
SUMMARY:Junior Keepers (11-16 years old)
DESCRIPTION:This is a great program for those future marine biologists! Come experience the aquarium from an employee’s point of view. Learn how to provide animal care including training\, enrichment\, and feeding for a variety of animals. You’ll go behind the scenes\, meet live animals\, and talk with our care staff.\nPre-registration & sneakers are required.\nAges 11-16 years. $100 per Child. \nTo Register Click Here!
URL:https://jenkinsons.com/aquarium/event/junior-keepers-11-16-years-old/
LOCATION:The Aquarium\, 300 Ocean Ave\, Pt. Pleasant Beach\, NJ\, 08742\, United States
CATEGORIES:Educational Programs,Events,Hours of Operation
ATTACH;FMTTYPE=image/jpeg:https://jenks-uploads.nyc3.digitaloceanspaces.com/wp-content/uploads/sites/2/2024/02/31112134/junior-keepers.jpg
END:VEVENT
END:VCALENDAR