BEGIN:VCALENDAR
VERSION:2.0
PRODID:-//Aquarium - ECPv6.15.17.1//NONSGML v1.0//EN
CALSCALE:GREGORIAN
METHOD:PUBLISH
X-WR-CALNAME:Aquarium
X-ORIGINAL-URL:https://jenkinsons.com/aquarium
X-WR-CALDESC:Events for Aquarium
REFRESH-INTERVAL;VALUE=DURATION:PT1H
X-Robots-Tag:noindex
X-PUBLISHED-TTL:PT1H
BEGIN:VTIMEZONE
TZID:America/New_York
BEGIN:DAYLIGHT
TZOFFSETFROM:-0500
TZOFFSETTO:-0400
TZNAME:EDT
DTSTART:20250309T070000
END:DAYLIGHT
BEGIN:STANDARD
TZOFFSETFROM:-0400
TZOFFSETTO:-0500
TZNAME:EST
DTSTART:20251102T060000
END:STANDARD
BEGIN:DAYLIGHT
TZOFFSETFROM:-0500
TZOFFSETTO:-0400
TZNAME:EDT
DTSTART:20260308T070000
END:DAYLIGHT
BEGIN:STANDARD
TZOFFSETFROM:-0400
TZOFFSETTO:-0500
TZNAME:EST
DTSTART:20261101T060000
END:STANDARD
BEGIN:DAYLIGHT
TZOFFSETFROM:-0500
TZOFFSETTO:-0400
TZNAME:EDT
DTSTART:20270314T070000
END:DAYLIGHT
BEGIN:STANDARD
TZOFFSETFROM:-0400
TZOFFSETTO:-0500
TZNAME:EST
DTSTART:20271107T060000
END:STANDARD
END:VTIMEZONE
BEGIN:VEVENT
DTSTART;TZID=America/New_York:20260614T090000
DTEND;TZID=America/New_York:20260614T100000
DTSTAMP:20260421T055453
CREATED:20260201T201857Z
LAST-MODIFIED:20260304T202607Z
UID:20503-1781427600-1781431200@jenkinsons.com
SUMMARY:Yoga
DESCRIPTION:Enjoy an hour-long yoga class with This Is Yoga NJ surrounded by fascinating sea life\, including our playful seals\, Turbo and Noelani. A perfect way to blend relaxation with a unique aquatic experience! Includes admission for the day.\nThis program is planned as an All Levels Yoga class geared for adults\, but ages 10+ are welcome accompanied by a participating adult.\n$30 per participant. \nTo Register Click Here! \nRegistration will close June 12th at 4pm.
URL:https://jenkinsons.com/aquarium/event/yoga-7/
LOCATION:The Aquarium\, 300 Ocean Ave\, Pt. Pleasant Beach\, NJ\, 08742\, United States
CATEGORIES:Educational Programs,Events,Hours of Operation
ATTACH;FMTTYPE=image/png:https://jenks-uploads.nyc3.digitaloceanspaces.com/wp-content/uploads/sites/2/2025/02/31111403/Yoga-Website-No-Date.png
END:VEVENT
BEGIN:VEVENT
DTSTART;TZID=America/New_York:20260614T100000
DTEND;TZID=America/New_York:20260617T200000
DTSTAMP:20260421T055453
CREATED:20260320T004027Z
LAST-MODIFIED:20260320T004027Z
UID:20871-1781431200-1781726400@jenkinsons.com
SUMMARY:Open 10am-8pm
DESCRIPTION:
URL:https://jenkinsons.com/aquarium/event/open-10am-8pm-4/
LOCATION:The Aquarium\, 300 Ocean Ave\, Pt. Pleasant Beach\, NJ\, 08742\, United States
CATEGORIES:Events,Hours of Operation,Special Events
END:VEVENT
BEGIN:VEVENT
DTSTART;TZID=America/New_York:20260614T140000
DTEND;TZID=America/New_York:20260614T150000
DTSTAMP:20260421T055453
CREATED:20260304T010205Z
LAST-MODIFIED:20260304T204356Z
UID:20672-1781445600-1781449200@jenkinsons.com
SUMMARY:Behind the Scenes Tour
DESCRIPTION:Discover what goes on behind the scenes at our aquarium! Includes admission for the day.\nSneakers are required.\nAges 5 and up only. $30 Adults (12 years and up) / $20 Children (Ages 5-11). \nTo Register Click Here!
URL:https://jenkinsons.com/aquarium/event/behind-the-scenes-tour-18/
LOCATION:The Aquarium\, 300 Ocean Ave\, Pt. Pleasant Beach\, NJ\, 08742\, United States
CATEGORIES:Educational Programs,Events,Hours of Operation
ATTACH;FMTTYPE=image/jpeg:https://jenks-uploads.nyc3.digitaloceanspaces.com/wp-content/uploads/sites/2/2023/11/31111338/behind-the-scenes-square.jpg
END:VEVENT
BEGIN:VEVENT
DTSTART;TZID=America/New_York:20260618T100000
DTEND;TZID=America/New_York:20260907T220000
DTSTAMP:20260421T055453
CREATED:20260320T004301Z
LAST-MODIFIED:20260320T004302Z
UID:20873-1781776800-1788818400@jenkinsons.com
SUMMARY:Open 10am-10pm
DESCRIPTION:
URL:https://jenkinsons.com/aquarium/event/open-10am-10pm-4/
LOCATION:The Aquarium\, 300 Ocean Ave\, Pt. Pleasant Beach\, NJ\, 08742\, United States
CATEGORIES:Events,Hours of Operation,Special Events
END:VEVENT
BEGIN:VEVENT
DTSTART;TZID=America/New_York:20260620T090000
DTEND;TZID=America/New_York:20260620T100000
DTSTAMP:20260421T055453
CREATED:20260201T202915Z
LAST-MODIFIED:20260304T203214Z
UID:20509-1781946000-1781949600@jenkinsons.com
SUMMARY:Wake up with Wally
DESCRIPTION:Did you know sloths can sleep up to 15 hours a day? Join Wally for an (early for him) morning visit! Come in your pajamas to read a book\, make a craft and have a visit with our sleepy sloth! Includes admission for the day. \nThis program is open to children of all ages.\n$30 Adults (12 years and up) / $30 Children (Ages 3-11) / Children 2 & Under are FREE. \nTo Register Click Here!
URL:https://jenkinsons.com/aquarium/event/wake-up-with-wally-3/
LOCATION:The Aquarium\, 300 Ocean Ave\, Pt. Pleasant Beach\, NJ\, 08742\, United States
CATEGORIES:Educational Programs,Events,Hours of Operation
ATTACH;FMTTYPE=image/png:https://jenks-uploads.nyc3.digitaloceanspaces.com/wp-content/uploads/sites/2/2026/02/06083053/WakeupWithWally.png
END:VEVENT
END:VCALENDAR