BEGIN:VCALENDAR
VERSION:2.0
PRODID:-//Aquarium - ECPv6.15.17.1//NONSGML v1.0//EN
CALSCALE:GREGORIAN
METHOD:PUBLISH
X-ORIGINAL-URL:https://jenkinsons.com/aquarium
X-WR-CALDESC:Events for Aquarium
REFRESH-INTERVAL;VALUE=DURATION:PT1H
X-Robots-Tag:noindex
X-PUBLISHED-TTL:PT1H
BEGIN:VTIMEZONE
TZID:America/New_York
BEGIN:DAYLIGHT
TZOFFSETFROM:-0500
TZOFFSETTO:-0400
TZNAME:EDT
DTSTART:20250309T070000
END:DAYLIGHT
BEGIN:STANDARD
TZOFFSETFROM:-0400
TZOFFSETTO:-0500
TZNAME:EST
DTSTART:20251102T060000
END:STANDARD
BEGIN:DAYLIGHT
TZOFFSETFROM:-0500
TZOFFSETTO:-0400
TZNAME:EDT
DTSTART:20260308T070000
END:DAYLIGHT
BEGIN:STANDARD
TZOFFSETFROM:-0400
TZOFFSETTO:-0500
TZNAME:EST
DTSTART:20261101T060000
END:STANDARD
BEGIN:DAYLIGHT
TZOFFSETFROM:-0500
TZOFFSETTO:-0400
TZNAME:EDT
DTSTART:20270314T070000
END:DAYLIGHT
BEGIN:STANDARD
TZOFFSETFROM:-0400
TZOFFSETTO:-0500
TZNAME:EST
DTSTART:20271107T060000
END:STANDARD
END:VTIMEZONE
BEGIN:VEVENT
DTSTART;TZID=America/New_York:20260531T083000
DTEND;TZID=America/New_York:20260531T113000
DTSTAMP:20260421T070411
CREATED:20260201T202211Z
LAST-MODIFIED:20260320T004800Z
UID:20505-1780216200-1780227000@jenkinsons.com
SUMMARY:Junior Keepers (7-11 years old)
DESCRIPTION:This is a great program for those future marine biologists! Come experience the aquarium from an employee’s point of view. Learn how to provide animal care including training\, enrichment\, and feeding for a variety of animals. You’ll go behind the scenes\, meet some of our animals\, and talk with our care staff.\nPre-registration & sneakers are required.\nAges 7-11 years. $100 per Child. \nTo Register Click Here!
URL:https://jenkinsons.com/aquarium/event/junior-keepers-7-11-years-old-12/
LOCATION:The Aquarium\, 300 Ocean Ave\, Pt. Pleasant Beach\, NJ\, 08742\, United States
CATEGORIES:Educational Programs,Events,Hours of Operation
ATTACH;FMTTYPE=image/png:https://jenks-uploads.nyc3.digitaloceanspaces.com/wp-content/uploads/sites/2/2025/04/31111517/JuniorKeepers-Logo-2025.png
END:VEVENT
BEGIN:VEVENT
DTSTART;TZID=America/New_York:20260531T100000
DTEND;TZID=America/New_York:20260531T180000
DTSTAMP:20260421T070411
CREATED:20260320T002957Z
LAST-MODIFIED:20260320T002957Z
UID:20855-1780221600-1780250400@jenkinsons.com
SUMMARY:Open 10am-6pm
DESCRIPTION:
URL:https://jenkinsons.com/aquarium/event/open-10am-6pm-8/
LOCATION:The Aquarium\, 300 Ocean Ave\, Pt. Pleasant Beach\, NJ\, 08742\, United States
CATEGORIES:Events,Hours of Operation,Special Events
END:VEVENT
BEGIN:VEVENT
DTSTART;TZID=America/New_York:20260601T100000
DTEND;TZID=America/New_York:20260604T170000
DTSTAMP:20260421T070411
CREATED:20260320T003118Z
LAST-MODIFIED:20260320T003118Z
UID:20857-1780308000-1780592400@jenkinsons.com
SUMMARY:Open 10am-5pm
DESCRIPTION:
URL:https://jenkinsons.com/aquarium/event/open-10am-5pm-7/
LOCATION:The Aquarium\, 300 Ocean Ave\, Pt. Pleasant Beach\, NJ\, 08742\, United States
CATEGORIES:Events,Hours of Operation,Special Events
END:VEVENT
BEGIN:VEVENT
DTSTART;TZID=America/New_York:20260605T100000
DTEND;TZID=America/New_York:20260605T190000
DTSTAMP:20260421T070411
CREATED:20260320T003228Z
LAST-MODIFIED:20260320T003228Z
UID:20859-1780653600-1780686000@jenkinsons.com
SUMMARY:Open 10am-7pm
DESCRIPTION:
URL:https://jenkinsons.com/aquarium/event/open-10am-7pm-2/
LOCATION:The Aquarium\, 300 Ocean Ave\, Pt. Pleasant Beach\, NJ\, 08742\, United States
CATEGORIES:Events,Hours of Operation,Special Events
END:VEVENT
BEGIN:VEVENT
DTSTART;TZID=America/New_York:20260606T100000
DTEND;TZID=America/New_York:20260606T220000
DTSTAMP:20260421T070411
CREATED:20260320T003346Z
LAST-MODIFIED:20260320T003346Z
UID:20861-1780740000-1780783200@jenkinsons.com
SUMMARY:Open 10am-10pm
DESCRIPTION:
URL:https://jenkinsons.com/aquarium/event/open-10am-10pm-2/
LOCATION:The Aquarium\, 300 Ocean Ave\, Pt. Pleasant Beach\, NJ\, 08742\, United States
CATEGORIES:Events,Hours of Operation,Special Events
END:VEVENT
BEGIN:VEVENT
DTSTART;TZID=America/New_York:20260606T120000
DTEND;TZID=America/New_York:20260606T160000
DTSTAMP:20260421T070411
CREATED:20260304T010356Z
LAST-MODIFIED:20260327T132336Z
UID:20674-1780747200-1780761600@jenkinsons.com
SUMMARY:35th Anniversary Celebration
DESCRIPTION:Celebrating 35 years is a remarkable milestone for any institution—but for an aquarium\, it represents decades of inspiring a sea of change. Join us in our celebration with entertainment and activities all weekend long.  \nIncluded with general admission.
URL:https://jenkinsons.com/aquarium/event/35th-anniversary-celebration/
LOCATION:The Aquarium\, 300 Ocean Ave\, Pt. Pleasant Beach\, NJ\, 08742\, United States
CATEGORIES:Educational Programs,Events,Hours of Operation,Special Events
ATTACH;FMTTYPE=image/jpeg:https://jenks-uploads.nyc3.digitaloceanspaces.com/wp-content/uploads/sites/2/2026/03/26085827/35Anniversary.jpg
END:VEVENT
END:VCALENDAR