BEGIN:VCALENDAR
VERSION:2.0
PRODID:-//Aquarium - ECPv6.15.17.1//NONSGML v1.0//EN
CALSCALE:GREGORIAN
METHOD:PUBLISH
X-ORIGINAL-URL:https://jenkinsons.com/aquarium
X-WR-CALDESC:Events for Aquarium
REFRESH-INTERVAL;VALUE=DURATION:PT1H
X-Robots-Tag:noindex
X-PUBLISHED-TTL:PT1H
BEGIN:VTIMEZONE
TZID:America/New_York
BEGIN:DAYLIGHT
TZOFFSETFROM:-0500
TZOFFSETTO:-0400
TZNAME:EDT
DTSTART:20250309T070000
END:DAYLIGHT
BEGIN:STANDARD
TZOFFSETFROM:-0400
TZOFFSETTO:-0500
TZNAME:EST
DTSTART:20251102T060000
END:STANDARD
BEGIN:DAYLIGHT
TZOFFSETFROM:-0500
TZOFFSETTO:-0400
TZNAME:EDT
DTSTART:20260308T070000
END:DAYLIGHT
BEGIN:STANDARD
TZOFFSETFROM:-0400
TZOFFSETTO:-0500
TZNAME:EST
DTSTART:20261101T060000
END:STANDARD
BEGIN:DAYLIGHT
TZOFFSETFROM:-0500
TZOFFSETTO:-0400
TZNAME:EDT
DTSTART:20270314T070000
END:DAYLIGHT
BEGIN:STANDARD
TZOFFSETFROM:-0400
TZOFFSETTO:-0500
TZNAME:EST
DTSTART:20271107T060000
END:STANDARD
END:VTIMEZONE
BEGIN:VEVENT
DTSTART;TZID=America/New_York:20260403T100000
DTEND;TZID=America/New_York:20260412T180000
DTSTAMP:20260420T204415
CREATED:20260314T173337Z
LAST-MODIFIED:20260314T174408Z
UID:20746-1775210400-1776016800@jenkinsons.com
SUMMARY:OPEN 10am-6pm
DESCRIPTION:
URL:https://jenkinsons.com/aquarium/event/open-10am-6pm-4/
LOCATION:The Aquarium\, 300 Ocean Ave\, Pt. Pleasant Beach\, NJ\, 08742\, United States
CATEGORIES:Events,Hours of Operation,Special Events
END:VEVENT
BEGIN:VEVENT
DTSTART;TZID=America/New_York:20260405T100000
DTEND;TZID=America/New_York:20260405T180000
DTSTAMP:20260420T204415
CREATED:20260314T174114Z
LAST-MODIFIED:20260314T180554Z
UID:20753-1775383200-1775412000@jenkinsons.com
SUMMARY:Extended Hours
DESCRIPTION:
URL:https://jenkinsons.com/aquarium/event/extended-hours-2/
LOCATION:The Aquarium\, 300 Ocean Ave\, Pt. Pleasant Beach\, NJ\, 08742\, United States
CATEGORIES:Events,Hours of Operation,Special Events
ATTACH;FMTTYPE=image/png:https://jenks-uploads.nyc3.digitaloceanspaces.com/wp-content/uploads/sites/2/2026/03/14132827/Extended-Hours-2.png
END:VEVENT
BEGIN:VEVENT
DTSTART;TZID=America/New_York:20260406T083000
DTEND;TZID=America/New_York:20260406T113000
DTSTAMP:20260420T204415
CREATED:20260114T010229Z
LAST-MODIFIED:20260314T181754Z
UID:20398-1775464200-1775475000@jenkinsons.com
SUMMARY:Junior Keepers (11-15 years old)
DESCRIPTION:This is a great program for those future marine biologists! Come experience the aquarium from an employee’s point of view. Learn how to provide animal care including training\, enrichment\, and feeding for a variety of animals. You’ll go behind the scenes\, meet some of our animals\, and talk with our care staff.\nPre-registration & sneakers are required.\nAges 11-15 years. $100 per Child. \nTo Register Click Here!
URL:https://jenkinsons.com/aquarium/event/junior-keepers-11-15-years-old-5/
LOCATION:The Aquarium\, 300 Ocean Ave\, Pt. Pleasant Beach\, NJ\, 08742\, United States
CATEGORIES:Educational Programs,Events,Hours of Operation
ATTACH;FMTTYPE=image/png:https://jenks-uploads.nyc3.digitaloceanspaces.com/wp-content/uploads/sites/2/2025/04/31111517/JuniorKeepers-Logo-2025.png
END:VEVENT
BEGIN:VEVENT
DTSTART;TZID=America/New_York:20260406T100000
DTEND;TZID=America/New_York:20260406T180000
DTSTAMP:20260420T204415
CREATED:20260314T174549Z
LAST-MODIFIED:20260314T180611Z
UID:20758-1775469600-1775498400@jenkinsons.com
SUMMARY:Extended Hours
DESCRIPTION:
URL:https://jenkinsons.com/aquarium/event/extended-hours-3/
LOCATION:The Aquarium\, 300 Ocean Ave\, Pt. Pleasant Beach\, NJ\, 08742\, United States
CATEGORIES:Events,Hours of Operation,Special Events
ATTACH;FMTTYPE=image/png:https://jenks-uploads.nyc3.digitaloceanspaces.com/wp-content/uploads/sites/2/2026/03/14132827/Extended-Hours-2.png
END:VEVENT
BEGIN:VEVENT
DTSTART;TZID=America/New_York:20260407T100000
DTEND;TZID=America/New_York:20260407T180000
DTSTAMP:20260420T204415
CREATED:20260314T174631Z
LAST-MODIFIED:20260314T180630Z
UID:20760-1775556000-1775584800@jenkinsons.com
SUMMARY:Extended Hours
DESCRIPTION:
URL:https://jenkinsons.com/aquarium/event/extended-hours-4/
LOCATION:The Aquarium\, 300 Ocean Ave\, Pt. Pleasant Beach\, NJ\, 08742\, United States
CATEGORIES:Events,Hours of Operation,Special Events
ATTACH;FMTTYPE=image/png:https://jenks-uploads.nyc3.digitaloceanspaces.com/wp-content/uploads/sites/2/2026/03/14132827/Extended-Hours-2.png
END:VEVENT
BEGIN:VEVENT
DTSTART;TZID=America/New_York:20260408T100000
DTEND;TZID=America/New_York:20260408T180000
DTSTAMP:20260420T204415
CREATED:20260314T174708Z
LAST-MODIFIED:20260314T180652Z
UID:20762-1775642400-1775671200@jenkinsons.com
SUMMARY:Extended Hours
DESCRIPTION:
URL:https://jenkinsons.com/aquarium/event/extended-hours-5/
LOCATION:The Aquarium\, 300 Ocean Ave\, Pt. Pleasant Beach\, NJ\, 08742\, United States
CATEGORIES:Events,Hours of Operation,Special Events
ATTACH;FMTTYPE=image/png:https://jenks-uploads.nyc3.digitaloceanspaces.com/wp-content/uploads/sites/2/2026/03/14132827/Extended-Hours-2.png
END:VEVENT
BEGIN:VEVENT
DTSTART;TZID=America/New_York:20260409T100000
DTEND;TZID=America/New_York:20260409T180000
DTSTAMP:20260420T204415
CREATED:20260314T174754Z
LAST-MODIFIED:20260314T181611Z
UID:20764-1775728800-1775757600@jenkinsons.com
SUMMARY:Extended Hours
DESCRIPTION:
URL:https://jenkinsons.com/aquarium/event/extended-hours-6/
LOCATION:The Aquarium\, 300 Ocean Ave\, Pt. Pleasant Beach\, NJ\, 08742\, United States
CATEGORIES:Events,Hours of Operation,Special Events
ATTACH;FMTTYPE=image/png:https://jenks-uploads.nyc3.digitaloceanspaces.com/wp-content/uploads/sites/2/2026/03/14132827/Extended-Hours-2.png
END:VEVENT
BEGIN:VEVENT
DTSTART;TZID=America/New_York:20260410T100000
DTEND;TZID=America/New_York:20260410T180000
DTSTAMP:20260420T204415
CREATED:20260314T174845Z
LAST-MODIFIED:20260314T181148Z
UID:20766-1775815200-1775844000@jenkinsons.com
SUMMARY:Extended Hours
DESCRIPTION:
URL:https://jenkinsons.com/aquarium/event/extended-hours-7/
LOCATION:The Aquarium\, 300 Ocean Ave\, Pt. Pleasant Beach\, NJ\, 08742\, United States
CATEGORIES:Events,Hours of Operation,Special Events
ATTACH;FMTTYPE=image/png:https://jenks-uploads.nyc3.digitaloceanspaces.com/wp-content/uploads/sites/2/2026/03/14132827/Extended-Hours-2.png
END:VEVENT
BEGIN:VEVENT
DTSTART;TZID=America/New_York:20260411T100000
DTEND;TZID=America/New_York:20260411T180000
DTSTAMP:20260420T204415
CREATED:20260314T174936Z
LAST-MODIFIED:20260314T180857Z
UID:20768-1775901600-1775930400@jenkinsons.com
SUMMARY:Extended Hours
DESCRIPTION:
URL:https://jenkinsons.com/aquarium/event/extended-hours-8/
LOCATION:The Aquarium\, 300 Ocean Ave\, Pt. Pleasant Beach\, NJ\, 08742\, United States
CATEGORIES:Events,Hours of Operation,Special Events
ATTACH;FMTTYPE=image/png:https://jenks-uploads.nyc3.digitaloceanspaces.com/wp-content/uploads/sites/2/2026/03/14132827/Extended-Hours-2.png
END:VEVENT
BEGIN:VEVENT
DTSTART;TZID=America/New_York:20260411T120000
DTEND;TZID=America/New_York:20260411T160000
DTSTAMP:20260420T204415
CREATED:20240208T144529Z
LAST-MODIFIED:20260116T212449Z
UID:14558-1775908800-1775923200@jenkinsons.com
SUMMARY:Sealabration!
DESCRIPTION:It’s birthday time for our harbor seals\, Noelani and Turbo! Come join in the celebration for Noelani’s 9th birthday and Turbo’s 3rd birthday! At the 1pm feeding\, visitors are invited to wear birthday hats and join us in singing “Happy Birthday” to our girls as they enjoy a special birthday “cake”. Learn all about seals through games\, activities\, and make a craft!\nIncluded with general admission.
URL:https://jenkinsons.com/aquarium/event/sealabration/
LOCATION:The Aquarium\, 300 Ocean Ave\, Pt. Pleasant Beach\, NJ\, 08742\, United States
CATEGORIES:Educational Programs,Events,Hours of Operation,Special Events
ATTACH;FMTTYPE=image/png:https://jenks-uploads.nyc3.digitaloceanspaces.com/wp-content/uploads/sites/2/2024/02/31111339/Sealabration.png
END:VEVENT
END:VCALENDAR