BEGIN:VCALENDAR
VERSION:2.0
PRODID:-//Aquarium - ECPv6.15.17.1//NONSGML v1.0//EN
CALSCALE:GREGORIAN
METHOD:PUBLISH
X-ORIGINAL-URL:https://jenkinsons.com/aquarium
X-WR-CALDESC:Events for Aquarium
REFRESH-INTERVAL;VALUE=DURATION:PT1H
X-Robots-Tag:noindex
X-PUBLISHED-TTL:PT1H
BEGIN:VTIMEZONE
TZID:America/New_York
BEGIN:DAYLIGHT
TZOFFSETFROM:-0500
TZOFFSETTO:-0400
TZNAME:EDT
DTSTART:20250309T070000
END:DAYLIGHT
BEGIN:STANDARD
TZOFFSETFROM:-0400
TZOFFSETTO:-0500
TZNAME:EST
DTSTART:20251102T060000
END:STANDARD
BEGIN:DAYLIGHT
TZOFFSETFROM:-0500
TZOFFSETTO:-0400
TZNAME:EDT
DTSTART:20260308T070000
END:DAYLIGHT
BEGIN:STANDARD
TZOFFSETFROM:-0400
TZOFFSETTO:-0500
TZNAME:EST
DTSTART:20261101T060000
END:STANDARD
BEGIN:DAYLIGHT
TZOFFSETFROM:-0500
TZOFFSETTO:-0400
TZNAME:EDT
DTSTART:20270314T070000
END:DAYLIGHT
BEGIN:STANDARD
TZOFFSETFROM:-0400
TZOFFSETTO:-0500
TZNAME:EST
DTSTART:20271107T060000
END:STANDARD
END:VTIMEZONE
BEGIN:VTIMEZONE
TZID:UTC
BEGIN:STANDARD
TZOFFSETFROM:+0000
TZOFFSETTO:+0000
TZNAME:UTC
DTSTART:20250101T000000
END:STANDARD
END:VTIMEZONE
BEGIN:VEVENT
DTSTART;TZID=America/New_York:20260102T100000
DTEND;TZID=America/New_York:20260402T170000
DTSTAMP:20260421T125922
CREATED:20251222T161520Z
LAST-MODIFIED:20260314T173258Z
UID:20240-1767348000-1775149200@jenkinsons.com
SUMMARY:OPEN 10am-5pm
DESCRIPTION:
URL:https://jenkinsons.com/aquarium/event/open-10am-5pm-2/
LOCATION:The Aquarium\, 300 Ocean Ave\, Pt. Pleasant Beach\, NJ\, 08742\, United States
CATEGORIES:Hours of Operation,Special Events
END:VEVENT
BEGIN:VEVENT
DTSTART;TZID=America/New_York:20260222T090000
DTEND;TZID=America/New_York:20260222T100000
DTSTAMP:20260421T125922
CREATED:20251115T202841Z
LAST-MODIFIED:20251115T202841Z
UID:19933-1771750800-1771754400@jenkinsons.com
SUMMARY:Yoga
DESCRIPTION:Enjoy an hour-long yoga class with This Is Yoga NJ surrounded by fascinating sea life\, including our playful seals\, Turbo and Noelani. A perfect way to blend relaxation with a unique aquatic experience! Includes admission for the day.\nThis program is planned as an All Levels Yoga class geared for adults\, but ages 10+ are welcome accompanied by a participating adult.\n$30 per participant. \nTo Register Click Here! \nRegistration will close February 20th at 4pm.
URL:https://jenkinsons.com/aquarium/event/yoga-3/
LOCATION:The Aquarium\, 300 Ocean Ave\, Pt. Pleasant Beach\, NJ\, 08742\, United States
CATEGORIES:Educational Programs,Events,Hours of Operation
ATTACH;FMTTYPE=image/png:https://jenks-uploads.nyc3.digitaloceanspaces.com/wp-content/uploads/sites/2/2025/02/31111403/Yoga-Website-No-Date.png
END:VEVENT
BEGIN:VEVENT
DTSTART;TZID=America/New_York:20260228T090000
DTEND;TZID=America/New_York:20260228T100000
DTSTAMP:20260421T125922
CREATED:20260114T014712Z
LAST-MODIFIED:20260114T014712Z
UID:20405-1772269200-1772272800@jenkinsons.com
SUMMARY:Sensory Saturday
DESCRIPTION:Guests with autism spectrum disorder\, sensory processing or cognitive challenges\, as well as guests requiring assistance for disabilities are invited to explore the aquarium before we open to the public. To create a sensory friendly environment there will be a decreased noise level\, limited visual stimulation and less crowding. \nGeneral admission applies.
URL:https://jenkinsons.com/aquarium/event/sensory-saturday-11/
LOCATION:The Aquarium\, 300 Ocean Ave\, Pt. Pleasant Beach\, NJ\, 08742\, United States
CATEGORIES:Events,Hours of Operation,Special Events
ATTACH;FMTTYPE=image/png:https://jenks-uploads.nyc3.digitaloceanspaces.com/wp-content/uploads/sites/2/2025/08/31111514/Sensory-Saturdays-Square.png
END:VEVENT
BEGIN:VEVENT
DTSTART;TZID=UTC:20260228T120000
DTEND;TZID=UTC:20260228T160000
DTSTAMP:20260421T125922
CREATED:20181207T211853Z
LAST-MODIFIED:20251125T210824Z
UID:14020-1772280000-1772294400@jenkinsons.com
SUMMARY:International Polar Bear Day
DESCRIPTION:Polar bears are not your average bear! Join us as we celebrate the King of the North with educational displays\, crafts\, games\, and visits from Gus the polar bear!  \nIncluded with general admission.
URL:https://jenkinsons.com/aquarium/event/international-polar-bear-day-2/
LOCATION:The Aquarium\, 300 Ocean Ave\, Pt. Pleasant Beach\, NJ\, 08742\, United States
CATEGORIES:Events,Hours of Operation,Special Events
ATTACH;FMTTYPE=image/png:https://jenks-uploads.nyc3.digitaloceanspaces.com/wp-content/uploads/sites/2/2018/12/31111359/Polar-Bear-Day-Website.png
END:VEVENT
END:VCALENDAR