BEGIN:VCALENDAR
VERSION:2.0
PRODID:-//Aquarium - ECPv6.15.17.1//NONSGML v1.0//EN
CALSCALE:GREGORIAN
METHOD:PUBLISH
X-ORIGINAL-URL:https://jenkinsons.com/aquarium
X-WR-CALDESC:Events for Aquarium
REFRESH-INTERVAL;VALUE=DURATION:PT1H
X-Robots-Tag:noindex
X-PUBLISHED-TTL:PT1H
BEGIN:VTIMEZONE
TZID:America/New_York
BEGIN:DAYLIGHT
TZOFFSETFROM:-0500
TZOFFSETTO:-0400
TZNAME:EDT
DTSTART:20250309T070000
END:DAYLIGHT
BEGIN:STANDARD
TZOFFSETFROM:-0400
TZOFFSETTO:-0500
TZNAME:EST
DTSTART:20251102T060000
END:STANDARD
BEGIN:DAYLIGHT
TZOFFSETFROM:-0500
TZOFFSETTO:-0400
TZNAME:EDT
DTSTART:20260308T070000
END:DAYLIGHT
BEGIN:STANDARD
TZOFFSETFROM:-0400
TZOFFSETTO:-0500
TZNAME:EST
DTSTART:20261101T060000
END:STANDARD
BEGIN:DAYLIGHT
TZOFFSETFROM:-0500
TZOFFSETTO:-0400
TZNAME:EDT
DTSTART:20270314T070000
END:DAYLIGHT
BEGIN:STANDARD
TZOFFSETFROM:-0400
TZOFFSETTO:-0500
TZNAME:EST
DTSTART:20271107T060000
END:STANDARD
END:VTIMEZONE
BEGIN:VEVENT
DTSTART;TZID=America/New_York:20260102T100000
DTEND;TZID=America/New_York:20260402T170000
DTSTAMP:20260421T122315
CREATED:20251222T161520Z
LAST-MODIFIED:20260314T173258Z
UID:20240-1767348000-1775149200@jenkinsons.com
SUMMARY:OPEN 10am-5pm
DESCRIPTION:
URL:https://jenkinsons.com/aquarium/event/open-10am-5pm-2/
LOCATION:The Aquarium\, 300 Ocean Ave\, Pt. Pleasant Beach\, NJ\, 08742\, United States
CATEGORIES:Hours of Operation,Special Events
END:VEVENT
BEGIN:VEVENT
DTSTART;TZID=America/New_York:20260215T120000
DTEND;TZID=America/New_York:20260215T160000
DTSTAMP:20260421T122315
CREATED:20241121T015933Z
LAST-MODIFIED:20251125T190213Z
UID:17513-1771156800-1771171200@jenkinsons.com
SUMMARY:World Whale Day
DESCRIPTION:This day is celebrated to raise awareness about the challenges all whales face and to promote their conservation. Learn all about these amazing marine mammals through crafts\, activities\, chats\, and more! \nIncluded with general admission.
URL:https://jenkinsons.com/aquarium/event/world-whale-day/
LOCATION:The Aquarium\, 300 Ocean Ave\, Pt. Pleasant Beach\, NJ\, 08742\, United States
CATEGORIES:Events,Hours of Operation,Special Events
ATTACH;FMTTYPE=image/png:https://jenks-uploads.nyc3.digitaloceanspaces.com/wp-content/uploads/sites/2/2025/11/31111401/world-whale-day.png
END:VEVENT
BEGIN:VEVENT
DTSTART;TZID=America/New_York:20260216T083000
DTEND;TZID=America/New_York:20260216T113000
DTSTAMP:20260421T122315
CREATED:20250203T191103Z
LAST-MODIFIED:20251115T200012Z
UID:17929-1771230600-1771241400@jenkinsons.com
SUMMARY:Junior Keepers (7-11 years old)
DESCRIPTION:This is a great program for those future marine biologists! Come experience the aquarium from an employee’s point of view. Learn how to provide animal care including training\, enrichment\, and feeding for a variety of animals. You’ll go behind the scenes\, meet live animals\, and talk with our care staff.\nPre-registration & sneakers are required.\nAges 7-11 years. $100 per Child. \nTo Register Click Here!
URL:https://jenkinsons.com/aquarium/event/junior-keepers-7-11-year-olds-7/
LOCATION:The Aquarium\, 300 Ocean Ave\, Pt. Pleasant Beach\, NJ\, 08742\, United States
CATEGORIES:Educational Programs,Events,Hours of Operation
ATTACH;FMTTYPE=image/png:https://jenks-uploads.nyc3.digitaloceanspaces.com/wp-content/uploads/sites/2/2025/04/31111517/JuniorKeepers-Logo-2025.png
END:VEVENT
END:VCALENDAR