BEGIN:VCALENDAR
VERSION:2.0
PRODID:-//Aquarium - ECPv6.15.17.1//NONSGML v1.0//EN
CALSCALE:GREGORIAN
METHOD:PUBLISH
X-WR-CALNAME:Aquarium
X-ORIGINAL-URL:https://jenkinsons.com/aquarium
X-WR-CALDESC:Events for Aquarium
REFRESH-INTERVAL;VALUE=DURATION:PT1H
X-Robots-Tag:noindex
X-PUBLISHED-TTL:PT1H
BEGIN:VTIMEZONE
TZID:America/New_York
BEGIN:DAYLIGHT
TZOFFSETFROM:-0500
TZOFFSETTO:-0400
TZNAME:EDT
DTSTART:20230312T070000
END:DAYLIGHT
BEGIN:STANDARD
TZOFFSETFROM:-0400
TZOFFSETTO:-0500
TZNAME:EST
DTSTART:20231105T060000
END:STANDARD
BEGIN:DAYLIGHT
TZOFFSETFROM:-0500
TZOFFSETTO:-0400
TZNAME:EDT
DTSTART:20240310T070000
END:DAYLIGHT
BEGIN:STANDARD
TZOFFSETFROM:-0400
TZOFFSETTO:-0500
TZNAME:EST
DTSTART:20241103T060000
END:STANDARD
BEGIN:DAYLIGHT
TZOFFSETFROM:-0500
TZOFFSETTO:-0400
TZNAME:EDT
DTSTART:20250309T070000
END:DAYLIGHT
BEGIN:STANDARD
TZOFFSETFROM:-0400
TZOFFSETTO:-0500
TZNAME:EST
DTSTART:20251102T060000
END:STANDARD
END:VTIMEZONE
BEGIN:VEVENT
DTSTART;TZID=America/New_York:20240930T100000
DTEND;TZID=America/New_York:20241206T170000
DTSTAMP:20260420T122359
CREATED:20240818T204155Z
LAST-MODIFIED:20241118T164733Z
UID:17093-1727690400-1733504400@jenkinsons.com
SUMMARY:10am - 5pm
DESCRIPTION:
URL:https://jenkinsons.com/aquarium/event/10am-5pm-22/
LOCATION:The Aquarium\, 300 Ocean Ave\, Pt. Pleasant Beach\, NJ\, 08742\, United States
CATEGORIES:Events,Hours of Operation
END:VEVENT
BEGIN:VEVENT
DTSTART;TZID=America/New_York:20241027T120000
DTEND;TZID=America/New_York:20241027T160000
DTSTAMP:20260420T122359
CREATED:20240904T194756Z
LAST-MODIFIED:20240904T194756Z
UID:17171-1730030400-1730044800@jenkinsons.com
SUMMARY:BOO at the Boardwalk
DESCRIPTION:Click here for all event info! \nLimited Kiddie Rides\, Trick-or-Treating\, Games\, Underwater Pumpkin Carving\, Crafts & MORE!
URL:https://jenkinsons.com/aquarium/event/boo-at-the-boardwalk-4/
LOCATION:The Aquarium\, 300 Ocean Ave\, Pt. Pleasant Beach\, NJ\, 08742\, United States
CATEGORIES:Events,Hours of Operation,Special Events
ATTACH;FMTTYPE=image/jpeg:https://jenks-uploads.nyc3.digitaloceanspaces.com/wp-content/uploads/sites/2/2024/08/31111853/27940-BooBoardwalk-FB.jpg
END:VEVENT
BEGIN:VEVENT
DTSTART;TZID=America/New_York:20241027T140000
DTEND;TZID=America/New_York:20241027T160000
DTSTAMP:20260420T122359
CREATED:20240829T194656Z
LAST-MODIFIED:20240829T194656Z
UID:17140-1730037600-1730044800@jenkinsons.com
SUMMARY:Creepy Crawlers
DESCRIPTION:In celebration of “Boo at the Boardwalk”\, enjoy learning all about our “Creepy Crawlers” here at the Aquarium! Included in General Admission.
URL:https://jenkinsons.com/aquarium/event/creepy-crawlers-4/
LOCATION:The Aquarium\, 300 Ocean Ave\, Pt. Pleasant Beach\, NJ\, 08742\, United States
CATEGORIES:Events,Hours of Operation,Special Events
ATTACH;FMTTYPE=image/jpeg:https://jenks-uploads.nyc3.digitaloceanspaces.com/wp-content/uploads/sites/2/2024/08/31111852/Creepy-Crawlers-e1724960017737.jpg
END:VEVENT
BEGIN:VEVENT
DTSTART;TZID=America/New_York:20241027T150000
DTEND;TZID=America/New_York:20241027T153000
DTSTAMP:20260420T122359
CREATED:20240829T195456Z
LAST-MODIFIED:20240829T195456Z
UID:17150-1730041200-1730043000@jenkinsons.com
SUMMARY:Underwater Pumpkin Carving
DESCRIPTION:In celebration of “Boo at the Boardwalk”\, join us in watching one of our Scuba Divers carve a pumpkin underwater! Included in General Admission.
URL:https://jenkinsons.com/aquarium/event/underwater-pumpkin-carving-6/
LOCATION:The Aquarium\, 300 Ocean Ave\, Pt. Pleasant Beach\, NJ\, 08742\, United States
CATEGORIES:Events,Hours of Operation,Special Events
ATTACH;FMTTYPE=image/jpeg:https://jenks-uploads.nyc3.digitaloceanspaces.com/wp-content/uploads/sites/2/2024/08/31111853/Underwater-pumpkin-carving-e1724960094893.jpeg
END:VEVENT
BEGIN:VEVENT
DTSTART;TZID=America/New_York:20241102T120000
DTEND;TZID=America/New_York:20241102T160000
DTSTAMP:20260420T122359
CREATED:20240806T162457Z
LAST-MODIFIED:20240806T165956Z
UID:17027-1730548800-1730563200@jenkinsons.com
SUMMARY:Polar Bear Week
DESCRIPTION:Polar Bears International created Polar Bear Week to coincide with the annual gathering of polar bears near Churchill\, Canada\, as they wait for sea ice to form on Hudson Bay so they can return to hunting seals. During this week\, we draw attention to the threat’s polar bears face in a warming Arctic. Celebrate with us during Polar Bear Week! Join one of Polar Bears International’s Tundra Connections webcasts\, watch the Polar Bear Cams\, and learn how you can make an impact by visiting this link!Join us as we celebrate these amazing bears! There will be educational displays\, crafts\, activities and more! All ages. Included with General Admission.
URL:https://jenkinsons.com/aquarium/event/polar-bear-day/
LOCATION:The Aquarium\, 300 Ocean Ave\, Pt. Pleasant Beach\, NJ\, 08742\, United States
CATEGORIES:Educational Programs,Events,Hours of Operation,Special Events
ATTACH;FMTTYPE=image/jpeg:https://jenks-uploads.nyc3.digitaloceanspaces.com/wp-content/uploads/sites/2/2024/08/31111915/polar-bear-e1722963555529.jpg
END:VEVENT
END:VCALENDAR