BEGIN:VCALENDAR
VERSION:2.0
PRODID:-//Aquarium - ECPv6.15.17.1//NONSGML v1.0//EN
CALSCALE:GREGORIAN
METHOD:PUBLISH
X-ORIGINAL-URL:https://jenkinsons.com/aquarium
X-WR-CALDESC:Events for Aquarium
REFRESH-INTERVAL;VALUE=DURATION:PT1H
X-Robots-Tag:noindex
X-PUBLISHED-TTL:PT1H
BEGIN:VTIMEZONE
TZID:America/New_York
BEGIN:DAYLIGHT
TZOFFSETFROM:-0500
TZOFFSETTO:-0400
TZNAME:EDT
DTSTART:20230312T070000
END:DAYLIGHT
BEGIN:STANDARD
TZOFFSETFROM:-0400
TZOFFSETTO:-0500
TZNAME:EST
DTSTART:20231105T060000
END:STANDARD
BEGIN:DAYLIGHT
TZOFFSETFROM:-0500
TZOFFSETTO:-0400
TZNAME:EDT
DTSTART:20240310T070000
END:DAYLIGHT
BEGIN:STANDARD
TZOFFSETFROM:-0400
TZOFFSETTO:-0500
TZNAME:EST
DTSTART:20241103T060000
END:STANDARD
BEGIN:DAYLIGHT
TZOFFSETFROM:-0500
TZOFFSETTO:-0400
TZNAME:EDT
DTSTART:20250309T070000
END:DAYLIGHT
BEGIN:STANDARD
TZOFFSETFROM:-0400
TZOFFSETTO:-0500
TZNAME:EST
DTSTART:20251102T060000
END:STANDARD
END:VTIMEZONE
BEGIN:VEVENT
DTSTART;VALUE=DATE:20240922
DTEND;VALUE=DATE:20240923
DTSTAMP:20260420T172602
CREATED:20240818T202424Z
LAST-MODIFIED:20240818T202424Z
UID:17080-1726963200-1727049599@jenkinsons.com
SUMMARY:10am - 6pm
DESCRIPTION:
URL:https://jenkinsons.com/aquarium/event/10am-6pm-13/2024-09-22/
LOCATION:The Aquarium\, 300 Ocean Ave\, Pt. Pleasant Beach\, NJ\, 08742\, United States
CATEGORIES:Events,Hours of Operation
END:VEVENT
BEGIN:VEVENT
DTSTART;TZID=America/New_York:20240923T080000
DTEND;TZID=America/New_York:20240927T170000
DTSTAMP:20260420T172602
CREATED:20240818T203830Z
LAST-MODIFIED:20240818T203830Z
UID:17092-1727078400-1727456400@jenkinsons.com
SUMMARY:10am - 5pm
DESCRIPTION:
URL:https://jenkinsons.com/aquarium/event/10am-5pm-21/2024-09-23/
LOCATION:NJ
CATEGORIES:Events,Hours of Operation
END:VEVENT
BEGIN:VEVENT
DTSTART;VALUE=DATE:20240928
DTEND;VALUE=DATE:20240929
DTSTAMP:20260420T172602
CREATED:20240818T202424Z
LAST-MODIFIED:20240818T202424Z
UID:17081-1727481600-1727567999@jenkinsons.com
SUMMARY:10am - 6pm
DESCRIPTION:
URL:https://jenkinsons.com/aquarium/event/10am-6pm-13/2024-09-28/
LOCATION:The Aquarium\, 300 Ocean Ave\, Pt. Pleasant Beach\, NJ\, 08742\, United States
CATEGORIES:Events,Hours of Operation
END:VEVENT
END:VCALENDAR