BEGIN:VCALENDAR
VERSION:2.0
PRODID:-//Aquarium - ECPv6.15.17.1//NONSGML v1.0//EN
CALSCALE:GREGORIAN
METHOD:PUBLISH
X-ORIGINAL-URL:https://jenkinsons.com/aquarium
X-WR-CALDESC:Events for Aquarium
REFRESH-INTERVAL;VALUE=DURATION:PT1H
X-Robots-Tag:noindex
X-PUBLISHED-TTL:PT1H
BEGIN:VTIMEZONE
TZID:America/New_York
BEGIN:DAYLIGHT
TZOFFSETFROM:-0500
TZOFFSETTO:-0400
TZNAME:EDT
DTSTART:20250309T070000
END:DAYLIGHT
BEGIN:STANDARD
TZOFFSETFROM:-0400
TZOFFSETTO:-0500
TZNAME:EST
DTSTART:20251102T060000
END:STANDARD
BEGIN:DAYLIGHT
TZOFFSETFROM:-0500
TZOFFSETTO:-0400
TZNAME:EDT
DTSTART:20260308T070000
END:DAYLIGHT
BEGIN:STANDARD
TZOFFSETFROM:-0400
TZOFFSETTO:-0500
TZNAME:EST
DTSTART:20261101T060000
END:STANDARD
BEGIN:DAYLIGHT
TZOFFSETFROM:-0500
TZOFFSETTO:-0400
TZNAME:EDT
DTSTART:20270314T070000
END:DAYLIGHT
BEGIN:STANDARD
TZOFFSETFROM:-0400
TZOFFSETTO:-0500
TZNAME:EST
DTSTART:20271107T060000
END:STANDARD
END:VTIMEZONE
BEGIN:VEVENT
DTSTART;TZID=America/New_York:20260413T100000
DTEND;TZID=America/New_York:20260501T170000
DTSTAMP:20260420T210321
CREATED:20260314T173427Z
LAST-MODIFIED:20260314T173427Z
UID:20748-1776074400-1777654800@jenkinsons.com
SUMMARY:Open 10am-5pm
DESCRIPTION:
URL:https://jenkinsons.com/aquarium/event/open-10am-5pm-3/
LOCATION:The Aquarium\, 300 Ocean Ave\, Pt. Pleasant Beach\, NJ\, 08742\, United States
CATEGORIES:Events,Hours of Operation,Special Events
END:VEVENT
BEGIN:VEVENT
DTSTART;TZID=America/New_York:20260425T090000
DTEND;TZID=America/New_York:20260425T100000
DTSTAMP:20260420T210321
CREATED:20260114T014921Z
LAST-MODIFIED:20260114T014921Z
UID:20409-1777107600-1777111200@jenkinsons.com
SUMMARY:Sensory Saturday
DESCRIPTION:Guests with autism spectrum disorder\, sensory processing or cognitive challenges\, as well as guests requiring assistance for disabilities are invited to explore the aquarium before we open to the public. To create a sensory friendly environment there will be a decreased noise level\, limited visual stimulation and less crowding. \nGeneral admission applies.
URL:https://jenkinsons.com/aquarium/event/sensory-saturday-13/
LOCATION:The Aquarium\, 300 Ocean Ave\, Pt. Pleasant Beach\, NJ\, 08742\, United States
CATEGORIES:Events,Hours of Operation,Special Events
ATTACH;FMTTYPE=image/png:https://jenks-uploads.nyc3.digitaloceanspaces.com/wp-content/uploads/sites/2/2025/08/31111514/Sensory-Saturdays-Square.png
END:VEVENT
END:VCALENDAR