BEGIN:VCALENDAR
VERSION:2.0
PRODID:-//Aquarium - ECPv6.15.17.1//NONSGML v1.0//EN
CALSCALE:GREGORIAN
METHOD:PUBLISH
X-ORIGINAL-URL:https://jenkinsons.com/aquarium
X-WR-CALDESC:Events for Aquarium
REFRESH-INTERVAL;VALUE=DURATION:PT1H
X-Robots-Tag:noindex
X-PUBLISHED-TTL:PT1H
BEGIN:VTIMEZONE
TZID:America/New_York
BEGIN:DAYLIGHT
TZOFFSETFROM:-0500
TZOFFSETTO:-0400
TZNAME:EDT
DTSTART:20250309T070000
END:DAYLIGHT
BEGIN:STANDARD
TZOFFSETFROM:-0400
TZOFFSETTO:-0500
TZNAME:EST
DTSTART:20251102T060000
END:STANDARD
BEGIN:DAYLIGHT
TZOFFSETFROM:-0500
TZOFFSETTO:-0400
TZNAME:EDT
DTSTART:20260308T070000
END:DAYLIGHT
BEGIN:STANDARD
TZOFFSETFROM:-0400
TZOFFSETTO:-0500
TZNAME:EST
DTSTART:20261101T060000
END:STANDARD
BEGIN:DAYLIGHT
TZOFFSETFROM:-0500
TZOFFSETTO:-0400
TZNAME:EDT
DTSTART:20270314T070000
END:DAYLIGHT
BEGIN:STANDARD
TZOFFSETFROM:-0400
TZOFFSETTO:-0500
TZNAME:EST
DTSTART:20271107T060000
END:STANDARD
END:VTIMEZONE
BEGIN:VTIMEZONE
TZID:UTC
BEGIN:STANDARD
TZOFFSETFROM:+0000
TZOFFSETTO:+0000
TZNAME:UTC
DTSTART:20250101T000000
END:STANDARD
END:VTIMEZONE
BEGIN:VEVENT
DTSTART;TZID=America/New_York:20260101T120000
DTEND;TZID=America/New_York:20260101T170000
DTSTAMP:20260421T092223
CREATED:20251222T161428Z
LAST-MODIFIED:20251222T161429Z
UID:20238-1767268800-1767286800@jenkinsons.com
SUMMARY:OPEN 12pm-5pm
DESCRIPTION:
URL:https://jenkinsons.com/aquarium/event/open-12pm-5pm/
LOCATION:The Aquarium\, 300 Ocean Ave\, Pt. Pleasant Beach\, NJ\, 08742\, United States
CATEGORIES:Hours of Operation,Special Events
END:VEVENT
BEGIN:VEVENT
DTSTART;TZID=America/New_York:20260102T100000
DTEND;TZID=America/New_York:20260402T170000
DTSTAMP:20260421T092223
CREATED:20251222T161520Z
LAST-MODIFIED:20260314T173258Z
UID:20240-1767348000-1775149200@jenkinsons.com
SUMMARY:OPEN 10am-5pm
DESCRIPTION:
URL:https://jenkinsons.com/aquarium/event/open-10am-5pm-2/
LOCATION:The Aquarium\, 300 Ocean Ave\, Pt. Pleasant Beach\, NJ\, 08742\, United States
CATEGORIES:Hours of Operation,Special Events
END:VEVENT
BEGIN:VEVENT
DTSTART;TZID=America/New_York:20260110T120000
DTEND;TZID=America/New_York:20260110T160000
DTSTAMP:20260421T092223
CREATED:20251115T204736Z
LAST-MODIFIED:20251125T190427Z
UID:19940-1768046400-1768060800@jenkinsons.com
SUMMARY:A Rainforest Celebration
DESCRIPTION:Parrots\, a sloth\, and monkeys\, OH MY! Today we raise awareness about the importance of rainforests\, the threats they face\, and encourage action to protect them\, along with the animals that call them home! Join us for crafts\, activities\, educational displays\, and keeper chats!  \nIncluded with general admission.
URL:https://jenkinsons.com/aquarium/event/a-rainforest-celebration/
LOCATION:The Aquarium\, 300 Ocean Ave\, Pt. Pleasant Beach\, NJ\, 08742\, United States
CATEGORIES:Events,Hours of Operation,Special Events
ATTACH;FMTTYPE=image/png:https://jenks-uploads.nyc3.digitaloceanspaces.com/wp-content/uploads/sites/2/2025/11/31111400/Rainforest-Celebration-website.png
END:VEVENT
BEGIN:VEVENT
DTSTART;TZID=America/New_York:20260117T090000
DTEND;TZID=America/New_York:20260117T100000
DTSTAMP:20260421T092223
CREATED:20241118T201107Z
LAST-MODIFIED:20260109T004745Z
UID:17446-1768640400-1768644000@jenkinsons.com
SUMMARY:Penguins & Pajamas
DESCRIPTION:Waddle your way into a wonderful morning with our favorite flightless friends! Put on your favorite pair of pajamas and join us in learning all about penguins through storytelling\, a craft\, and a special Meet & Greet with one of our African penguins! Includes admission for the day. \nThis program is open to children of all ages.\n$25 Adults (12 years and up) / $25 Children (Ages 3-11) / Children 2 & Under are FREE. \nTo Register Click Here!
URL:https://jenkinsons.com/aquarium/event/penguins-pajamas/
LOCATION:The Aquarium\, 300 Ocean Ave\, Pt. Pleasant Beach\, NJ\, 08742\, United States
CATEGORIES:Educational Programs,Events,Hours of Operation
ATTACH;FMTTYPE=image/png:https://jenks-uploads.nyc3.digitaloceanspaces.com/wp-content/uploads/sites/2/2024/11/31111848/Penguins-Pajamas-not-dated.png
END:VEVENT
BEGIN:VEVENT
DTSTART;TZID=America/New_York:20260119T083000
DTEND;TZID=America/New_York:20260119T113000
DTSTAMP:20260421T092223
CREATED:20241120T024538Z
LAST-MODIFIED:20251115T200826Z
UID:17461-1768811400-1768822200@jenkinsons.com
SUMMARY:Junior Keepers (7-11 years old)
DESCRIPTION:This is a great program for those future marine biologists! Come experience the aquarium from an employee’s point of view. Learn how to provide animal care including training\, enrichment\, and feeding for a variety of animals. You’ll go behind the scenes\, meet live animals\, and talk with our care staff.\nPre-registration & sneakers are required.\nAges 7-11 years. $100 per Child. \nTo Register Click Here!
URL:https://jenkinsons.com/aquarium/event/junior-keepers-7-11-years-old-2/
LOCATION:The Aquarium\, 300 Ocean Ave\, Pt. Pleasant Beach\, NJ\, 08742\, United States
CATEGORIES:Educational Programs,Events,Hours of Operation
ATTACH;FMTTYPE=image/png:https://jenks-uploads.nyc3.digitaloceanspaces.com/wp-content/uploads/sites/2/2025/04/31111517/JuniorKeepers-Logo-2025.png
END:VEVENT
BEGIN:VEVENT
DTSTART;TZID=UTC:20260124T110000
DTEND;TZID=UTC:20260124T160000
DTSTAMP:20260421T092223
CREATED:20190112T000433Z
LAST-MODIFIED:20251125T190357Z
UID:7177-1769252400-1769270400@jenkinsons.com
SUMMARY:Penguin Awareness Day
DESCRIPTION:This is a day to celebrate the world’s penguins! Come learn about all 18 species through crafts\, activities\, and keeper chats. \nIncluded with general admission.
URL:https://jenkinsons.com/aquarium/event/penguin-awareness-day-2/
LOCATION:The Aquarium\, 300 Ocean Ave\, Pt. Pleasant Beach\, NJ\, 08742\, United States
CATEGORIES:Events,Hours of Operation,Special Events
ATTACH;FMTTYPE=image/png:https://jenks-uploads.nyc3.digitaloceanspaces.com/wp-content/uploads/sites/2/2019/01/31111400/Penguin-Awareness-Day-website.png
END:VEVENT
BEGIN:VEVENT
DTSTART;TZID=America/New_York:20260125T090000
DTEND;TZID=America/New_York:20260125T100000
DTSTAMP:20260421T092223
CREATED:20250822T012005Z
LAST-MODIFIED:20251115T202712Z
UID:18975-1769331600-1769335200@jenkinsons.com
SUMMARY:Yoga
DESCRIPTION:Enjoy an hour-long yoga class with This Is Yoga NJ surrounded by fascinating sea life\, including our playful seals\, Turbo and Noelani. A perfect way to blend relaxation with a unique aquatic experience! Includes admission for the day.\nThis program is planned as an All Levels Yoga class geared for adults\, but ages 10+ are welcome accompanied by a participating adult.\n$30 per participant. \nTo Register Click Here! \nRegistration will close January 23rd at 4pm.
URL:https://jenkinsons.com/aquarium/event/yoga-2/
LOCATION:The Aquarium\, 300 Ocean Ave\, Pt. Pleasant Beach\, NJ\, 08742\, United States
CATEGORIES:Educational Programs,Events,Hours of Operation
ATTACH;FMTTYPE=image/png:https://jenks-uploads.nyc3.digitaloceanspaces.com/wp-content/uploads/sites/2/2025/02/31111403/Yoga-Website-No-Date.png
END:VEVENT
BEGIN:VEVENT
DTSTART;TZID=America/New_York:20260131T100000
DTEND;TZID=America/New_York:20260131T140000
DTSTAMP:20260421T092223
CREATED:20251115T204856Z
LAST-MODIFIED:20251125T212957Z
UID:19942-1769853600-1769868000@jenkinsons.com
SUMMARY:Terrapin Appreciation Day
DESCRIPTION:Join us and Project Terrapin as we celebrate the amazing Northern diamondback terrapin with turtle talks\, educational displays\, crafts\, story time\, and appearances from Scutes\, the MATES terrapin mascot!  \nIncluded with general admission.
URL:https://jenkinsons.com/aquarium/event/terrapin-appreciation-day/
LOCATION:The Aquarium\, 300 Ocean Ave\, Pt. Pleasant Beach\, NJ\, 08742\, United States
CATEGORIES:Events,Hours of Operation,Special Events
ATTACH;FMTTYPE=image/png:https://jenks-uploads.nyc3.digitaloceanspaces.com/wp-content/uploads/sites/2/2025/11/31111341/Terrapin-Website.png
END:VEVENT
END:VCALENDAR