BEGIN:VCALENDAR
VERSION:2.0
PRODID:-//Aquarium - ECPv6.15.17.1//NONSGML v1.0//EN
CALSCALE:GREGORIAN
METHOD:PUBLISH
X-WR-CALNAME:Aquarium
X-ORIGINAL-URL:https://jenkinsons.com/aquarium
X-WR-CALDESC:Events for Aquarium
REFRESH-INTERVAL;VALUE=DURATION:PT1H
X-Robots-Tag:noindex
X-PUBLISHED-TTL:PT1H
BEGIN:VTIMEZONE
TZID:America/New_York
BEGIN:DAYLIGHT
TZOFFSETFROM:-0500
TZOFFSETTO:-0400
TZNAME:EDT
DTSTART:20240310T070000
END:DAYLIGHT
BEGIN:STANDARD
TZOFFSETFROM:-0400
TZOFFSETTO:-0500
TZNAME:EST
DTSTART:20241103T060000
END:STANDARD
BEGIN:DAYLIGHT
TZOFFSETFROM:-0500
TZOFFSETTO:-0400
TZNAME:EDT
DTSTART:20250309T070000
END:DAYLIGHT
BEGIN:STANDARD
TZOFFSETFROM:-0400
TZOFFSETTO:-0500
TZNAME:EST
DTSTART:20251102T060000
END:STANDARD
BEGIN:DAYLIGHT
TZOFFSETFROM:-0500
TZOFFSETTO:-0400
TZNAME:EDT
DTSTART:20260308T070000
END:DAYLIGHT
BEGIN:STANDARD
TZOFFSETFROM:-0400
TZOFFSETTO:-0500
TZNAME:EST
DTSTART:20261101T060000
END:STANDARD
END:VTIMEZONE
BEGIN:VEVENT
DTSTART;TZID=America/New_York:20251012T100000
DTEND;TZID=America/New_York:20251223T170000
DTSTAMP:20260421T134724
CREATED:20251004T154831Z
LAST-MODIFIED:20251222T161002Z
UID:19726-1760263200-1766509200@jenkinsons.com
SUMMARY:OPEN 10am - 5pm
DESCRIPTION:
URL:https://jenkinsons.com/aquarium/event/aquarium-hours-10am-5pm-2/
LOCATION:The Aquarium\, 300 Ocean Ave\, Pt. Pleasant Beach\, NJ\, 08742\, United States
CATEGORIES:Hours of Operation
END:VEVENT
BEGIN:VEVENT
DTSTART;TZID=America/New_York:20251206T120000
DTEND;TZID=America/New_York:20251206T160000
DTSTAMP:20260421T134724
CREATED:20251022T194018Z
LAST-MODIFIED:20251022T194019Z
UID:19827-1765022400-1765036800@jenkinsons.com
SUMMARY:International Monkey Day
DESCRIPTION:Join us as we celebrate these intelligent and fascinating primates. Learn about our resident monkeys as well as the threats their wild cousins face. There will be keeper chats\, crafts\, and more! \n Included with general admission.
URL:https://jenkinsons.com/aquarium/event/international-monkey-day/
LOCATION:The Aquarium\, 300 Ocean Ave\, Pt. Pleasant Beach\, NJ\, 08742\, United States
CATEGORIES:Events,Hours of Operation,Special Events
ATTACH;FMTTYPE=image/png:https://jenks-uploads.nyc3.digitaloceanspaces.com/wp-content/uploads/sites/2/2025/10/31111402/thumbnail_International-Monkey-Day-Website.png
END:VEVENT
BEGIN:VEVENT
DTSTART;TZID=America/New_York:20251213T120000
DTEND;TZID=America/New_York:20251213T170000
DTSTAMP:20260421T134724
CREATED:20251104T172123Z
LAST-MODIFIED:20251104T172305Z
UID:19865-1765627200-1765645200@jenkinsons.com
SUMMARY:Seas & Greetings
DESCRIPTION:The holidays are brighter by day! This season\, Jenkinson’s Boardwalk invites you to celebrate the magic of the season with our new daytime holiday event — Seas & Greetings! Enjoy all your favorite holiday activities with a seaside twist on December 13th\, 20th\, 27th & 28th! \nClick here for more information!
URL:https://jenkinsons.com/aquarium/event/seas-greetings/2025-12-13/
LOCATION:The Aquarium\, 300 Ocean Ave\, Pt. Pleasant Beach\, NJ\, 08742\, United States
CATEGORIES:Events,Hours of Operation,Special Events
ATTACH;FMTTYPE=image/jpeg:https://jenks-uploads.nyc3.digitaloceanspaces.com/wp-content/uploads/sites/2/2025/11/31111402/thumbnail_30352-SeasGreetings-SQ.jpg
END:VEVENT
BEGIN:VEVENT
DTSTART;TZID=America/New_York:20251220T090000
DTEND;TZID=America/New_York:20251220T100000
DTSTAMP:20260421T134724
CREATED:20250313T112452Z
LAST-MODIFIED:20251013T171524Z
UID:18228-1766221200-1766224800@jenkinsons.com
SUMMARY:Penguins & Pajamas
DESCRIPTION:Waddle your way into a wonderful morning with our favorite flightless friends! Put on your favorite pair of pajamas and join us in learning all about penguins through storytelling\, a craft\, and a special Meet & Greet with one of our African penguins! This does include all day admission. \nThis program is open to to children of all ages.\n$25 Adults (12 years and up) / $25 Children (Ages 3-11) / Children 2 & Under are FREE. \nTo Register Click Here!
URL:https://jenkinsons.com/aquarium/event/penguins-pajamas-5/
LOCATION:The Aquarium\, 300 Ocean Ave\, Pt. Pleasant Beach\, NJ\, 08742\, United States
CATEGORIES:Educational Programs,Events,Hours of Operation
ATTACH;FMTTYPE=image/png:https://jenks-uploads.nyc3.digitaloceanspaces.com/wp-content/uploads/sites/2/2024/11/31111848/Penguins-Pajamas-not-dated.png
END:VEVENT
BEGIN:VEVENT
DTSTART;TZID=America/New_York:20251220T120000
DTEND;TZID=America/New_York:20251220T170000
DTSTAMP:20260421T134724
CREATED:20251104T172123Z
LAST-MODIFIED:20251104T172306Z
UID:19868-1766232000-1766250000@jenkinsons.com
SUMMARY:Seas & Greetings
DESCRIPTION:The holidays are brighter by day! This season\, Jenkinson’s Boardwalk invites you to celebrate the magic of the season with our new daytime holiday event — Seas & Greetings! Enjoy all your favorite holiday activities with a seaside twist on December 13th\, 20th\, 27th & 28th! \nClick here for more information!
URL:https://jenkinsons.com/aquarium/event/seas-greetings/2025-12-20/
LOCATION:The Aquarium\, 300 Ocean Ave\, Pt. Pleasant Beach\, NJ\, 08742\, United States
CATEGORIES:Events,Hours of Operation,Special Events
ATTACH;FMTTYPE=image/jpeg:https://jenks-uploads.nyc3.digitaloceanspaces.com/wp-content/uploads/sites/2/2025/11/31111402/thumbnail_30352-SeasGreetings-SQ.jpg
END:VEVENT
BEGIN:VEVENT
DTSTART;TZID=America/New_York:20251224T100000
DTEND;TZID=America/New_York:20251224T140000
DTSTAMP:20260421T134724
CREATED:20251222T161150Z
LAST-MODIFIED:20251222T161150Z
UID:20232-1766570400-1766584800@jenkinsons.com
SUMMARY:OPEN 10am-2pm
DESCRIPTION:
URL:https://jenkinsons.com/aquarium/event/open-10am-2pm/
LOCATION:The Aquarium\, 300 Ocean Ave\, Pt. Pleasant Beach\, NJ\, 08742\, United States
CATEGORIES:Events,Hours of Operation
END:VEVENT
BEGIN:VEVENT
DTSTART;VALUE=DATE:20251225
DTEND;VALUE=DATE:20251226
DTSTAMP:20260421T134724
CREATED:20251222T161231Z
LAST-MODIFIED:20251222T161231Z
UID:20234-1766620800-1766707199@jenkinsons.com
SUMMARY:CLOSED
DESCRIPTION:
URL:https://jenkinsons.com/aquarium/event/closed-5/
LOCATION:The Aquarium\, 300 Ocean Ave\, Pt. Pleasant Beach\, NJ\, 08742\, United States
CATEGORIES:Events,Hours of Operation
END:VEVENT
BEGIN:VEVENT
DTSTART;TZID=America/New_York:20251226T080000
DTEND;TZID=America/New_York:20251231T170000
DTSTAMP:20260421T134724
CREATED:20251222T161334Z
LAST-MODIFIED:20251222T161334Z
UID:20236-1766736000-1767200400@jenkinsons.com
SUMMARY:OPEN 10am-5pm
DESCRIPTION:
URL:https://jenkinsons.com/aquarium/event/open-10am-5pm/
LOCATION:The Aquarium\, 300 Ocean Ave\, Pt. Pleasant Beach\, NJ\, 08742\, United States
CATEGORIES:Events,Hours of Operation
END:VEVENT
BEGIN:VEVENT
DTSTART;TZID=America/New_York:20251227T100000
DTEND;TZID=America/New_York:20251227T170000
DTSTAMP:20260421T134724
CREATED:20240818T210117Z
LAST-MODIFIED:20251119T172413Z
UID:17101-1766829600-1766854800@jenkinsons.com
SUMMARY:Diving Santa
DESCRIPTION:Dives will take place at 2pm & 3pm. \nDiving Santa is making a splash at Jenkinson’s Aquarium! This festive tradition is perfect for the whole family to enjoy. Take in all aspects of marine life with a bit of holiday cheer! \nIncluded with general admission.
URL:https://jenkinsons.com/aquarium/event/diving-santa/
LOCATION:The Aquarium\, 300 Ocean Ave\, Pt. Pleasant Beach\, NJ\, 08742\, United States
CATEGORIES:Events,Hours of Operation,Special Events
ATTACH;FMTTYPE=image/jpeg:https://jenks-uploads.nyc3.digitaloceanspaces.com/wp-content/uploads/sites/2/2024/08/31111402/Diving-Santa-Web.jpg
END:VEVENT
BEGIN:VEVENT
DTSTART;TZID=America/New_York:20251227T120000
DTEND;TZID=America/New_York:20251227T170000
DTSTAMP:20260421T134724
CREATED:20251104T172123Z
LAST-MODIFIED:20251104T172306Z
UID:19869-1766836800-1766854800@jenkinsons.com
SUMMARY:Seas & Greetings
DESCRIPTION:The holidays are brighter by day! This season\, Jenkinson’s Boardwalk invites you to celebrate the magic of the season with our new daytime holiday event — Seas & Greetings! Enjoy all your favorite holiday activities with a seaside twist on December 13th\, 20th\, 27th & 28th! \nClick here for more information!
URL:https://jenkinsons.com/aquarium/event/seas-greetings/2025-12-27/
LOCATION:The Aquarium\, 300 Ocean Ave\, Pt. Pleasant Beach\, NJ\, 08742\, United States
CATEGORIES:Events,Hours of Operation,Special Events
ATTACH;FMTTYPE=image/jpeg:https://jenks-uploads.nyc3.digitaloceanspaces.com/wp-content/uploads/sites/2/2025/11/31111402/thumbnail_30352-SeasGreetings-SQ.jpg
END:VEVENT
BEGIN:VEVENT
DTSTART;TZID=America/New_York:20251228T083000
DTEND;TZID=America/New_York:20251228T113000
DTSTAMP:20260421T134724
CREATED:20251013T164741Z
LAST-MODIFIED:20251013T164741Z
UID:19778-1766910600-1766921400@jenkinsons.com
SUMMARY:Junior Keepers (7-11 years old)
DESCRIPTION:This is a great program for those future marine biologists! Come experience the aquarium from an employee’s point of view. Learn how to provide animal care including training\, enrichment\, and feeding for a variety of animals. You’ll go behind the scenes\, meet live animals\, and talk with our care staff.\nPre-registration & sneakers are required.\nAges 7-11 years. $100 per Child. \nTo Register Click Here!
URL:https://jenkinsons.com/aquarium/event/junior-keepers-7-11-years-old-8/
LOCATION:The Aquarium\, 300 Ocean Ave\, Pt. Pleasant Beach\, NJ\, 08742\, United States
CATEGORIES:Educational Programs,Events,Hours of Operation
ATTACH;FMTTYPE=image/png:https://jenks-uploads.nyc3.digitaloceanspaces.com/wp-content/uploads/sites/2/2025/04/31111517/JuniorKeepers-Logo-2025.png
END:VEVENT
BEGIN:VEVENT
DTSTART;TZID=America/New_York:20251228T100000
DTEND;TZID=America/New_York:20251228T170000
DTSTAMP:20260421T134724
CREATED:20251119T172336Z
LAST-MODIFIED:20251119T172336Z
UID:19962-1766916000-1766941200@jenkinsons.com
SUMMARY:Diving Santa
DESCRIPTION:Dives will take place at 2pm & 3pm. \nDiving Santa is making a splash at Jenkinson’s Aquarium! This festive tradition is perfect for the whole family to enjoy. Take in all aspects of marine life with a bit of holiday cheer! \nIncluded with general admission.
URL:https://jenkinsons.com/aquarium/event/diving-santa-2/
LOCATION:The Aquarium\, 300 Ocean Ave\, Pt. Pleasant Beach\, NJ\, 08742\, United States
CATEGORIES:Events,Hours of Operation,Special Events
ATTACH;FMTTYPE=image/jpeg:https://jenks-uploads.nyc3.digitaloceanspaces.com/wp-content/uploads/sites/2/2024/08/31111402/Diving-Santa-Web.jpg
END:VEVENT
BEGIN:VEVENT
DTSTART;TZID=America/New_York:20251228T120000
DTEND;TZID=America/New_York:20251228T170000
DTSTAMP:20260421T134724
CREATED:20251104T172123Z
LAST-MODIFIED:20251104T172306Z
UID:19870-1766923200-1766941200@jenkinsons.com
SUMMARY:Seas & Greetings
DESCRIPTION:The holidays are brighter by day! This season\, Jenkinson’s Boardwalk invites you to celebrate the magic of the season with our new daytime holiday event — Seas & Greetings! Enjoy all your favorite holiday activities with a seaside twist on December 13th\, 20th\, 27th & 28th! \nClick here for more information!
URL:https://jenkinsons.com/aquarium/event/seas-greetings/2025-12-28/
LOCATION:The Aquarium\, 300 Ocean Ave\, Pt. Pleasant Beach\, NJ\, 08742\, United States
CATEGORIES:Events,Hours of Operation,Special Events
ATTACH;FMTTYPE=image/jpeg:https://jenks-uploads.nyc3.digitaloceanspaces.com/wp-content/uploads/sites/2/2025/11/31111402/thumbnail_30352-SeasGreetings-SQ.jpg
END:VEVENT
BEGIN:VEVENT
DTSTART;TZID=America/New_York:20251229T083000
DTEND;TZID=America/New_York:20251229T113000
DTSTAMP:20260421T134724
CREATED:20251013T170238Z
LAST-MODIFIED:20251013T170238Z
UID:19782-1766997000-1767007800@jenkinsons.com
SUMMARY:Junior Keepers (11-15 years old)
DESCRIPTION:This is a great program for those future marine biologists! Come experience the aquarium from an employee’s point of view. Learn how to provide animal care including training\, enrichment\, and feeding for a variety of animals. You’ll go behind the scenes\, meet live animals\, and talk with our care staff.\nPre-registration & sneakers are required.\nAges 11-15 years. $100 per Child. \nTo Register Click Here!
URL:https://jenkinsons.com/aquarium/event/junior-keepers-11-15-years-old-4/
LOCATION:The Aquarium\, 300 Ocean Ave\, Pt. Pleasant Beach\, NJ\, 08742\, United States
CATEGORIES:Educational Programs,Events,Hours of Operation
ATTACH;FMTTYPE=image/png:https://jenks-uploads.nyc3.digitaloceanspaces.com/wp-content/uploads/sites/2/2025/04/31111517/JuniorKeepers-Logo-2025.png
END:VEVENT
BEGIN:VEVENT
DTSTART;TZID=America/New_York:20251231T120000
DTEND;TZID=America/New_York:20251231T160000
DTSTAMP:20260421T134724
CREATED:20241118T151051Z
LAST-MODIFIED:20251110T151015Z
UID:17396-1767182400-1767196800@jenkinsons.com
SUMMARY:Noon Years Eve
DESCRIPTION:Celebrate the New Year with us! Enjoy entertainment such as Mermaids\, Animal Shows\, Mini Princess Palooza & more from 12pm-4pm. All event info can be found here!  \n(Aquarium events are included in general admission)
URL:https://jenkinsons.com/aquarium/event/noon-years-eve/
LOCATION:The Aquarium\, 300 Ocean Ave\, Pt. Pleasant Beach\, NJ\, 08742\, United States
CATEGORIES:Events,Hours of Operation,Special Events
ATTACH;FMTTYPE=image/jpeg:https://jenks-uploads.nyc3.digitaloceanspaces.com/wp-content/uploads/sites/2/2024/08/31111849/27870-NYE-FB.jpg
END:VEVENT
END:VCALENDAR