BEGIN:VCALENDAR
VERSION:2.0
PRODID:-//Aquarium - ECPv6.15.17.1//NONSGML v1.0//EN
CALSCALE:GREGORIAN
METHOD:PUBLISH
X-WR-CALNAME:Aquarium
X-ORIGINAL-URL:https://jenkinsons.com/aquarium
X-WR-CALDESC:Events for Aquarium
REFRESH-INTERVAL;VALUE=DURATION:PT1H
X-Robots-Tag:noindex
X-PUBLISHED-TTL:PT1H
BEGIN:VTIMEZONE
TZID:America/New_York
BEGIN:DAYLIGHT
TZOFFSETFROM:-0500
TZOFFSETTO:-0400
TZNAME:EDT
DTSTART:20230312T070000
END:DAYLIGHT
BEGIN:STANDARD
TZOFFSETFROM:-0400
TZOFFSETTO:-0500
TZNAME:EST
DTSTART:20231105T060000
END:STANDARD
BEGIN:DAYLIGHT
TZOFFSETFROM:-0500
TZOFFSETTO:-0400
TZNAME:EDT
DTSTART:20240310T070000
END:DAYLIGHT
BEGIN:STANDARD
TZOFFSETFROM:-0400
TZOFFSETTO:-0500
TZNAME:EST
DTSTART:20241103T060000
END:STANDARD
BEGIN:DAYLIGHT
TZOFFSETFROM:-0500
TZOFFSETTO:-0400
TZNAME:EDT
DTSTART:20250309T070000
END:DAYLIGHT
BEGIN:STANDARD
TZOFFSETFROM:-0400
TZOFFSETTO:-0500
TZNAME:EST
DTSTART:20251102T060000
END:STANDARD
END:VTIMEZONE
BEGIN:VEVENT
DTSTART;VALUE=DATE:20240501
DTEND;VALUE=DATE:20240502
DTSTAMP:20260420T070556
CREATED:20240502T155041Z
LAST-MODIFIED:20240608T235324Z
UID:16092-1714521600-1714607999@jenkinsons.com
SUMMARY:10am - 5pm
DESCRIPTION:
URL:https://jenkinsons.com/aquarium/event/10am-5pm-20/2024-05-01/
LOCATION:NJ
CATEGORIES:Events,Hours of Operation
END:VEVENT
BEGIN:VEVENT
DTSTART;VALUE=DATE:20240504
DTEND;VALUE=DATE:20240505
DTSTAMP:20260420T070556
CREATED:20240502T160428Z
LAST-MODIFIED:20240608T234641Z
UID:16185-1714780800-1714867199@jenkinsons.com
SUMMARY:10am - 6pm
DESCRIPTION:
URL:https://jenkinsons.com/aquarium/event/10am-6pm-12/2024-05-04/
LOCATION:NJ
CATEGORIES:Events,Hours of Operation
END:VEVENT
BEGIN:VEVENT
DTSTART;TZID=America/New_York:20240504T120000
DTEND;TZID=America/New_York:20240504T160000
DTSTAMP:20260420T070556
CREATED:20240403T142057Z
LAST-MODIFIED:20240403T145702Z
UID:15839-1714824000-1714838400@jenkinsons.com
SUMMARY:Horseshoe Crab Celebration
DESCRIPTION:Come learn about an unusual sea creature known as the horseshoe crab. The Delaware Bay shorelines are the site of the largest horseshoe crab spawning in the world. Each year\, horseshoe crabs come ashore by the thousands to spawn on the sandy beaches during the full and new moons in May and June. Make a craft\, meet live horseshoe crabs and learn what makes them so special.  \nIncluded with general admission.
URL:https://jenkinsons.com/aquarium/event/horseshoe-crab-celebration-3/
LOCATION:NJ
CATEGORIES:Educational Programs,Events,Hours of Operation
ATTACH;FMTTYPE=image/jpeg:https://jenks-uploads.nyc3.digitaloceanspaces.com/wp-content/uploads/sites/2/2024/04/31112005/HSC-e1712156169866.jpeg
END:VEVENT
BEGIN:VEVENT
DTSTART;VALUE=DATE:20240505
DTEND;VALUE=DATE:20240506
DTSTAMP:20260420T070556
CREATED:20240502T160428Z
LAST-MODIFIED:20240608T234643Z
UID:16197-1714867200-1714953599@jenkinsons.com
SUMMARY:10am - 6pm
DESCRIPTION:
URL:https://jenkinsons.com/aquarium/event/10am-6pm-12/2024-05-05/
LOCATION:NJ
CATEGORIES:Events,Hours of Operation
END:VEVENT
BEGIN:VEVENT
DTSTART;VALUE=DATE:20240511
DTEND;VALUE=DATE:20240512
DTSTAMP:20260420T070556
CREATED:20240502T160519Z
LAST-MODIFIED:20240502T190939Z
UID:16187-1715385600-1715471999@jenkinsons.com
SUMMARY:10am - 7pm
DESCRIPTION:
URL:https://jenkinsons.com/aquarium/event/10am-7pm-9/2024-05-11/
LOCATION:NJ
CATEGORIES:Events,Hours of Operation
END:VEVENT
BEGIN:VEVENT
DTSTART;TZID=America/New_York:20240511T083000
DTEND;TZID=America/New_York:20240511T093000
DTSTAMP:20260420T070556
CREATED:20240409T154034Z
LAST-MODIFIED:20240409T154034Z
UID:15938-1715416200-1715419800@jenkinsons.com
SUMMARY:Sensory Saturday
DESCRIPTION:Families affected by autism spectrum disorder\, sensory processing or cognitive challenges\, as well as guests requiring assistance for disabilities are invited to explore the aquarium before we open to the public. To create a sensory friendly environment there will be a decreased noise level\, limited visual stimulation and less crowding. \nGeneral admission applies.
URL:https://jenkinsons.com/aquarium/event/sensory-saturday-4/
LOCATION:NJ
CATEGORIES:Educational Programs,Events,Hours of Operation
ATTACH;FMTTYPE=image/jpeg:https://jenks-uploads.nyc3.digitaloceanspaces.com/wp-content/uploads/sites/2/2024/02/31112045/ray.jpg
END:VEVENT
BEGIN:VEVENT
DTSTART;TZID=America/New_York:20240511T093000
DTEND;TZID=America/New_York:20240511T103000
DTSTAMP:20260420T070556
CREATED:20240407T205022Z
LAST-MODIFIED:20240409T172641Z
UID:15898-1715419800-1715423400@jenkinsons.com
SUMMARY:Behind the Scenes Tour
DESCRIPTION:Discover what goes on behind the scenes at our aquarium!\nPre-registration & sneakers are required.\nAges 5 and up only. $30 Adults (12 years and up) / $20 Children (Ages 5-11).\nIncludes aquarium admission for the day. \nTo Register Click Here!
URL:https://jenkinsons.com/aquarium/event/behind-the-scenes-tour-9/
LOCATION:NJ
CATEGORIES:Educational Programs,Events,Hours of Operation
ATTACH;FMTTYPE=image/jpeg:https://jenks-uploads.nyc3.digitaloceanspaces.com/wp-content/uploads/sites/2/2024/02/31112045/shark-jaw.jpg
END:VEVENT
BEGIN:VEVENT
DTSTART;VALUE=DATE:20240512
DTEND;VALUE=DATE:20240513
DTSTAMP:20260420T070556
CREATED:20240502T160428Z
LAST-MODIFIED:20240608T234643Z
UID:16198-1715472000-1715558399@jenkinsons.com
SUMMARY:10am - 6pm
DESCRIPTION:
URL:https://jenkinsons.com/aquarium/event/10am-6pm-12/2024-05-12/
LOCATION:NJ
CATEGORIES:Events,Hours of Operation
END:VEVENT
BEGIN:VEVENT
DTSTART;VALUE=DATE:20240518
DTEND;VALUE=DATE:20240519
DTSTAMP:20260420T070556
CREATED:20240502T160735Z
LAST-MODIFIED:20240502T160735Z
UID:16189-1715990400-1716076799@jenkinsons.com
SUMMARY:10am - 8pm
DESCRIPTION:
URL:https://jenkinsons.com/aquarium/event/10am-8pm-12/2024-05-18/
LOCATION:NJ
CATEGORIES:Events,Hours of Operation
END:VEVENT
BEGIN:VEVENT
DTSTART;TZID=America/New_York:20240518T080000
DTEND;TZID=America/New_York:20240518T110000
DTSTAMP:20260420T070556
CREATED:20240404T145759Z
LAST-MODIFIED:20240404T164037Z
UID:15858-1716019200-1716030000@jenkinsons.com
SUMMARY:Junior Keepers
DESCRIPTION:This is a great program for those future marine biologists! Come experience the aquarium from an employee’s point of view. Learn how to provide animal care including training\, enrichment\, and feeding for a variety of animals. You’ll go behind the scenes\, meet live animals\, and talk with our care staff.\nPre-registration & sneakers are required.\nAges 7-11 years. $100 per Child. \nTo Register Click Here!
URL:https://jenkinsons.com/aquarium/event/junior-keepers-7/
LOCATION:NJ
CATEGORIES:Educational Programs,Events,Hours of Operation
ATTACH;FMTTYPE=image/jpeg:https://jenks-uploads.nyc3.digitaloceanspaces.com/wp-content/uploads/sites/2/2024/02/31112134/junior-keepers.jpg
END:VEVENT
BEGIN:VEVENT
DTSTART;VALUE=DATE:20240519
DTEND;VALUE=DATE:20240520
DTSTAMP:20260420T070556
CREATED:20240502T160428Z
LAST-MODIFIED:20240608T234643Z
UID:16199-1716076800-1716163199@jenkinsons.com
SUMMARY:10am - 6pm
DESCRIPTION:
URL:https://jenkinsons.com/aquarium/event/10am-6pm-12/2024-05-19/
LOCATION:NJ
CATEGORIES:Events,Hours of Operation
END:VEVENT
BEGIN:VEVENT
DTSTART;TZID=America/New_York:20240519T093000
DTEND;TZID=America/New_York:20240519T103000
DTSTAMP:20260420T070556
CREATED:20240407T205716Z
LAST-MODIFIED:20240409T172802Z
UID:15900-1716111000-1716114600@jenkinsons.com
SUMMARY:Behind the Scenes Tour
DESCRIPTION:Discover what goes on behind the scenes at our aquarium!\nPre-registration & sneakers are required.\nAges 5 and up only. $30 Adults (12 years and up) / $20 Children (Ages 5-11).\nIncludes aquarium admission for the day. \nTo Register Click Here!
URL:https://jenkinsons.com/aquarium/event/behind-the-scenes-tour-10/
LOCATION:NJ
CATEGORIES:Educational Programs,Events,Hours of Operation
ATTACH;FMTTYPE=image/jpeg:https://jenks-uploads.nyc3.digitaloceanspaces.com/wp-content/uploads/sites/2/2024/02/31112045/shark-jaw.jpg
END:VEVENT
BEGIN:VEVENT
DTSTART;VALUE=DATE:20240524
DTEND;VALUE=DATE:20240525
DTSTAMP:20260420T070556
CREATED:20240502T161454Z
LAST-MODIFIED:20240502T161454Z
UID:16206-1716508800-1716595199@jenkinsons.com
SUMMARY:10am - 10pm
DESCRIPTION:
URL:https://jenkinsons.com/aquarium/event/10am-10pm-8/2024-05-24/
LOCATION:NJ
CATEGORIES:Events,Hours of Operation
END:VEVENT
BEGIN:VEVENT
DTSTART;VALUE=DATE:20240525
DTEND;VALUE=DATE:20240526
DTSTAMP:20260420T070556
CREATED:20240502T161454Z
LAST-MODIFIED:20240502T161454Z
UID:16207-1716595200-1716681599@jenkinsons.com
SUMMARY:10am - 10pm
DESCRIPTION:
URL:https://jenkinsons.com/aquarium/event/10am-10pm-8/2024-05-25/
LOCATION:NJ
CATEGORIES:Events,Hours of Operation
END:VEVENT
BEGIN:VEVENT
DTSTART;VALUE=DATE:20240526
DTEND;VALUE=DATE:20240527
DTSTAMP:20260420T070556
CREATED:20240502T161454Z
LAST-MODIFIED:20240502T161454Z
UID:16208-1716681600-1716767999@jenkinsons.com
SUMMARY:10am - 10pm
DESCRIPTION:
URL:https://jenkinsons.com/aquarium/event/10am-10pm-8/2024-05-26/
LOCATION:NJ
CATEGORIES:Events,Hours of Operation
END:VEVENT
BEGIN:VEVENT
DTSTART;VALUE=DATE:20240527
DTEND;VALUE=DATE:20240528
DTSTAMP:20260420T070556
CREATED:20240502T160735Z
LAST-MODIFIED:20240502T160735Z
UID:16190-1716768000-1716854399@jenkinsons.com
SUMMARY:10am - 8pm
DESCRIPTION:
URL:https://jenkinsons.com/aquarium/event/10am-8pm-12/2024-05-27/
LOCATION:NJ
CATEGORIES:Events,Hours of Operation
END:VEVENT
BEGIN:VEVENT
DTSTART;TZID=America/New_York:20240531T150000
DTEND;TZID=America/New_York:20240531T170000
DTSTAMP:20260420T070556
CREATED:20240407T195157Z
LAST-MODIFIED:20240514T120222Z
UID:15888-1717167600-1717174800@jenkinsons.com
SUMMARY:World Parrot Day
DESCRIPTION:Drop in anytime between 3-5pm and join us in making a parrot themed craft to celebrate World Parrot Day!\nIncluded with general admission.
URL:https://jenkinsons.com/aquarium/event/world-parrot-day/
LOCATION:NJ
CATEGORIES:Educational Programs,Events,Hours of Operation
ATTACH;FMTTYPE=image/jpeg:https://jenks-uploads.nyc3.digitaloceanspaces.com/wp-content/uploads/sites/2/2024/04/31112004/blueandgold-e1712521008249.jpg
END:VEVENT
END:VCALENDAR