BEGIN:VCALENDAR
VERSION:2.0
PRODID:-//Aquarium - ECPv6.15.17.1//NONSGML v1.0//EN
CALSCALE:GREGORIAN
METHOD:PUBLISH
X-WR-CALNAME:Aquarium
X-ORIGINAL-URL:https://jenkinsons.com/aquarium
X-WR-CALDESC:Events for Aquarium
REFRESH-INTERVAL;VALUE=DURATION:PT1H
X-Robots-Tag:noindex
X-PUBLISHED-TTL:PT1H
BEGIN:VTIMEZONE
TZID:America/New_York
BEGIN:DAYLIGHT
TZOFFSETFROM:-0500
TZOFFSETTO:-0400
TZNAME:EDT
DTSTART:20240310T070000
END:DAYLIGHT
BEGIN:STANDARD
TZOFFSETFROM:-0400
TZOFFSETTO:-0500
TZNAME:EST
DTSTART:20241103T060000
END:STANDARD
BEGIN:DAYLIGHT
TZOFFSETFROM:-0500
TZOFFSETTO:-0400
TZNAME:EDT
DTSTART:20250309T070000
END:DAYLIGHT
BEGIN:STANDARD
TZOFFSETFROM:-0400
TZOFFSETTO:-0500
TZNAME:EST
DTSTART:20251102T060000
END:STANDARD
BEGIN:DAYLIGHT
TZOFFSETFROM:-0500
TZOFFSETTO:-0400
TZNAME:EDT
DTSTART:20260308T070000
END:DAYLIGHT
BEGIN:STANDARD
TZOFFSETFROM:-0400
TZOFFSETTO:-0500
TZNAME:EST
DTSTART:20261101T060000
END:STANDARD
END:VTIMEZONE
BEGIN:VEVENT
DTSTART;TZID=America/New_York:20250721T083000
DTEND;TZID=America/New_York:20250721T113000
DTSTAMP:20260421T134723
CREATED:20250408T035401Z
LAST-MODIFIED:20250408T035401Z
UID:18483-1753086600-1753097400@jenkinsons.com
SUMMARY:Feeding the Fins
DESCRIPTION:Come learn the ins and outs of what it’s like to be a daily feeder at the aquarium from an employee’s point of view! Talk to some of our very own feeders on staff\, learn the different types of food we provide\, as well as the techniques we use for preparation\, where food is kept & so much more!\nPre-registration & sneakers are required.\nAges 9-12 years old. $150 per child. \nTo Register Click Here!
URL:https://jenkinsons.com/aquarium/event/feeding-the-fins/
LOCATION:The Aquarium\, 300 Ocean Ave\, Pt. Pleasant Beach\, NJ\, 08742\, United States
CATEGORIES:Educational Programs,Events,Hours of Operation
ATTACH;FMTTYPE=image/jpeg:https://jenks-uploads.nyc3.digitaloceanspaces.com/wp-content/uploads/sites/2/2025/04/31111605/Feeding-the-Fins.jpg
END:VEVENT
END:VCALENDAR