BEGIN:VCALENDAR
VERSION:2.0
PRODID:-//Aquarium - ECPv6.15.17.1//NONSGML v1.0//EN
CALSCALE:GREGORIAN
METHOD:PUBLISH
X-ORIGINAL-URL:https://jenkinsons.com/aquarium
X-WR-CALDESC:Events for Aquarium
REFRESH-INTERVAL;VALUE=DURATION:PT1H
X-Robots-Tag:noindex
X-PUBLISHED-TTL:PT1H
BEGIN:VTIMEZONE
TZID:America/New_York
BEGIN:DAYLIGHT
TZOFFSETFROM:-0500
TZOFFSETTO:-0400
TZNAME:EDT
DTSTART:20230312T070000
END:DAYLIGHT
BEGIN:STANDARD
TZOFFSETFROM:-0400
TZOFFSETTO:-0500
TZNAME:EST
DTSTART:20231105T060000
END:STANDARD
BEGIN:DAYLIGHT
TZOFFSETFROM:-0500
TZOFFSETTO:-0400
TZNAME:EDT
DTSTART:20240310T070000
END:DAYLIGHT
BEGIN:STANDARD
TZOFFSETFROM:-0400
TZOFFSETTO:-0500
TZNAME:EST
DTSTART:20241103T060000
END:STANDARD
BEGIN:DAYLIGHT
TZOFFSETFROM:-0500
TZOFFSETTO:-0400
TZNAME:EDT
DTSTART:20250309T070000
END:DAYLIGHT
BEGIN:STANDARD
TZOFFSETFROM:-0400
TZOFFSETTO:-0500
TZNAME:EST
DTSTART:20251102T060000
END:STANDARD
END:VTIMEZONE
BEGIN:VEVENT
DTSTART;TZID=America/New_York:20240615T083000
DTEND;TZID=America/New_York:20240615T093000
DTSTAMP:20260419T102831
CREATED:20240409T153136Z
LAST-MODIFIED:20240523T195105Z
UID:15933-1718440200-1718443800@jenkinsons.com
SUMMARY:Sensory Saturday
DESCRIPTION:Guests with autism spectrum disorder\, sensory processing or cognitive challenges\, as well as guests requiring assistance for disabilities are invited to explore the aquarium before we open to the public. To create a sensory friendly environment there will be a decreased noise level\, limited visual stimulation and less crowding. \nGeneral admission applies.
URL:https://jenkinsons.com/aquarium/event/sensory-saturday-3/
LOCATION:NJ
CATEGORIES:Educational Programs,Events,Hours of Operation
ATTACH;FMTTYPE=image/jpeg:https://jenks-uploads.nyc3.digitaloceanspaces.com/wp-content/uploads/sites/2/2024/02/31112045/ray.jpg
END:VEVENT
END:VCALENDAR