BEGIN:VCALENDAR
VERSION:2.0
PRODID:-//Aquarium - ECPv6.15.17.1//NONSGML v1.0//EN
CALSCALE:GREGORIAN
METHOD:PUBLISH
X-ORIGINAL-URL:https://jenkinsons.com/aquarium
X-WR-CALDESC:Events for Aquarium
REFRESH-INTERVAL;VALUE=DURATION:PT1H
X-Robots-Tag:noindex
X-PUBLISHED-TTL:PT1H
BEGIN:VTIMEZONE
TZID:UTC
BEGIN:STANDARD
TZOFFSETFROM:+0000
TZOFFSETTO:+0000
TZNAME:UTC
DTSTART:20210101T000000
END:STANDARD
END:VTIMEZONE
BEGIN:VEVENT
DTSTART;TZID=UTC:20220629T173000
DTEND;TZID=UTC:20220629T190000
DTSTAMP:20260420T203440
CREATED:20220601T154414Z
LAST-MODIFIED:20220601T155341Z
UID:11402-1656523800-1656529200@jenkinsons.com
SUMMARY:Magical Mermaids
DESCRIPTION:Experience the wonder of Magical Mermaids every Wednesday at Jenkinson’s Aquarium starting June 29th! Watch a mermaid swim in our underwater world at 5:30pm & 6:30pm.\n*Included with aquarium admission.
URL:https://jenkinsons.com/aquarium/event/magical-mermaids/2022-06-29/
LOCATION:NJ
CATEGORIES:Events
ATTACH;FMTTYPE=image/jpeg:https://jenks-uploads.nyc3.digitaloceanspaces.com/wp-content/uploads/sites/2/2022/06/31112255/21373-MagicalMermaids-FB.jpg
END:VEVENT
BEGIN:VEVENT
DTSTART;TZID=UTC:20220629T173000
DTEND;TZID=UTC:20220629T190000
DTSTAMP:20260420T203440
CREATED:20220601T154414Z
LAST-MODIFIED:20220601T154414Z
UID:14311-1656523800-1656529200@jenkinsons.com
SUMMARY:Magical Mermaids
DESCRIPTION:Experience the wonder of Magical Mermaids every Wednesday at Jenkinson’s Aquarium starting June 29th! Watch a mermaid swim in our underwater world at 5:30pm & 6:30pm.\n*Included with aquarium admission.
URL:https://jenkinsons.com/aquarium/event/magical-mermaids-2/2022-06-29/
LOCATION:NJ
CATEGORIES:Events
ATTACH;FMTTYPE=image/jpeg:https://jenks-uploads.nyc3.digitaloceanspaces.com/wp-content/uploads/sites/2/2022/06/31112255/21373-MagicalMermaids-FB.jpg
END:VEVENT
END:VCALENDAR