BEGIN:VCALENDAR
VERSION:2.0
PRODID:-//Aquarium - ECPv6.15.17.1//NONSGML v1.0//EN
CALSCALE:GREGORIAN
METHOD:PUBLISH
X-ORIGINAL-URL:https://jenkinsons.com/aquarium
X-WR-CALDESC:Events for Aquarium
REFRESH-INTERVAL;VALUE=DURATION:PT1H
X-Robots-Tag:noindex
X-PUBLISHED-TTL:PT1H
BEGIN:VTIMEZONE
TZID:UTC
BEGIN:STANDARD
TZOFFSETFROM:+0000
TZOFFSETTO:+0000
TZNAME:UTC
DTSTART:20210101T000000
END:STANDARD
END:VTIMEZONE
BEGIN:VEVENT
DTSTART;TZID=UTC:20220610T100000
DTEND;TZID=UTC:20220610T210000
DTSTAMP:20260421T202240
CREATED:20220505T142103Z
LAST-MODIFIED:20220505T142103Z
UID:14229-1654855200-1654894800@jenkinsons.com
SUMMARY:10am-9pm
DESCRIPTION:
URL:https://jenkinsons.com/aquarium/event/10am-9pm-2-2/2022-06-10/
LOCATION:NJ
CATEGORIES:Hours of Operation
END:VEVENT
BEGIN:VEVENT
DTSTART;TZID=UTC:20220610T100000
DTEND;TZID=UTC:20220610T210000
DTSTAMP:20260421T202240
CREATED:20220505T142103Z
LAST-MODIFIED:20220505T142108Z
UID:11178-1654855200-1654894800@jenkinsons.com
SUMMARY:10am-9pm
DESCRIPTION:
URL:https://jenkinsons.com/aquarium/event/10am-9pm-2/2022-06-10/
LOCATION:NJ
CATEGORIES:Hours of Operation
END:VEVENT
END:VCALENDAR