BEGIN:VCALENDAR
VERSION:2.0
PRODID:-//Aquarium - ECPv6.15.17.1//NONSGML v1.0//EN
CALSCALE:GREGORIAN
METHOD:PUBLISH
X-ORIGINAL-URL:https://jenkinsons.com/aquarium
X-WR-CALDESC:Events for Aquarium
REFRESH-INTERVAL;VALUE=DURATION:PT1H
X-Robots-Tag:noindex
X-PUBLISHED-TTL:PT1H
BEGIN:VTIMEZONE
TZID:UTC
BEGIN:STANDARD
TZOFFSETFROM:+0000
TZOFFSETTO:+0000
TZNAME:UTC
DTSTART:20210101T000000
END:STANDARD
END:VTIMEZONE
BEGIN:VEVENT
DTSTART;TZID=UTC:20220521T100000
DTEND;TZID=UTC:20220521T200000
DTSTAMP:20260424T112108
CREATED:20220505T140812Z
LAST-MODIFIED:20220505T141547Z
UID:11157-1653127200-1653163200@jenkinsons.com
SUMMARY:10am-8pm
DESCRIPTION: 
URL:https://jenkinsons.com/aquarium/event/10am-8pm-5/2022-05-21/
LOCATION:NJ
CATEGORIES:Hours of Operation
END:VEVENT
BEGIN:VEVENT
DTSTART;TZID=UTC:20220521T100000
DTEND;TZID=UTC:20220521T200000
DTSTAMP:20260424T112108
CREATED:20220505T140812Z
LAST-MODIFIED:20220505T140812Z
UID:14212-1653127200-1653163200@jenkinsons.com
SUMMARY:10am-8pm
DESCRIPTION: 
URL:https://jenkinsons.com/aquarium/event/10am-8pm-5-2/2022-05-21/
LOCATION:NJ
CATEGORIES:Hours of Operation
END:VEVENT
END:VCALENDAR